{"text_format":"1","workbook":"xlsx","n_sheets":27,"sheets":["Menu","Indicadores - Resíduos","Base de Dados - Resíduos","Gráficos - Resíduos","Indicadores - Água e esgoto","AE","Base de Dados - Água e esgoto","Gráficos - Água e esgoto","Indicadores - Drenagem","RE","ID","Base de Dados - Drenagem","Gráficos - Drenagem","Indicadores - Social","SO","Base de Dados - Social","Gráficos - Social","Metas Institucional","Metas SAA","Metas SES","Metas RS","Metas AP","Indicador Execução PMSB","Indicador Custo PMSB","Indicador efetividade PMSB","Sistemática acompanhamento","Inf."],"not_rendered":{"charts":200,"images":8,"macros":1,"external_links":1,"defined_names":0,"comments":0,"pivot_tables":0},"unopened":[],"bounds":{"document_bytes":16777216,"sheet_cells":100000,"rows_first":2000,"rows_last":500,"rows_between":2000,"halvings":0,"cell_chars":16384,"cell_head_chars":4096},"cells_cut":0,"cells_raw":0,"read":"whole","date_system":"1900"}

{"sheet":"Menu","index":0,"n_rows":0,"n_cols":0,"rows_kept":0,"cut":false,"hidden":false,"merged":[]}

{"sheet":"Indicadores - Resíduos","index":1,"n_rows":74,"n_cols":9,"rows_kept":74,"cut":false,"hidden":false,"merged":[[2,0,3,0],[2,2,3,2],[2,3,3,3],[2,1,3,1]]}
["INÍCIO PERÍODO"]
[2019]
["Indicador","Código do SNIS","Frequência de atualização","Expresso em",{"$f":"A2","v":2019},{"$f":"E3+1","v":2020},{"$f":"F3+1","v":2021},{"$f":"G3+1","v":2022},{"$f":"H3+1","v":2023}]
[null,null,null,null,"Anual","Anual","Anual","Anual","Anual"]
["Frequência da coleta domiciliar",null,"Anual","dias/semana",{"$f":"IFERROR(RE!H3,\"\")","v":"3 vezes e 6 vezes"},{"$f":"IFERROR(RE!I3,\"\")","v":0},{"$f":"IFERROR(RE!J3,\"\")","v":0},{"$f":"IFERROR(RE!K3,\"\")","v":0},{"$f":"IFERROR(RE!L3,\"\")","v":0}]
["Taxa de cobertura da coleta domiciliar na área urbana","IN016","Anual","%",{"$f":"IFERROR((RE!H4*100)/RE!H5,\"\")","v":100},{"$f":"IFERROR((RE!I4*100)/RE!I5,\"\")","v":""},{"$f":"IFERROR((RE!J4*100)/RE!J5,\"\")","v":""},{"$f":"IFERROR((RE!K4*100)/RE!K5,\"\")","v":""},{"$f":"IFERROR((RE!L4*100)/RE!L5,\"\")","v":""}]
["Taxa de cobertura da coleta domiciliar na área rural",null,"Anual","%",{"$f":"IFERROR((RE!H6*100)/RE!H7,\"\")","v":83.826879271070609},{"$f":"IFERROR((RE!I6*100)/RE!I7,\"\")","v":""},{"$f":"IFERROR((RE!J6*100)/RE!J7,\"\")","v":""},{"$f":"IFERROR((RE!K6*100)/RE!K7,\"\")","v":""},{"$f":"IFERROR((RE!L6*100)/RE!L7,\"\")","v":""}]
["Taxa de cobertura da coleta domiciliar no município","IN015","Semestral","%"]
["Massa de RSU coletada",null,"Mensal","tonelada/mês "]
["Massa coletada per capita","IN022","Anual","Kg / (habitantes/dia)",{"$f":"IFERROR(((RE!H15*1000)/365)/RE!H13,\"\")","v":0},{"$f":"IFERROR(((RE!I15*1000)/365)/RE!I13,\"\")","v":""},{"$f":"IFERROR(((RE!J15*1000)/365)/RE!J13,\"\")","v":""},{"$f":"IFERROR(((RE!K15*1000)/365)/RE!K13,\"\")","v":""},{"$f":"IFERROR(((RE!L15*1000)/365)/RE!L13,\"\")","v":""}]
["Taxa de coletor e motorista por habitante urbano","IN019","Semestral","Empregados / 1.000 habitantes"]
["Produtividade média de coletores e motoristas","IN018","Semestral","Kg / (funcionário / dia)"]
["Custo da coleta convencional",null,"Anual","R$",{"$f":"IFERROR(RE!H14,\"\")","v":0},{"$f":"IFERROR(RE!I14,\"\")","v":0},{"$f":"IFERROR(RE!J14,\"\")","v":0},{"$f":"IFERROR(RE!K14,\"\")","v":0},{"$f":"IFERROR(RE!L14,\"\")","v":0}]
["Custo unitário da coleta","IN023","Anual","R$ / tonelada",{"$f":"IFERROR(RE!H14/RE!H15,\"\")","v":""},{"$f":"IFERROR(RE!I14/RE!I15,\"\")","v":""},{"$f":"IFERROR(RE!J14/RE!J15,\"\")","v":""},{"$f":"IFERROR(RE!K14/RE!K15,\"\")","v":""},{"$f":"IFERROR(RE!L14/RE!L15,\"\")","v":""}]
["Despesas per capita com a coleta de RSU",null,"Anual","R$ / habitante",{"$f":"IFERROR(RE!H14/RE!H13,\"\")","v":0},{"$f":"IFERROR(RE!I14/RE!I13,\"\")","v":""},{"$f":"IFERROR(RE!J14/RE!J13,\"\")","v":""},{"$f":"IFERROR(RE!K14/RE!K13,\"\")","v":""},{"$f":"IFERROR(RE!L14/RE!L13,\"\")","v":""}]
["Incidência do custo da coleta no custo total do manejo dos RSU","IN024","Anual","%",{"$f":"IFERROR((RE!H14*100)/RE!H17,\"\")","v":""},{"$f":"IFERROR((RE!I14*100)/RE!I17,\"\")","v":""},{"$f":"IFERROR((RE!J14*100)/RE!J17,\"\")","v":""},{"$f":"IFERROR((RE!K14*100)/RE!K17,\"\")","v":""},{"$f":"IFERROR((RE!L14*100)/RE!L17,\"\")","v":""}]
["Método de disposição final",null,"Anual","Aterro sanitário / aterro controlado / lixão",{"$f":"IFERROR(RE!H34,\"\")","v":"Aterro Sanitário"},{"$f":"IFERROR(RE!I34,\"\")","v":0},{"$f":"IFERROR(RE!J34,\"\")","v":0},{"$f":"IFERROR(RE!K34,\"\")","v":0},{"$f":"IFERROR(RE!L34,\"\")","v":0}]
["Existência de licença ambiental",null,"Anual","Sim / Não",{"$f":"IFERROR(RE!H35,\"\")","v":"Sim"},{"$f":"IFERROR(RE!I35,\"\")","v":0},{"$f":"IFERROR(RE!J35,\"\")","v":0},{"$f":"IFERROR(RE!K35,\"\")","v":0},{"$f":"IFERROR(RE!L35,\"\")","v":0}]
["Existência de balança",null,"Anual","Sim / Não",{"$f":"IFERROR(RE!H36,\"\")","v":"Sim"},{"$f":"IFERROR(RE!I36,\"\")","v":0},{"$f":"IFERROR(RE!J36,\"\")","v":0},{"$f":"IFERROR(RE!K36,\"\")","v":0},{"$f":"IFERROR(RE!L36,\"\")","v":0}]
["Custo da disposição final dos RSU",null,"Anual","R$ ",{"$f":"IFERROR(RE!H18,\"\")","v":0},{"$f":"IFERROR(RE!I18,\"\")","v":0},{"$f":"IFERROR(RE!J18,\"\")","v":0},{"$f":"IFERROR(RE!K18,\"\")","v":0},{"$f":"IFERROR(RE!L18,\"\")","v":0}]
["Custo unitário da disposição final",null,"Anual","R$ / tonelada",{"$f":"IFERROR(RE!H18/RE!H15,\"\")","v":""},{"$f":"IFERROR(RE!I18/RE!I15,\"\")","v":""},{"$f":"IFERROR(RE!J18/RE!J15,\"\")","v":""},{"$f":"IFERROR(RE!K18/RE!K15,\"\")","v":""},{"$f":"IFERROR(RE!L18/RE!L15,\"\")","v":""}]
["Despesas per capita com a disposição dos RSU",null,"Anual","R$ / habitante",{"$f":"IFERROR(RE!H18/RE!H13,\"\")","v":0},{"$f":"IFERROR(RE!I18/RE!I13,\"\")","v":""},{"$f":"IFERROR(RE!J18/RE!J13,\"\")","v":""},{"$f":"IFERROR(RE!K18/RE!K13,\"\")","v":""},{"$f":"IFERROR(RE!L18/RE!L13,\"\")","v":""}]
["Coleta diferenciada de resíduos de serviço de saúde (RSS)",null,"Semestral","Sim / Não"]
["Massa coletada de RSS ",null,"Mensal","Tonelada / mês ",{"$f":"IFERROR((RE!H19/1000)/12,\"\")","v":0},{"$f":"IFERROR((RE!I19/1000)/12,\"\")","v":0},{"$f":"IFERROR((RE!J19/1000)/12,\"\")","v":0},{"$f":"IFERROR((RE!K19/1000)/12,\"\")","v":0},{"$f":"IFERROR((RE!L19/1000)/12,\"\")","v":0}]
["Taxa de massa do RSS sobre RSU","IN037","Anual","%",{"$f":"IFERROR(((RE!H19/1000)*100)/RE!H15,\"\")","v":""},{"$f":"IFERROR(((RE!I19/1000)*100)/RE!I15,\"\")","v":""},{"$f":"IFERROR(((RE!J19/1000)*100)/RE!J15,\"\")","v":""},{"$f":"IFERROR(((RE!K19/1000)*100)/RE!K15,\"\")","v":""},{"$f":"IFERROR(((RE!L19/1000)*100)/RE!L15,\"\")","v":""}]
["Taxa de valor do RSS sobre RSU",null,"Anual","%",{"$f":"IFERROR((RE!H20*100)/RE!H17,\"\")","v":""},{"$f":"IFERROR((RE!I20*100)/RE!I17,\"\")","v":""},{"$f":"IFERROR((RE!J20*100)/RE!J17,\"\")","v":""},{"$f":"IFERROR((RE!K20*100)/RE!K17,\"\")","v":""},{"$f":"IFERROR((RE!L20*100)/RE!L17,\"\")","v":""}]
["Coleta diferenciada dos resíduos de construção civil (RCC)",null,"Semestral","Sim / Não",{"$f":"IFERROR(RE!H38,\"\")","v":0},{"$f":"IFERROR(RE!I38,\"\")","v":0},{"$f":"IFERROR(RE!J38,\"\")","v":0},{"$f":"IFERROR(RE!K38,\"\")","v":0},{"$f":"IFERROR(RE!L38,\"\")","v":0}]
["Taxa de varredores por habitantes urbanos","IN045","Anual","Funcionários / 1.000 habitantes",{"$f":"IFERROR((RE!H21*1000)/RE!H22,\"\")","v":0.20033604756365517},{"$f":"IFERROR((RE!I21*1000)/RE!I22,\"\")","v":""},{"$f":"IFERROR((RE!J21*1000)/RE!J22,\"\")","v":""},{"$f":"IFERROR((RE!K21*1000)/RE!K22,\"\")","v":""},{"$f":"IFERROR((RE!L21*1000)/RE!L22,\"\")","v":""}]
["Taxa de capinadores por habitantes urbano","IN051","Anual","Funcionários / 1.000 habitantes",{"$f":"IFERROR((RE!H23*1000)/RE!H22,\"\")","v":0.79488173710740595},{"$f":"IFERROR((RE!I23*1000)/RE!I22,\"\")","v":""},{"$f":"IFERROR((RE!J23*1000)/RE!J22,\"\")","v":""},{"$f":"IFERROR((RE!K23*1000)/RE!K22,\"\")","v":""},{"$f":"IFERROR((RE!L23*1000)/RE!L22,\"\")","v":""}]
["Percentual da extensão atendida pela varrição",null,"Anual","%",{"$f":"IFERROR((RE!H24*100)/RE!H25,\"\")","v":""},{"$f":"IFERROR((RE!I24*100)/RE!I25,\"\")","v":""},{"$f":"IFERROR((RE!J24*100)/RE!J25,\"\")","v":""},{"$f":"IFERROR((RE!K24*100)/RE!K25,\"\")","v":""},{"$f":"IFERROR((RE!L24*100)/RE!L25,\"\")","v":""}]
["Custo do serviço da varrição",null,"Anual","R$ / ano",{"$f":"IFERROR(RE!H26,\"\")","v":0},{"$f":"IFERROR(RE!I26,\"\")","v":0},{"$f":"IFERROR(RE!J26,\"\")","v":0},{"$f":"IFERROR(RE!K26,\"\")","v":0},{"$f":"IFERROR(RE!L26,\"\")","v":0}]
["Custo unitário da varrição",null,"Semestral","R$ / km"]
["Incidência do custo da varrição no custo total do manejo de RSU","IN046","Anual","%",{"$f":"IFERROR((RE!H26*100)/RE!H17,\"\")","v":""},{"$f":"IFERROR((RE!I26*100)/RE!I17,\"\")","v":""},{"$f":"IFERROR((RE!J26*100)/RE!J17,\"\")","v":""},{"$f":"IFERROR((RE!K26*100)/RE!K17,\"\")","v":""},{"$f":"IFERROR((RE!L26*100)/RE!L17,\"\")","v":""}]
["Taxa de cobertura da coleta seletiva no município",null,"Anual","%",{"$f":"IFERROR((RE!H27*100)/RE!H9,\"\")","v":87.959920490040972},{"$f":"IFERROR((RE!I27*100)/RE!I9,\"\")","v":""},{"$f":"IFERROR((RE!J27*100)/RE!J9,\"\")","v":""},{"$f":"IFERROR((RE!K27*100)/RE!K9,\"\")","v":""},{"$f":"IFERROR((RE!L27*100)/RE!L9,\"\")","v":""}]
["Massa de recicláveis coletada",null,"Mensal","tonelada / mês "]
["Taxa de recuperação de recicláveis em relação à quantidade de RDO e RPU","IN031","Mensal","%"]
["Massa per capita de materiais recicláveis",null,"Anual","Kg / (habitantes/dia)",{"$f":"IFERROR((RE!H29*1000)/RE!H30,\"\")","v":0},{"$f":"IFERROR((RE!I29*1000)/RE!I30,\"\")","v":""},{"$f":"IFERROR((RE!J29*1000)/RE!J30,\"\")","v":""},{"$f":"IFERROR((RE!K29*1000)/RE!K30,\"\")","v":""},{"$f":"IFERROR((RE!L29*1000)/RE!L30,\"\")","v":""}]
["Custo do serviço para a coleta dos resíduos recicláveis",null,"Anual","R$ / tonelada",{"$f":"IFERROR(RE!H31/RE!H28,\"\")","v":""},{"$f":"IFERROR(RE!I31/RE!I28,\"\")","v":""},{"$f":"IFERROR(RE!J31/RE!J28,\"\")","v":""},{"$f":"IFERROR(RE!K31/RE!K28,\"\")","v":""},{"$f":"IFERROR(RE!L31/RE!L28,\"\")","v":""}]
["Sustentabilidade financeira da Prefeitura com o manejo de RSU","IN005","Anual","%",{"$f":"IFERROR((RE!H32*100)/RE!H17,\"\")","v":""},{"$f":"IFERROR((RE!I32*100)/RE!I17,\"\")","v":""},{"$f":"IFERROR((RE!J32*100)/RE!J17,\"\")","v":""},{"$f":"IFERROR((RE!K32*100)/RE!K17,\"\")","v":""},{"$f":"IFERROR((RE!L32*100)/RE!L17,\"\")","v":""}]
["Despesa per capita com manejo de RSU em relação à população urbana","IN006","Anual","R$ / habitante",{"$f":"IFERROR(RE!H17/RE!H22,\"\")","v":0},{"$f":"IFERROR(RE!I17/RE!I22,\"\")","v":""},{"$f":"IFERROR(RE!J17/RE!J22,\"\")","v":""},{"$f":"IFERROR(RE!K17/RE!K22,\"\")","v":""},{"$f":"IFERROR(RE!L17/RE!L22,\"\")","v":""}]
["Quantidade de ocorrências de disposição irregular/clandestina de RSU",null,"Anual","ocorrências /ano a cada 1.000 habitantes",{"$f":"IFERROR((RE!H33*1000)/RE!H11,\"\")","v":0},{"$f":"IFERROR((RE!I33*1000)/RE!I11,\"\")","v":""},{"$f":"IFERROR((RE!J33*1000)/RE!J11,\"\")","v":""},{"$f":"IFERROR((RE!K33*1000)/RE!K11,\"\")","v":""},{"$f":"IFERROR((RE!L33*1000)/RE!L11,\"\")","v":""}]
["Taxa de empregados por habitante urbano","IN001",null,"empreg./1000 hab.",{"$f":"IFERROR(((RE!H40+RE!H41)/RE!H39)*1000,\"\")","v":""},{"$f":"IFERROR(((RE!I40+RE!I41)/RE!I39)*1000,\"\")","v":""},{"$f":"IFERROR(((RE!J40+RE!J41)/RE!J39)*1000,\"\")","v":""},{"$f":"IFERROR(((RE!K40+RE!K41)/RE!K39)*1000,\"\")","v":""},{"$f":"IFERROR(((RE!L40+RE!L41)/RE!L39)*1000,\"\")","v":""}]
["Despesa por empregado","IN002",null,"R$/empregado",{"$f":"IFERROR(RE!H43/(RE!H40+RE!H41),\"\")","v":""},{"$f":"IFERROR(RE!I43/(RE!I40+RE!I41),\"\")","v":""},{"$f":"IFERROR(RE!J43/(RE!J40+RE!J41),\"\")","v":""},{"$f":"IFERROR(RE!K43/(RE!K40+RE!K41),\"\")","v":""},{"$f":"IFERROR(RE!L43/(RE!L40+RE!L41),\"\")","v":""}]
["Incidência de despesas com RSU na prefeitura","IN003",null,"%",{"$f":"IFERROR((RE!H43/RE!H44)*100,\"\")","v":""},{"$f":"IFERROR((RE!I43/RE!I44)*100,\"\")","v":""},{"$f":"IFERROR((RE!J43/RE!J44)*100,\"\")","v":""},{"$f":"IFERROR((RE!K43/RE!K44)*100,\"\")","v":""},{"$f":"IFERROR((RE!L43/RE!L44)*100,\"\")","v":""}]
["Incidência de despesas com  empresas contratadas","IN004",null,"%",{"$f":"IFERROR((RE!H45/RE!H43)*100,\"\")","v":""},{"$f":"IFERROR((RE!I45/RE!I43)*100,\"\")","v":""},{"$f":"IFERROR((RE!J45/RE!J43)*100,\"\")","v":""},{"$f":"IFERROR((RE!K45/RE!K43)*100,\"\")","v":""},{"$f":"IFERROR((RE!L45/RE!L43)*100,\"\")","v":""}]
["incidência de  empregados próprios","IN007",null,"%",{"$f":"IFERROR((RE!H40/(RE!H40+RE!H41))*100,\"\")","v":""},{"$f":"IFERROR((RE!I40/(RE!I40+RE!I41))*100,\"\")","v":""},{"$f":"IFERROR((RE!J40/(RE!J40+RE!J41))*100,\"\")","v":""},{"$f":"IFERROR((RE!K40/(RE!K40+RE!K41))*100,\"\")","v":""},{"$f":"IFERROR((RE!L40/(RE!L40+RE!L41))*100,\"\")","v":""}]
["Incidência de empreg. de empr. contrat. no total de empreg. no manejo ","IN008",null,"%",{"$f":"IFERROR((RE!H41/(RE!H40+RE!H41))*100,\"\")","v":""},{"$f":"IFERROR((RE!I41/(RE!I40+RE!I41))*100,\"\")","v":""},{"$f":"IFERROR((RE!J41/(RE!J40+RE!J41))*100,\"\")","v":""},{"$f":"IFERROR((RE!K41/(RE!K40+RE!K41))*100,\"\")","v":""},{"$f":"IFERROR((RE!L41/(RE!L40+RE!L41))*100,\"\")","v":""}]
["Incidência de empreg. admin. no total de empreg no manejo","IN010",null,"%",{"$f":"IFERROR(((RE!H47+RE!H48)/(RE!H40+RE!H41))*100,\"\")","v":""},{"$f":"IFERROR(((RE!I47+RE!I48)/(RE!I40+RE!I41))*100,\"\")","v":""},{"$f":"IFERROR(((RE!J47+RE!J48)/(RE!J40+RE!J41))*100,\"\")","v":""},{"$f":"IFERROR(((RE!K47+RE!K48)/(RE!K40+RE!K41))*100,\"\")","v":""},{"$f":"IFERROR(((RE!L47+RE!L48)/(RE!L40+RE!L41))*100,\"\")","v":""}]
["Receita arrecadada per capita com serviços de manejo","IN011",null,"R$/habitante",{"$f":"IFERROR(RE!H46/RE!H39,\"\")","v":""},{"$f":"IFERROR(RE!I46/RE!I39,\"\")","v":""},{"$f":"IFERROR(RE!J46/RE!J39,\"\")","v":""},{"$f":"IFERROR(RE!K46/RE!K39,\"\")","v":""},{"$f":"IFERROR(RE!L46/RE!L39,\"\")","v":""}]
["Tx. cobertura de coleta direta RDO relativo à pop. urbana","IN014",null,"%",{"$f":"IFERROR((RE!H49/RE!H39)*100,\"\")","v":""},{"$f":"IFERROR((RE!I49/RE!I39)*100,\"\")","v":""},{"$f":"IFERROR((RE!J49/RE!J39)*100,\"\")","v":""},{"$f":"IFERROR((RE!K49/RE!K39)*100,\"\")","v":""},{"$f":"IFERROR((RE!L49/RE!L39)*100,\"\")","v":""}]
["Taxa de terceirização da coleta","IN017",null,"%",{"$f":"IFERROR(((RE!H51+RE!H53+RE!H52)/(RE!H50+RE!H51+RE!H53+RE!H52))*100,\"\")","v":""},{"$f":"IFERROR(((RE!I51+RE!I53+RE!I52)/(RE!I50+RE!I51+RE!I53+RE!I52))*100,\"\")","v":""},{"$f":"IFERROR(((RE!J51+RE!J53+RE!J52)/(RE!J50+RE!J51+RE!J53+RE!J52))*100,\"\")","v":""},{"$f":"IFERROR(((RE!K51+RE!K53+RE!K52)/(RE!K50+RE!K51+RE!K53+RE!K52))*100,\"\")","v":""},{"$f":"IFERROR(((RE!L51+RE!L53+RE!L52)/(RE!L50+RE!L51+RE!L53+RE!L52))*100,\"\")","v":""}]
["Massa [RDO+RPU] coletada per capita em relação à pop. urbana","IN021",null,"Kg/(hab.x dia)",{"$f":"IFERROR(((RE!H50+RE!H51+RE!H53+RE!H52)/RE!H39)*(1000/365),\"\")","v":""},{"$f":"IFERROR(((RE!I50+RE!I51+RE!I53+RE!I52)/RE!I39)*(1000/365),\"\")","v":""},{"$f":"IFERROR(((RE!J50+RE!J51+RE!J53+RE!J52)/RE!J39)*(1000/365),\"\")","v":""},{"$f":"IFERROR(((RE!K50+RE!K51+RE!K53+RE!K52)/RE!K39)*(1000/365),\"\")","v":""},{"$f":"IFERROR(((RE!L50+RE!L51+RE!L53+RE!L52)/RE!L39)*(1000/365),\"\")","v":""}]
["Incidência de emprega.da coleta no total de empregados no manejo","IN025",null,"%",{"$f":"IFERROR(((RE!H54+RE!H55)/(RE!H40+RE!H41))*100,\"\")","v":""},{"$f":"IFERROR(((RE!I54+RE!I55)/(RE!I40+RE!I41))*100,\"\")","v":""},{"$f":"IFERROR(((RE!J54+RE!J55)/(RE!J40+RE!J41))*100,\"\")","v":""},{"$f":"IFERROR(((RE!K54+RE!K55)/(RE!K40+RE!K41))*100,\"\")","v":""},{"$f":"IFERROR(((RE!L54+RE!L55)/(RE!L40+RE!L41))*100,\"\")","v":""}]
["Relação: quantidade RCD coletada pela Pref. p/quant. total  [RDO+RPU]","IN026",null,"%",{"$f":"IFERROR((RE!H65/(RE!H51+RE!H51+RE!H53+RE!H52))*100,\"\")","v":""},{"$f":"IFERROR((RE!I65/(RE!I51+RE!I51+RE!I53+RE!I52))*100,\"\")","v":""},{"$f":"IFERROR((RE!J65/(RE!J51+RE!J51+RE!J53+RE!J52))*100,\"\")","v":""},{"$f":"IFERROR((RE!K65/(RE!K51+RE!K51+RE!K53+RE!K52))*100,\"\")","v":""},{"$f":"IFERROR((RE!L65/(RE!L51+RE!L51+RE!L53+RE!L52))*100,\"\")","v":""}]
["Relação: quantidades coletadas de RPU por RDO","IN027",null,"%",{"$f":"IFERROR(((RE!H58+RE!H59+RE!H61)/(RE!H56+RE!H57+RE!H53+RE!H60))*100,\"\")","v":""},{"$f":"IFERROR(((RE!I58+RE!I59+RE!I61)/(RE!I56+RE!I57+RE!I53+RE!I60))*100,\"\")","v":""},{"$f":"IFERROR(((RE!J58+RE!J59+RE!J61)/(RE!J56+RE!J57+RE!J53+RE!J60))*100,\"\")","v":""},{"$f":"IFERROR(((RE!K58+RE!K59+RE!K61)/(RE!K56+RE!K57+RE!K53+RE!K60))*100,\"\")","v":""},{"$f":"IFERROR(((RE!L58+RE!L59+RE!L61)/(RE!L56+RE!L57+RE!L53+RE!L60))*100,\"\")","v":""}]
["Massa [RDO+RPU] coletada per capita em relação à população total atendida ","IN028",null,"Kg/(hab.x dia)",{"$f":"IFERROR(((RE!H50+RE!H51+RE!H53+RE!H52)/RE!H62)*(1000/365),\"\")","v":""},{"$f":"IFERROR(((RE!I50+RE!I51+RE!I53+RE!I52)/RE!I62)*(1000/365),\"\")","v":""},{"$f":"IFERROR(((RE!J50+RE!J51+RE!J53+RE!J52)/RE!J62)*(1000/365),\"\")","v":""},{"$f":"IFERROR(((RE!K50+RE!K51+RE!K53+RE!K52)/RE!K62)*(1000/365),\"\")","v":""},{"$f":"IFERROR(((RE!L50+RE!L51+RE!L53+RE!L52)/RE!L62)*(1000/365),\"\")","v":""}]
["Massa de RCC per capita/ano em relação à pop. urbana","IN029",null,"Kg/(hab.x ano)",{"$f":"IFERROR(((RE!H65+RE!H66+RE!H67)/RE!H39)*1000,\"\")","v":""},{"$f":"IFERROR(((RE!I65+RE!I66+RE!I67)/RE!I39)*1000,\"\")","v":""},{"$f":"IFERROR(((RE!J65+RE!J66+RE!J67)/RE!J39)*1000,\"\")","v":""},{"$f":"IFERROR(((RE!K65+RE!K66+RE!K67)/RE!K39)*1000,\"\")","v":""},{"$f":"IFERROR(((RE!L65+RE!L66+RE!L67)/RE!L39)*1000,\"\")","v":""}]
["Taxa de cobertura da col. Seletiva porta a porta em relação a pop. Urbana","IN030",null,"%",{"$f":"IFERROR((RE!H63/RE!H39)*100,\"\")","v":""},{"$f":"IFERROR((RE!I63/RE!I39)*100,\"\")","v":""},{"$f":"IFERROR((RE!J63/RE!J39)*100,\"\")","v":""},{"$f":"IFERROR((RE!K63/RE!K39)*100,\"\")","v":""},{"$f":"IFERROR((RE!L63/RE!L39)*100,\"\")","v":""}]
["Massa recuperada per capita","IN032",null,"Kg/(hab. x ano)",{"$f":"IFERROR((RE!H64/RE!H39)*1000,\"\")","v":""},{"$f":"IFERROR((RE!I64/RE!I39)*1000,\"\")","v":""},{"$f":"IFERROR((RE!J64/RE!J39)*1000,\"\")","v":""},{"$f":"IFERROR((RE!K64/RE!K39)*1000,\"\")","v":""},{"$f":"IFERROR((RE!L64/RE!L39)*1000,\"\")","v":""}]
["Relação entre quantidades da coleta seletiva e RDO","IN053",null,"%",{"$f":"IFERROR((RE!H68/(RE!H56+RE!H57+RE!H53+RE!H60))*100,\"\")","v":""},{"$f":"IFERROR((RE!I68/(RE!I56+RE!I57+RE!I53+RE!I60))*100,\"\")","v":""},{"$f":"IFERROR((RE!J68/(RE!J56+RE!J57+RE!J53+RE!J60))*100,\"\")","v":""},{"$f":"IFERROR((RE!K68/(RE!K56+RE!K57+RE!K53+RE!K60))*100,\"\")","v":""},{"$f":"IFERROR((RE!L68/(RE!L56+RE!L57+RE!L53+RE!L60))*100,\"\")","v":""}]
["Incid. de papel/papelão sobre total mat. recuperado","IN034",null,"%",{"$f":"IFERROR((RE!H69/RE!H64)*100,\"\")","v":""},{"$f":"IFERROR((RE!I69/RE!I64)*100,\"\")","v":""},{"$f":"IFERROR((RE!J69/RE!J64)*100,\"\")","v":""},{"$f":"IFERROR((RE!K69/RE!K64)*100,\"\")","v":""},{"$f":"IFERROR((RE!L69/RE!L64)*100,\"\")","v":""}]
["Incid. de plásticos sobre total material recuperado","IN035",null,"%",{"$f":"IFERROR((RE!H70/RE!H64)*100,\"\")","v":""},{"$f":"IFERROR((RE!I70/RE!I64)*100,\"\")","v":""},{"$f":"IFERROR((RE!J70/RE!J64)*100,\"\")","v":""},{"$f":"IFERROR((RE!K70/RE!K64)*100,\"\")","v":""},{"$f":"IFERROR((RE!L70/RE!L64)*100,\"\")","v":""}]
["Incid.de metais sobre total material recuperado","IN038",null,"%",{"$f":"IFERROR((RE!H71/RE!H64)*100,\"\")","v":""},{"$f":"IFERROR((RE!I71/RE!I64)*100,\"\")","v":""},{"$f":"IFERROR((RE!J71/RE!J64)*100,\"\")","v":""},{"$f":"IFERROR((RE!K71/RE!K64)*100,\"\")","v":""},{"$f":"IFERROR((RE!L71/RE!L64)*100,\"\")","v":""}]
["Incid.de vidros sobre total de material recuperado","IN039",null,"%",{"$f":"IFERROR((RE!H72/RE!H64)*100,\"\")","v":""},{"$f":"IFERROR((RE!I72/RE!I64)*100,\"\")","v":""},{"$f":"IFERROR((RE!J72/RE!J64)*100,\"\")","v":""},{"$f":"IFERROR((RE!K72/RE!K64)*100,\"\")","v":""},{"$f":"IFERROR((RE!L72/RE!L64)*100,\"\")","v":""}]
["Incidência de ''outros'' sobre total material recuperado","IN040",null,"%",{"$f":"IFERROR((RE!H73/RE!H64)*100,\"\")","v":""},{"$f":"IFERROR((RE!I73/RE!I64)*100,\"\")","v":""},{"$f":"IFERROR((RE!J73/RE!J64)*100,\"\")","v":""},{"$f":"IFERROR((RE!K73/RE!K64)*100,\"\")","v":""},{"$f":"IFERROR((RE!L73/RE!L64)*100,\"\")","v":""}]
["Massa per capita recolhida via coleta seletiva","IN054",null,"Kg/(hab. x ano)",{"$f":"IFERROR((RE!H68/RE!H39)*1000,\"\")","v":""},{"$f":"IFERROR((RE!I68/RE!I39)*1000,\"\")","v":""},{"$f":"IFERROR((RE!J68/RE!J39)*1000,\"\")","v":""},{"$f":"IFERROR((RE!K68/RE!K39)*1000,\"\")","v":""},{"$f":"IFERROR((RE!L68/RE!L39)*1000,\"\")","v":""}]
["Massa de RSS coletada per capita","IN036",null,"Kg/(1000hab.  X dia)",{"$f":"IFERROR((RE!H74/RE!H39)*(1000/365),\"\")","v":""},{"$f":"IFERROR((RE!I74/RE!I39)*(1000/365),\"\")","v":""},{"$f":"IFERROR((RE!J74/RE!J39)*(1000/365),\"\")","v":""},{"$f":"IFERROR((RE!K74/RE!K39)*(1000/365),\"\")","v":""},{"$f":"IFERROR((RE!L74/RE!L39)*(1000/365),\"\")","v":""}]
["Taxa de terceirização de varredores","IN041",null,"%",{"$f":"IFERROR((RE!H75/(RE!H76+RE!H75))*100,\"\")","v":""},{"$f":"IFERROR((RE!I75/(RE!I76+RE!I75))*100,\"\")","v":""},{"$f":"IFERROR((RE!J75/(RE!J76+RE!J75))*100,\"\")","v":""},{"$f":"IFERROR((RE!K75/(RE!K76+RE!K75))*100,\"\")","v":""},{"$f":"IFERROR((RE!L75/(RE!L76+RE!L75))*100,\"\")","v":""}]
["Taxa de terceirização de varrição","IN042",null,"%",{"$f":"IFERROR((RE!H77/RE!H78)*100,\"\")","v":""},{"$f":"IFERROR((RE!I77/RE!I78)*100,\"\")","v":""},{"$f":"IFERROR((RE!J77/RE!J78)*100,\"\")","v":""},{"$f":"IFERROR((RE!K77/RE!K78)*100,\"\")","v":""},{"$f":"IFERROR((RE!L77/RE!L78)*100,\"\")","v":""}]
["Custo unitário da varrição ","IN043",null,"R$/km",{"$f":"IFERROR((RE!H79+RE!H80)/RE!H78,\"\")","v":""},{"$f":"IFERROR((RE!I79+RE!I80)/RE!I78,\"\")","v":""},{"$f":"IFERROR((RE!J79+RE!J80)/RE!J78,\"\")","v":""},{"$f":"IFERROR((RE!K79+RE!K80)/RE!K78,\"\")","v":""},{"$f":"IFERROR((RE!L79+RE!L80)/RE!L78,\"\")","v":""}]
["Produtividade média do varredores","IN044",null,"km/(empreg x dia)",{"$f":"IFERROR((RE!H78/(RE!H76+RE!H75))*(1/313),\"\")","v":""},{"$f":"IFERROR((RE!I78/(RE!I76+RE!I75))*(1/313),\"\")","v":""},{"$f":"IFERROR((RE!J78/(RE!J76+RE!J75))*(1/313),\"\")","v":""},{"$f":"IFERROR((RE!K78/(RE!K76+RE!K75))*(1/313),\"\")","v":""},{"$f":"IFERROR((RE!L78/(RE!L76+RE!L75))*(1/313),\"\")","v":""}]
["Incidência de varredores no total de empregados no manejo","IN047",null,"%",{"$f":"IFERROR(((RE!H76+RE!H75)/(RE!H40+RE!H41))*100,\"\")","v":""},{"$f":"IFERROR(((RE!I76+RE!I75)/(RE!I40+RE!I41))*100,\"\")","v":""},{"$f":"IFERROR(((RE!J76+RE!J75)/(RE!J40+RE!J41))*100,\"\")","v":""},{"$f":"IFERROR(((RE!K76+RE!K75)/(RE!K40+RE!K41))*100,\"\")","v":""},{"$f":"IFERROR(((RE!L76+RE!L75)/(RE!L40+RE!L41))*100,\"\")","v":""}]
["Extensão total anual varrida per capita","IN048",null,"Km/(hab. x ano)",{"$f":"IFERROR(RE!H78/RE!H39,\"\")","v":""},{"$f":"IFERROR(RE!I78/RE!I39,\"\")","v":""},{"$f":"IFERROR(RE!J78/RE!J39,\"\")","v":""},{"$f":"IFERROR(RE!K78/RE!K39,\"\")","v":""},{"$f":"IFERROR(RE!L78/RE!L39,\"\")","v":""}]
["Relação de capinadores no total de empregados no manejo ","IN052",null,"%",{"$f":"IFERROR(((RE!H81+RE!H82)/(RE!H40+RE!H41))*100,\"\")","v":""},{"$f":"IFERROR(((RE!I81+RE!I82)/(RE!I40+RE!I41))*100,\"\")","v":""},{"$f":"IFERROR(((RE!J81+RE!J82)/(RE!J40+RE!J41))*100,\"\")","v":""},{"$f":"IFERROR(((RE!K81+RE!K82)/(RE!K40+RE!K41))*100,\"\")","v":""},{"$f":"IFERROR(((RE!L81+RE!L82)/(RE!L40+RE!L41))*100,\"\")","v":""}]

{"sheet":"Base de Dados - Resíduos","index":2,"n_rows":83,"n_cols":49,"rows_kept":83,"cut":false,"hidden":false,"merged":[[1,5,2,5],[1,0,2,0],[1,1,2,1],[1,2,2,2],[1,3,2,3],[1,4,2,4]]}
[]
["Dados","Frequência","Descrição","Unidade de medida","Fonte de dados","Responsável pela geração dos dados"]
[null,null,null,null,null,null,null,2019,2020,2021,2022,2023,2024,2025,2026,2027,2028,2029,2030,2031,2032,2033,2034,2035,2036,2037,2038,2039,2040,2041,2042,2043,2044,2045,2046,2047,2048,2049,2050,2051,2052,2053,2054,2055,2056,2057,2058,2059,2060]
["Frequência da coleta domiciliar","Anual","Número de dias que acontece a coleta seletiva nos bairros","dias","Diretoria de resíduos","Diretoria de resíduos","1 vezes e 7 vezes","3 vezes e 6 vezes"]
["Rurb ","Anual","Número de residências atendidas pela coleta convencional na área urbana","Unidade","Diretoria de resíduos","Diretoria de resíduos",21537,48424]
["Rurbana","Anual","Número total de residências na área urbana","Unidade","IBGE ou Projeção de população (PSBM)","Diretoria de resíduos",21537,48424]
["Rru","Anual","Número de residências atendidas pela coleta convencional na área rural","Unidade","Diretoria de resíduos","Diretoria de resíduos",549,736]
["Rrural","Anual","Número total de residências na área rural","Unidade","IBGE ou Projeção de população (PSBM)","Diretoria de resíduos",549,878]
["Rtot","Semestral","Número de residências totais atendidas pela coleta convencional ","Unidade","Diretoria de resíduos","Diretoria de resíduos"]
["Rtotal","Anual / Semestral","Número total de residências no município","Unidade","IBGE ou Projeção de população (PSBM)","Diretoria de resíduos",22086,49302]
["Mtotal (mensal)","Mensal","Massa total de resíduos coletada mensalmente","toneladas","Diretoria de resíduos","Diretoria de resíduos"]
["Ptotal","Anual","População total do município","habitantes","IBGE ou Projeção de população (PSBM)","Diretoria de resíduos",67338,157544]
["Nfun","Semestral","Número total de funcionários que trabalha na coleta de resíduos sólidos urbanos","-","Empresa responsável pela operação da coleta de resíduos sólidos urbanos","Diretoria de resíduos",15,51]
["Ptotal (atendida)","Anual / Semestral","População total atendida pela coleta convencional","habitantes","Diretoria de resíduos","Diretoria de resíduos",67338,157089]
["Vtotal (anual)","Anual","Valor gasto no serviço de coleta convencional dos resíduos sólidos urbanos","R$","Semasa","Diretoria de resíduos"]
["Mtotal (anual)","Anual","Massa total de resíduos sólidos urbanos coletada anualmente","toneladas","Empresa responsável pela operação do Aterro sanitário","Diretoria de resíduos",29662.560000000001]
["Vtotal (coleta)","Anual","Valor total gasto com a coleta seletiva","R$","Semasa","Diretoria de resíduos",null,{"$f":"(65865*12)+27028.17","v":817408.17}]
["Vtotal (manejo dos RSU)","Anual","Valor total gasto com o manejo dos RSU","R$","Semasa","Diretoria de resíduos"]
["Custo da disposição final dos RSU","Anual","Valor gasto com a disposição final dos resíduos sólidos urbanos","R$","Semasa","Diretoria de resíduos"]
["Mtotal (RSS)","Anual / Mensal","Massa total de resíduos de serviço de saúde coletada ","quilogramas","Empresa terceirizada para realizar a coleta dos RSS","Diretoria de resíduos"]
["Vtotal (RSS)","Anual","Valor gasto com manejo dos resíduos de serviço de saúde","R$","Semasa","Diretoria de resíduos"]
["Nfun (varrição)","Anual","Número de funcionários do serviço de varrição","funcionários","Secretaria de Serviços Públicos e Meio Ambiente","Diretoria de resíduos",68,31]
["P (urbana)","Anual","População total da área urbana","habitantes","IBGE ou Projeção de população (PSBM)","Diretoria de resíduos",65665,154740]
["Nfun (capinação)","Anual","Número de funcionários do serviço de capinação","funcionários","Secretaria de Serviços Públicos e Meio Ambiente","Diretoria de resíduos",36,123]
["EI (km de vias limpas)","Anual / Semestral","Extensão total das vias contempladas pelo serviço de varrição","km","Secretaria de Serviços Públicos e Meio Ambiente","Diretoria de resíduos",85360]
["E (km de vias pavimentadas)","Anual","Extensão total das vias municipais pavimentadas no município","km","Secretaria de Obras e Planejamento","Secretaria de Planejamento e Obras"]
["Vtotal (varrição)","Anual  / Semestral","Valor total gasto com o serviço de varrição","R$","Secretaria de Administração e Fazenda","Diretoria de resíduos"]
["R (atendida)","Anual","Número de residências atendidas pela coleta seletiva","unidade","Diretoria de resíduos","Diretoria de resíduos",22086,43366]
["T (recicláveis coletado)","Anual / Mensal","Massa total dos materiais recicláveis coletada","toneladas","Diretoria de resíduos","Diretoria de resíduos",1986]
["Mrtotal (diária)","Anual","Massa diária total dos materiais recicláveis ","toneladas","Diretoria de resíduos","Diretoria de resíduos"]
["Ptotal (atendida)","Anual","População total atendida pela coleta seletiva","habitantes","Diretoria de resíduos","Diretoria de resíduos",67338,138607]
["V (pago)","Anual","Valor total pago pela coleta dos materiais recicláveis","R$","Semasa","Diretoria de resíduos",null,{"$f":"(65865*12)+27028.17","v":817408.17}]
["V (arrecadado)","Anual","Valor arrecadado pelo município com a cobrança do serviço de manejo dos resíduos sólidos urbanos","R$","Semasa","Diretoria de resíduos",14379783.119999999,11909523.859999999]
["O (ocorrências anual)","Anual","Indica o número de ocorrências de disposição irregular/clandestina","-","Secretaria de Serviços Públicos e Meio Ambiente","Diretoria de resíduos"]
["Método de disposição final","Anual","Local de destinação final dos resíduos sólidos urbanos","Aterro sanitário / aterro controlado / lixão","Diretoria de resíduos","Diretoria de resíduos","Aterro sanitário","Aterro Sanitário"]
["Existência de licença ambiental no local de disposição final","Anual","Existência de licença ambiental no Aterro sanitário","Sim /Não","Administrador do local de disposição final","Diretoria de resíduos","Sim","Sim"]
["Existência de balança","Anual","Existência de balança no aterro sanitário","Sim /Não","Administrador do local de disposição final","Diretoria de resíduos","Sim","Sim"]
["Coleta diferenciada de resíduos de serviço de saúde (RSS)","Semestral","Existência de coleta específica para os resíduos de serviço de saúde","Sim /Não","Diretoria de resíduos","Diretoria de resíduos","Sim"]
["Coleta diferenciada dos resíduos de construção civil (RCC)","Semestral","Existência de programa de coleta de resíduos de construção e demolição","Sim /Não","Diretoria de resíduos","Diretoria de resíduos","Não"]
["POP_URB",null,"População urbana do município (Fonte: IBGE)"]
["TB013",null,"Quantidade de trabalhadores de agentes públicos envolvidos nos serviços de manejo de RSU"]
["TB014",null,"Quantidade de trabalhadores de agentes privados envolvidos nos serviços de manejo de RSU"]
["TB016",null,"Existência de frente de trabalho temporária"]
["FN220",null,"Despesa total com serviços de manejo de RSU"]
["FN223",null,"Despesa Corrente da Prefeitura durante o ano com TODOS os serviços do município (saúde,\neducação, pagamento de pessoal, etc.)"]
["FN219",null,"Despesa com agentes privados executores de serviços de manejo de RSU"]
["FN222",null,"Receita arrecadada com taxas e tarifas referentes à gestão e manejo de RSU "]
["TB011",null,"Quantidade de empregados administrativos dos agentes públicos"]
["TB012",null,"Quantidade de empregados administrativos dos agentes privados\n"]
["CO165",null,"População urbana atendida pelo serviço de coleta domiciliar direta, ou seja, porta a porta"]
["CO116",null,"Quantidade de RDO e RPU coletada pelo agente público"]
["CO117",null,"Quantidade de RDO e RPU coletada pelos agentes privados"]
["CO142",null,"Quantidade de RDO e RPU coletada por outros agentes executores\n"]
["CS048",null,"Qtd. recolhida na coleta seletiva executada por associações ou cooperativas de catadores com parceria/apoio da Prefeitura?"]
["TB001",null,"Quantidade de coletadores e motoristas de agentes públicos, alocados no serviço de coleta de RDO e RPU"]
["TB002",null,"Quantidade de coletadores e motoristas de agentes públicos, alocados no serviço de coleta\nde RDO e RPU"]
["CO108",null,"Quantidade de RDO coletada pelo agente público"]
["CO109",null,"Quantidade de RDO coletada pelos agentes privados"]
["CO112",null," Quantidade de RPU coletada pelo agente público"]
["CO113",null,"Quantidade de RPU coletada pelos agentes privados"]
["CO140",null," Quantidade de RDO coletada por outros agentes executores, exceto coop. ou associações de catadores"]
["CO141",null,"Quantidade de RPU coletada por outros agentes executores, exceto coop. ou associações de catadores"]
["CO164",null,"População total atendida no município"]
["CS050",null,"População urbana do município atendida com a coleta seletiva do tipo porta a porta\nexecutada pela Prefeitura (ou SLU"]
["CS009",null,"Quantidade total de materiais recicláveis recuperados"]
["CC013",null,"Pela Prefeitura Municipal ou empresa contratada por ela"]
["CC014",null,"Por empresas especializadas (\"caçambeiros\") ou autônomos contratados pelo gerador"]
["CC015",null,"Pelo próprio gerador"]
["CS026",null,"Qtd. total recolhida pelos 4 agentes executores da coleta seletiva acima mencionados"]
["CS010",null,"Quantidade de Papel e papelão recicláveis recuperados"]
["CS011",null,"Quantidade de Plásticos recicláveis recuperados "]
["CS012",null,"Quantidade de Metais recicláveis recuperados"]
["CS013",null,"Quantidade de Vidros recicláveis recuperados"]
["CS014",null,"Quantidade de Outros materiais recicláveis recuperados (exceto pneus e eletrônicos)"]
["RS044",null,"Quantidade total de RSS coletada pelos agentes executores"]
["TB004",null,"Quantidade de varredores de agentes privados, alocados no serviço de varrição"]
["TB003",null,"Quantidade de varredores dos agentes públicos, alocados no serviço de varrição"]
["VA011",null,"Por empresas contratadas (Km varridos)"]
["VA039",null,"Extensão total de sarjetas varridas pelos executores (Km varridos)"]
["FN212",null,"Despesa dos agentes públicos com o serviço de varrição"]
["FN2013",null,"Despesa com empresas contratadas para o serviço de varrição"]
["TB005",null,"Quantidade de empregados dos agentes públicos envolvidos com os serviços de capina e roçada"]
["TB006",null,"Quantidade de empregados dos agentes privados envolvidos com os serviços de capina e roçada"]

{"sheet":"Gráficos - Resíduos","index":3,"n_rows":1,"n_cols":1,"rows_kept":1,"cut":false,"hidden":false,"merged":[[0,0,0,22]]}
["Gráficos dos indicadores de resíduos sólidos"]

{"sheet":"Indicadores - Água e esgoto","index":4,"n_rows":100,"n_cols":9,"rows_kept":100,"cut":false,"hidden":false,"merged":[[2,0,3,0],[2,2,3,2],[2,3,3,3],[2,4,2,8],[2,1,3,1]]}
["Ano ínicio ciclo"]
[2017]
["Indicador","Código SNIS","Frequência de atualização","Expresso em"]
[null,null,null,null,{"$f":"A2","v":2017},{"$f":"E4+1","v":2018},{"$f":"F4+1","v":2019},{"$f":"G4+1","v":2020},{"$f":"H4+1","v":2021}]
["Índice de atendimento total de água"," IN055","Anual","%",{"$f":"IFERROR(AE!H4/AE!H5,\"\")","v":0.97515812182326311},{"$f":"IFERROR(AE!I4/AE!I5,\"\")","v":0.97514624505928849},{"$f":"IFERROR(AE!J4/AE!J5,\"\")","v":0.99046117099461051},{"$f":"IFERROR(AE!K4/AE!K5,\"\")","v":1},{"$f":"IFERROR(AE!L4/AE!L5,\"\")","v":""}]
["Índice de atendimento urbano de água"," IN023","Anual","%",{"$f":"IFERROR(AE!H6/AE!H7,\"\")","v":1},{"$f":"IFERROR(AE!I6/AE!I7,\"\")","v":1},{"$f":"IFERROR(AE!J6/AE!J7,\"\")","v":1},{"$f":"IFERROR(AE!K6/AE!K7,\"\")","v":1},{"$f":"IFERROR(AE!L6/AE!L7,\"\")","v":""}]
["Densidade de economias de água por ligação"," IN001","Anual","Economia/ligação",{"$f":"IFERROR(AE!H9/AE!H10,\"\")","v":2.985787576261786},{"$f":"IFERROR(AE!I9/AE!I10,\"\")","v":3.1050122582402615},{"$f":"IFERROR(AE!J9/AE!J10,\"\")","v":3.2051505599892698},{"$f":"IFERROR(AE!K9/AE!K10,\"\")","v":3.2899705978438418},{"$f":"IFERROR(AE!L8/AE!L9,\"\")","v":""}]
["Participação das economias residenciais de água no total das economias de água","IN043","Anual","%",{"$f":"IFERROR(AE!H11/AE!H9,\"\")","v":0.89697448162165927},{"$f":"IFERROR(AE!I11/AE!I9,\"\")","v":0.89792516559196389},{"$f":"IFERROR(AE!J11/AE!J9,\"\")","v":0.89598677602946097},{"$f":"IFERROR(AE!K11/AE!K9,\"\")","v":0.89937044466069549},{"$f":"IFERROR(AE!L10/AE!L8,\"\")","v":""}]
["Índice de macromedição ","IN011","Anual","%",{"$f":"IFERROR((AE!H12-AE!H13)/(AE!H14+AE!H21-AE!H13),\"\")","v":0},{"$f":"IFERROR((AE!I12-AE!I13)/(AE!I14+AE!I21-AE!I13),\"\")","v":0},{"$f":"IFERROR((AE!J12-AE!J13)/(AE!J14+AE!J21-AE!J13),\"\")","v":0},{"$f":"IFERROR((AE!K12-AE!K13)/(AE!K14+AE!K21-AE!K13),\"\")","v":0},{"$f":"IFERROR((AE!L11-AE!L12)/AE!L13,\"\")","v":""}]
["Índice de hidrometração","IN009","Anual","%",{"$f":"IFERROR(AE!H15/AE!H10,\"\")","v":1},{"$f":"IFERROR(AE!I15/AE!I10,\"\")","v":1},{"$f":"IFERROR(AE!J15/AE!J10,\"\")","v":1},{"$f":"IFERROR(AE!K15/AE!K10,\"\")","v":1},{"$f":"IFERROR(AE!L14/AE!L9,\"\")","v":""}]
["Índice de micromedição relativo ao volume disponibilizado"," IN010","Anual","%",{"$f":"IFERROR(AE!H16/(AE!H14-AE!H17),\"\")","v":0.76937693404262708},{"$f":"IFERROR(AE!I16/(AE!I14-AE!I17),\"\")","v":0.78464604315077568},{"$f":"IFERROR(AE!J16/(AE!J14-AE!J17),\"\")","v":0.8759320669985009},{"$f":"IFERROR(AE!K16/(AE!K14-AE!K17),\"\")","v":0.80462335404602203},{"$f":"IFERROR(AE!L15/(AE!L13-AE!L16),\"\")","v":""}]
["Índice de micromedição relativo ao consumo ","IN044","Anual","%",{"$f":"IFERROR(AE!H16/(AE!H18-AE!H13),\"\")","v":1},{"$f":"IFERROR(AE!I16/(AE!I18-AE!I13),\"\")","v":1},{"$f":"IFERROR(AE!J16/(AE!J18-AE!J13),\"\")","v":1},{"$f":"IFERROR(AE!K16/(AE!K18-AE!K13),\"\")","v":1},{"$f":"IFERROR(AE!L15/(AE!L17-AE!L12),\"\")","v":""}]
["Índice de fluoretação de água "," IN057","Anual","%",{"$f":"IFERROR(AE!H19/(AE!H20+AE!H21),\"\")","v":1},{"$f":"IFERROR(AE!I19/(AE!I20+AE!I21),\"\")","v":1},{"$f":"IFERROR(AE!J19/(AE!J20+AE!J21),\"\")","v":1},{"$f":"IFERROR(AE!K19/(AE!K20+AE!K21),\"\")","v":1},{"$f":"IFERROR(AE!L18/(AE!L19+AE!L20),\"\")","v":""}]
["Índice de consumo de água ","IN052","Anual","%",{"$f":"IFERROR(AE!H18/((AE!H20+AE!H21)-AE!H17),\"\")","v":0.76937693404262708},{"$f":"IFERROR(AE!I18/((AE!I20+AE!I21)-AE!I17),\"\")","v":0.78464604315077568},{"$f":"IFERROR(AE!J18/((AE!J20+AE!J21)-AE!J17),\"\")","v":0.8759320669985009},{"$f":"IFERROR(AE!K18/((AE!K20+AE!K21)-AE!K17),\"\")","v":0.80462335404602203},{"$f":"IFERROR(AE!L17/((AE!L19+AE!L20)-AE!L16),\"\")","v":""}]
["Volume de água disponibilizado por economia ","IN025","Anual","(m³/mês)/economia",{"$f":"IFERROR(((AE!H14*1000)/12)/AE!H9,\"\")","v":11.130331808577333},{"$f":"IFERROR(((AE!I14*1000)/12)/AE!I9,\"\")","v":10.739973095875188},{"$f":"IFERROR(((AE!J14*1000)/12)/AE!J9,\"\")","v":10.747475170181898},{"$f":"IFERROR(((AE!K14*1000)/12)/AE!K9,\"\")","v":11.271489947636354},{"$f":"IFERROR(((AE!L13*1000)/12)/AE!L8,\"\")","v":""}]
["Consumo médio de água por economia ","IN053","Anual","(m³/mês)/economia",{"$f":"IFERROR((((AE!H18*1000)/12)-((AE!H13*1000)*12))/AE!H9,\"\")","v":8.563420561760358},{"$f":"IFERROR((((AE!I18*1000)/12)-((AE!I13*1000)*12))/AE!I9,\"\")","v":8.4270773932242555},{"$f":"IFERROR((((AE!J18*1000)/12)-((AE!J13*1000)*12))/AE!J9,\"\")","v":9.4140581408324966},{"$f":"IFERROR((((AE!K18*1000)/12)-((AE!K13*1000)*12))/AE!K9,\"\")","v":9.069304046763186},{"$f":"IFERROR((((AE!L17*1000)/12)-((AE!L12*1000)*12))/AE!L8,\"\")","v":""}]
["Consumo micromedido por economia ","IN014","Anual","(m³/mês)/economia",{"$f":"IFERROR(((AE!H16*1000)/12)/AE!H22,\"\")","v":8.563420561760358},{"$f":"IFERROR(((AE!I16*1000)/12)/AE!I22,\"\")","v":8.4270773932242555},{"$f":"IFERROR(((AE!J16*1000)/12)/AE!J22,\"\")","v":9.4140581408324966},{"$f":"IFERROR(((AE!K16*1000)/12)/AE!K22,\"\")","v":9.069304046763186},{"$f":"IFERROR(((AE!L15*1000)/12)/AE!L21,\"\")","v":""}]
["Consumo de água faturado por economia "," IN017","Anual","(m³/mês)/economia",{"$f":"IFERROR((((AE!H23*1000)/12)-((AE!H13)*1000)/12)/AE!H9,\"\")","v":8.563420561760358},{"$f":"IFERROR((((AE!I23*1000)/12)-((AE!I13)*1000)/12)/AE!I9,\"\")","v":8.4270773932242555},{"$f":"IFERROR((((AE!J23*1000)/12)-((AE!J13)*1000)/12)/AE!J9,\"\")","v":9.4140581408324966},{"$f":"IFERROR((((AE!K23*1000)/12)-((AE!K13)*1000)/12)/AE!K9,\"\")","v":9.069304046763186},{"$f":"IFERROR((((AE!L22*1000)/12)-((AE!L12)*1000)/12)/AE!L8,\"\")","v":""}]
["Consumo médio per capita de água"," IN022","Anual","L/(hab.dia)",{"$f":"IFERROR((((((AE!H18*1000)/365))-(((AE!H13)*1000)/365))/AE!H5)*1000,\"\")","v":198.16233683804714},{"$f":"IFERROR((((((AE!I18*1000)/365))-(((AE!I13)*1000)/365))/AE!I5)*1000,\"\")","v":199.71584817802804},{"$f":"IFERROR((((((AE!J18*1000)/365))-(((AE!J13)*1000)/365))/AE!J5)*1000,\"\")","v":226.47876074714918},{"$f":"IFERROR((((((AE!K18*1000)/365))-(((AE!K13)*1000)/365))/AE!K5)*1000,\"\")","v":222.96026953780907},{"$f":"IFERROR((((((AE!L17*1000)/365))-(((AE!L12)*1000)/365))/AE!L4)*1000,\"\")","v":""}]
["Índice de consumo de energia elétrica em sistemas de abastecimento de água ","IN058","Anual","kWh/m³",{"$f":"IFERROR(AE!H24/(AE!H20+AE!H21),\"\")","v":0.20669309133896599},{"$f":"IFERROR(AE!I24/(AE!I20+AE!I21),\"\")","v":0.24594036221056681},{"$f":"IFERROR(AE!J24/(AE!J20+AE!J21),\"\")","v":0.29154309410550772},{"$f":"IFERROR(AE!K24/(AE!K20+AE!K21),\"\")","v":0.27920577214476172},{"$f":"IFERROR(AE!L23/(AE!L19+AE!L20),\"\")","v":""}]
["Extensão da rede de água por ligação ","IN020","Anual","m/lig",{"$f":"IFERROR((AE!H25*1000)/AE!H26,\"\")","v":19.646422628951747},{"$f":"IFERROR((AE!I25*1000)/AE!I26,\"\")","v":19.371424679923727},{"$f":"IFERROR((AE!J25*1000)/AE!J26,\"\")","v":19.527194688485011},{"$f":"IFERROR((AE!K25*1000)/AE!K26,\"\")","v":19.31227613155324},{"$f":"IFERROR((AE!L24*1000)/AE!L25,\"\")","v":""}]
["Índice de faturamento de água","IN028","Anual","%",{"$f":"IFERROR(AE!H23/((AE!H20+AE!H21)-AE!H17),\"\")","v":0.76937693404262708},{"$f":"IFERROR(AE!I23/((AE!I20+AE!I21)-AE!I17),\"\")","v":0.78464604315077568},{"$f":"IFERROR(AE!J23/((AE!J20+AE!J21)-AE!J17),\"\")","v":0.8759320669985009},{"$f":"IFERROR(AE!K23/((AE!K20+AE!K21)-AE!K17),\"\")","v":0.80462335404602203},{"$f":"IFERROR(AE!L22/((AE!L19+AE!L20)-AE!L16),\"\")","v":""}]
["Índice de perdas faturamento"," IN013","Anual","%",{"$f":"IFERROR(((AE!H20+AE!H21-AE!H17)-AE!H23)/(AE!H20+AE!H21-AE!H17),\"\")","v":0.23062306595737286},{"$f":"IFERROR(((AE!I20+AE!I21-AE!I17)-AE!I23)/(AE!I20+AE!I21-AE!I17),\"\")","v":0.21535395684922426},{"$f":"IFERROR(((AE!J20+AE!J21-AE!J17)-AE!J23)/(AE!J20+AE!J21-AE!J17),\"\")","v":0.12406793300149913},{"$f":"IFERROR(((AE!K20+AE!K21-AE!K17)-AE!K23)/(AE!K20+AE!K21-AE!K17),\"\")","v":0.19537664595397794},{"$f":"IFERROR(((AE!L19+AE!L20-AE!L16)-AE!L22)/(AE!L19+AE!L20-AE!L16),\"\")","v":""}]
["Índice de perdas na distribuição "," IN049","Anual","%",{"$f":"IFERROR(((AE!H20+AE!H21-AE!H17)-AE!H18)/(AE!H20+AE!H21-AE!H17),\"\")","v":0.23062306595737286},{"$f":"IFERROR(((AE!I20+AE!I21-AE!I17)-AE!I18)/(AE!I20+AE!I21-AE!I17),\"\")","v":0.21535395684922426},{"$f":"IFERROR(((AE!J20+AE!J21-AE!J17)-AE!J18)/(AE!J20+AE!J21-AE!J17),\"\")","v":0.12406793300149913},{"$f":"IFERROR(((AE!K20+AE!K21-AE!K17)-AE!K18)/(AE!K20+AE!K21-AE!K17),\"\")","v":0.19537664595397794},{"$f":"IFERROR(((AE!L19+AE!L20-AE!L16)-AE!L17)/(AE!L19+AE!L20-AE!L16),\"\")","v":""}]
["Índice bruto de perdas lineares","IN050","Anual","m³/dia/Km",{"$f":"IFERROR((((((AE!H20+AE!H21)-(AE!H17)-(AE!H18))*1000))/365)/AE!H25,\"\")","v":12.825510447755423},{"$f":"IFERROR((((((AE!I20+AE!I21)-(AE!I17)-(AE!I18))*1000))/365)/AE!I25,\"\")","v":12.188385661345984},{"$f":"IFERROR((((((AE!J20+AE!J21)-(AE!J17)-(AE!J18))*1000))/365)/AE!J25,\"\")","v":7.1955328078827945},{"$f":"IFERROR((((((AE!K20+AE!K21)-(AE!K17)-(AE!K18))*1000))/365)/AE!K25,\"\")","v":12.293751403169525},{"$f":"IFERROR((((((AE!L19+AE!L20)-(AE!L16)-(AE!L17))*1000))/365)/AE!L24,\"\")","v":""}]
["Despesa total com os serviços por m³ faturado "," IN003","Anual","R$/m³",{"$f":"IFERROR((AE!H27/1000)/(AE!H23+AE!H28),\"\")","v":4.926307728502362},{"$f":"IFERROR((AE!I27/1000)/(AE!I23+AE!I28),\"\")","v":6.0303447206105387},{"$f":"IFERROR((AE!J27/1000)/(AE!J23+AE!J28),\"\")","v":5.7756432781028222},{"$f":"IFERROR((AE!K27/1000)/(AE!K23+AE!K28),\"\")","v":5.4561455960194785},{"$f":"IFERROR((AE!L26/1000)/(AE!L22+AE!L27),\"\")","v":""}]
["Despesa de exploração por m³ faturado","IN026","Anual","R$/m³",{"$f":"IFERROR(AE!H29/((AE!H23+AE!H28)*1000),\"\")","v":3.155823182806154},{"$f":"IFERROR(AE!I29/((AE!I23+AE!I28)*1000),\"\")","v":3.3007279020818849},{"$f":"IFERROR(AE!J29/((AE!J23+AE!J28)*1000),\"\")","v":3.0490750119349554},{"$f":"IFERROR(AE!K29/((AE!K23+AE!K28)*1000),\"\")","v":2.5682123639635823},{"$f":"IFERROR(AE!L28/((AE!L22+AE!L27)*1000),\"\")","v":""}]
["Despesa de exploração por economia ","IN027 ","Anual","R$/ano/economia",{"$f":"IFERROR(AE!H29/(AE!H9+AE!H30),\"\")","v":315.02746303391513},{"$f":"IFERROR(AE!I29/(AE!I9+AE!I30),\"\")","v":323.26480341925725},{"$f":"IFERROR(AE!J29/(AE!J9+AE!J30),\"\")","v":314.33157635708613},{"$f":"IFERROR(AE!K29/(AE!K9+AE!K30),\"\")","v":269.90202699094368},{"$f":"IFERROR(AE!L28/(AE!L8+AE!L29),\"\")","v":""}]
["Tarifa média praticada","IN004","Anual","R$/m³",{"$f":"IFERROR(AE!H31/((AE!H23+AE!H28)*1000),\"\")","v":6.8238068009456105},{"$f":"IFERROR(AE!I31/((AE!I23+AE!I28)*1000),\"\")","v":6.7964368312414187},{"$f":"IFERROR(AE!J31/((AE!J23+AE!J28)*1000),\"\")","v":6.5112251388660196},{"$f":"IFERROR(AE!K31/((AE!K23+AE!K28)*1000),\"\")","v":6.5742117573576113},{"$f":"IFERROR(AE!L30/((AE!L22+AE!L27)*1000),\"\")","v":""}]
["Tarifa média de água ","IN005","Anual","R$/m³",{"$f":"IFERROR(AE!H32/((AE!H23-AE!H33-AE!H13)*1000),\"\")","v":6.8413281310373035},{"$f":"IFERROR(AE!I32/((AE!I23-AE!I33-AE!I13)*1000),\"\")","v":6.8154815005996934},{"$f":"IFERROR(AE!J32/((AE!J23-AE!J33-AE!J13)*1000),\"\")","v":6.3446996869790704},{"$f":"IFERROR(AE!K32/((AE!K23-AE!K33-AE!K13)*1000),\"\")","v":6.6086885766423356},{"$f":"IFERROR(AE!L31/((AE!L22-AE!L32-AE!L12)*1000),\"\")","v":""}]
["Indicador de desempenho financeiro "," IN012","Anual","%",{"$f":"IFERROR(AE!H31/AE!H27,\"\")","v":1.3851767240330526},{"$f":"IFERROR(AE!I31/AE!I27,\"\")","v":1.1270395219716922},{"$f":"IFERROR(AE!J31/AE!J27,\"\")","v":1.1273592958124694},{"$f":"IFERROR(AE!K31/AE!K27,\"\")","v":1.204918681450476},{"$f":"IFERROR(AE!L30/AE!L26,\"\")","v":""}]
["Índice de evasão de receitas ","IN029","Anual","%",{"$f":"IFERROR((AE!H34-AE!H35)/AE!H34,\"\")","v":4.0594385369621934E-2},{"$f":"IFERROR((AE!I34-AE!I35)/AE!I34,\"\")","v":4.2878584277280168E-2},{"$f":"IFERROR((AE!J34-AE!J35)/AE!J34,\"\")","v":8.2075659568164025E-2},{"$f":"IFERROR((AE!K34-AE!K35)/AE!K34,\"\")","v":8.3303514577973595E-2},{"$f":"IFERROR((AE!L33-AE!L34)/AE!L33,\"\")","v":""}]
["Incidência da despesas de pessoal e de serviço de terceiros nas despesas totais com os serviços","IN007","Anual","%",{"$f":"IFERROR((AE!H36+AE!H37)/AE!H27,\"\")","v":0.37025043286819914},{"$f":"IFERROR((AE!I36+AE!I37)/AE!I27,\"\")","v":0.29515365099299939},{"$f":"IFERROR((AE!J36+AE!J37)/AE!J27,\"\")","v":0.33454876946973128},{"$f":"IFERROR((AE!K36+AE!K37)/AE!K27,\"\")","v":0.3079287188706103},{"$f":"IFERROR((AE!L35+AE!L36)/AE!L26,\"\")","v":""}]
["Despesa média anual por empregado ","IN008","Anual","R$/empregados",{"$f":"IFERROR(AE!H36/AE!H38,\"\")","v":50941.915119047619},{"$f":"IFERROR(AE!I36/AE!I38,\"\")","v":54522.493670886077},{"$f":"IFERROR(AE!J36/AE!J38,\"\")","v":57122.791609195403},{"$f":"IFERROR(AE!K36/AE!K38,\"\")","v":64837.336144578316},{"$f":"IFERROR(AE!L35/AE!L37,\"\")","v":""}]
["Margem da despesa de exploração ","IN030","Anual","%",{"$f":"IFERROR(AE!H29/AE!H31,\"\")","v":0.46247252814496964},{"$f":"IFERROR(AE!I28/AE!I30,\"\")","v":9.305137170521785E-2},{"$f":"IFERROR(AE!J28/AE!J30,\"\")","v":8.9243833044906587E-2},{"$f":"IFERROR(AE!K28/AE!K30,\"\")","v":0.1003314022616307},{"$f":"IFERROR(AE!L28/AE!L30,\"\")","v":""}]
["Margem da despesa com pessoal próprio ","IN031","Anual","%",{"$f":"IFERROR(AE!H36/AE!H31,\"\")","v":8.9143115117465407E-2},{"$f":"IFERROR(AE!I36/AE!I31,\"\")","v":8.5893190136396055E-2},{"$f":"IFERROR(AE!J36/AE!J31,\"\")","v":9.0415254426872246E-2},{"$f":"IFERROR(AE!K36/AE!K31,\"\")","v":8.6658591478814828E-2},{"$f":"IFERROR(AE!L35/AE!L30,\"\")","v":""}]
["Margem da despesa com pessoal próprio total (equivalente)","IN032 ","Anual","%",{"$f":"IFERROR((AE!H36+AE!H37)/AE!H31,\"\")","v":0.26729472596838433},{"$f":"IFERROR((AE!I36+AE!I37)/AE!I31,\"\")","v":0.26188402912139641},{"$f":"IFERROR((AE!J36+AE!J37)/AE!J31,\"\")","v":0.29675434505432224},{"$f":"IFERROR((AE!K36+AE!K37)/AE!K31,\"\")","v":0.2555597515509736},{"$f":"IFERROR((AE!L35+AE!L36)/AE!L30,\"\")","v":""}]
["Margem do serviço da divida ","IN033","Anual","%",{"$f":"IFERROR((AE!H39+AE!H40)/AE!H31,\"\")","v":0.10241751557645376},{"$f":"IFERROR((AE!I39+AE!I40)/AE!I31,\"\")","v":0.20019667585624681},{"$f":"IFERROR((AE!J39+AE!J40)/AE!J31,\"\")","v":0.28524167045974369},{"$f":"IFERROR((AE!K39+AE!K40)/AE!K31,\"\")","v":0.28469126629976182},{"$f":"IFERROR((AE!L38+AE!L39)/AE!L30,\"\")","v":""}]
["Margem das outras despesas de exploração ","IN034","Anual","%",{"$f":"IFERROR(AE!H41/AE!H31,\"\")","v":0.14151747172911275},{"$f":"IFERROR(AE!I41/AE!I31,\"\")","v":0.16375233908089823},{"$f":"IFERROR(AE!J41/AE!J31,\"\")","v":0.10905501820617131},{"$f":"IFERROR(AE!K41/AE!K31,\"\")","v":7.1778375108278947E-2},{"$f":"IFERROR(AE!L40/AE!L30,\"\")","v":""}]
["Participação da despesa com pessoal próprio nas despesas de exploração","IN035","Anual","%",{"$f":"IFERROR(AE!H36/AE!H29,\"\")","v":0.19275331980264571},{"$f":"IFERROR(AE!I36/AE!I29,\"\")","v":0.17686027394976167},{"$f":"IFERROR(AE!J36/AE!J29,\"\")","v":0.19307956519823941},{"$f":"IFERROR(AE!K36/AE!K29,\"\")","v":0.22183209572935192},{"$f":"IFERROR(AE!L35/AE!L28,\"\")","v":""}]
["Participação da despesa com pessoal total (equivalente) nas despesas de exploração [percentual]","IN036 ","Anual","%",{"$f":"IFERROR((AE!H36+AE!H37)/AE!H29,\"\")","v":0.57796887317941703},{"$f":"IFERROR((AE!I36+AE!I37)/AE!I29,\"\")","v":0.53923810560450236},{"$f":"IFERROR((AE!J36+AE!J37)/AE!J29,\"\")","v":0.63371164829402482},{"$f":"IFERROR((AE!K36+AE!K37)/AE!K29,\"\")","v":0.6541919768507215},{"$f":"IFERROR((AE!L35+AE!L36)/AE!L28,\"\")","v":""}]
["Participação da despesa com energia elétrica nas despesas de exploração ","IN037","Anual","%",{"$f":"IFERROR(AE!H43/AE!H29,\"\")","v":5.4050863669670206E-2},{"$f":"IFERROR(AE!I43/AE!I29,\"\")","v":5.7341759603507902E-2},{"$f":"IFERROR(AE!J43/AE!J29,\"\")","v":7.0516462164727123E-2},{"$f":"IFERROR(AE!K43/AE!K29,\"\")","v":8.1213701530806134E-2},{"$f":"IFERROR(AE!L42/AE!L28,\"\")","v":""}]
["Participação da despesa com produtos químicos nas despesas de exploração","IN038","Anual","%",{"$f":"IFERROR(AE!H42/AE!H29,\"\")","v":5.7275255891925968E-2},{"$f":"IFERROR(AE!I42/AE!I29,\"\")","v":6.4318932819613789E-2},{"$f":"IFERROR(AE!J42/AE!J29,\"\")","v":5.923496575880409E-2},{"$f":"IFERROR(AE!K42/AE!K29,\"\")","v":7.6881392158944434E-2},{"$f":"IFERROR(AE!L41/AE!L28,\"\")","v":""}]
["Participação das outras despesas na despesa de exploração","IN039","Anual","%",{"$f":"IFERROR(AE!H41/AE!H29,\"\")","v":0.3060018987435979},{"$f":"IFERROR(AE!I41/AE!I29,\"\")","v":0.33717787759160173},{"$f":"IFERROR(AE!J41/AE!J29,\"\")","v":0.23288432501137232},{"$f":"IFERROR(AE!K41/AE!K29,\"\")","v":0.18374112833589792},{"$f":"IFERROR(AE!L40/AE!L28,\"\")","v":""}]
["Participação da receita operacional direta de água na receita operacional total","IN040","Anual","%",{"$f":"IFERROR((AE!H32+AE!H44)/AE!H34,\"\")","v":0.61784278259852721},{"$f":"IFERROR((AE!I32+AE!I44)/AE!I34,\"\")","v":0.61686511567333413},{"$f":"IFERROR((AE!J32+AE!J44)/AE!J34,\"\")","v":0.60448975770985658},{"$f":"IFERROR((AE!K32+AE!K44)/AE!K34,\"\")","v":0.57372785602583376},{"$f":"IFERROR((AE!L31+AE!L43)/AE!L33,\"\")","v":""}]
["Participação da receita operacional direta de esgoto na receita operacional total ","IN041","Anual","%",{"$f":"IFERROR((AE!H45+AE!H46)/AE!H34,\"\")","v":0.36171749237571754},{"$f":"IFERROR((AE!I45+AE!I46)/AE!I34,\"\")","v":0.36753535670652926},{"$f":"IFERROR((AE!J45+AE!J46)/AE!J34,\"\")","v":0.36546508572839304},{"$f":"IFERROR((AE!K45+AE!K46)/AE!K34,\"\")","v":0.41006059758309898},{"$f":"IFERROR((AE!L44+AE!L45)/AE!L33,\"\")","v":""}]
["Participação da receita operacional indireta na receita operacional total ","IN042 ","Anual","%",{"$f":"IFERROR((AE!H34-AE!H31)/AE!H34,\"\")","v":2.0439725025755261E-2},{"$f":"IFERROR((AE!I34-AE!I31)/AE!I34,\"\")","v":1.559952762013659E-2},{"$f":"IFERROR((AE!J34-AE!J31)/AE!J34,\"\")","v":3.0045156561750296E-2},{"$f":"IFERROR((AE!K34-AE!K31)/AE!K34,\"\")","v":1.6211546391067262E-2},{"$f":"IFERROR((AE!L33-AE!L30)/AE!L33,\"\")","v":""}]
["Dias de faturamento comprometidos com contas a receber","IN054","Anual","dias",{"$f":"IFERROR((AE!H47*360)/AE!H31,\"\")","v":63.136656650174487},{"$f":"IFERROR((AE!I47*360)/AE!I31,\"\")","v":68.198759529719169},{"$f":"IFERROR((AE!J47*360)/AE!J31,\"\")","v":74.316536943068016},{"$f":"IFERROR((AE!K47*360)/AE!K31,\"\")","v":76.311968794058174},{"$f":"IFERROR((AE!L46*360)/AE!L30,\"\")","v":""}]
["Quantidade equivalente de pessoal total ","IN018","Anual","funcionários",{"$f":"IFERROR(AE!H38+((AE!H37*AE!H38)/AE!H36),\"\")","v":251.87314748601622},{"$f":"IFERROR(AE!I38+((AE!I37*AE!I38)/AE!I36),\"\")","v":240.8670380939048},{"$f":"IFERROR(AE!J38+((AE!J37*AE!J38)/AE!J36),\"\")","v":285.54504639045513},{"$f":"IFERROR(AE!K38+((AE!K37*AE!K38)/AE!K36),\"\")","v":244.7704147593526},{"$f":"IFERROR(AE!L37+((AE!L36*AE!L37)/AE!L35),\"\")","v":""}]
["Índice de produtividade: economias ativas por pessoal total (equivalente) ","IN019","Anual","economias./empregado.equivalente",{"$f":"IFERROR((AE!H9+AE!H30)/'Indicadores - Água e esgoto'!E49,\"\")","v":279.7836954966088},{"$f":"IFERROR((AE!I9+AE!I30)/'Indicadores - Água e esgoto'!F49,\"\")","v":312.77837181951236},{"$f":"IFERROR((AE!J9+AE!J30)/'Indicadores - Água e esgoto'!G49,\"\")","v":286.76736310119776},{"$f":"IFERROR((AE!K9+AE!K30)/'Indicadores - Água e esgoto'!H49,\"\")","v":367.20941167815556},{"$f":"IFERROR((AE!L8+AE!L29)/'Indicadores - Água e esgoto'!I49,\"\")","v":""}]
["Índice de produtividade de pessoal total (equivalente) ","IN102","Anual","ligações/empregados",{"$f":"IFERROR((AE!H10+AE!H48)/'Indicadores - Água e esgoto'!E49,\"\")","v":114.53384486570414},{"$f":"IFERROR((AE!I10+AE!I48)/'Indicadores - Água e esgoto'!F49,\"\")","v":121.92618895637578},{"$f":"IFERROR((AE!J10+AE!J48)/'Indicadores - Água e esgoto'!G49,\"\")","v":104.43886306898601},{"$f":"IFERROR((AE!K10+AE!K48)/'Indicadores - Água e esgoto'!H49,\"\")","v":125.05596327928109},{"$f":"IFERROR((AE!L9+AE!L47)/'Indicadores - Água e esgoto'!I49,\"\")","v":""}]
["Índice de produtividade: empregados próprios por 1000 ligações de água + esgoto ","IN048","Anual","empregados/mil lig.",{"$f":"IFERROR(AE!H38/((AE!H10+AE!H48)/1000),\"\")","v":2.9118136439267888},{"$f":"IFERROR(AE!I38/((AE!I10+AE!I48)/1000),\"\")","v":2.6900027240533917},{"$f":"IFERROR(AE!J38/((AE!J10+AE!J48)/1000),\"\")","v":2.9173093689222722},{"$f":"IFERROR(AE!K38/((AE!K10+AE!K48)/1000),\"\")","v":2.7115321790264622},{"$f":"IFERROR(AE!L37/((AE!L9+AE!L47)/1000),\"\")","v":""}]
["Índice de produtividade: economias ativas por pessoal próprio ","IN002","Anual","economia/empregados",{"$f":"IFERROR((AE!H9+AE!H30)/AE!H38,\"\")","v":838.92857142857144},{"$f":"IFERROR((AE!I9+AE!I30)/AE!I38,\"\")","v":953.64556962025313},{"$f":"IFERROR((AE!J9+AE!J30)/AE!J38,\"\")","v":941.20689655172418},{"$f":"IFERROR((AE!K9+AE!K30)/AE!K38,\"\")","v":1082.9156626506024},{"$f":"IFERROR((AE!L8+AE!L29)/AE!L37,\"\")","v":""}]
["Índice de produtividade: empregados próprios por 1000 ligações de água ","IN045","Anual","empregados/mil lig",{"$f":"IFERROR((AE!H38/(AE!H10/1000)),\"\")","v":5.8236272878535775},{"$f":"IFERROR((AE!I38/(AE!I10/1000)),\"\")","v":5.3800054481067834},{"$f":"IFERROR((AE!J38/(AE!J10/1000)),\"\")","v":5.8346187378445444},{"$f":"IFERROR((AE!K38/(AE!K10/1000)),\"\")","v":5.4230643580529243},{"$f":"IFERROR((AE!L37/(AE!L9/1000)),\"\")","v":""}]
["Índice de suficiência de caixa ","IN101","Anual","%",{"$f":"IFERROR(AE!H35/(AE!H29+AE!H49+AE!H50),\"\")","v":1.7271822656142464},{"$f":"IFERROR(AE!I35/(AE!I29+AE!I49+AE!I50),\"\")","v":1.415700037093832},{"$f":"IFERROR(AE!J35/(AE!J29+AE!J49+AE!J50),\"\")","v":1.253069203682591},{"$f":"IFERROR(AE!K35/(AE!K29+AE!K49+AE!K50),\"\")","v":1.3765888804730559},{"$f":"IFERROR(AE!L34/(AE!L28+AE!L48+AE!L49),\"\")","v":""}]
["Economias atingidas por paralisações ","IN071","Anual","economias/paralisação",{"$f":"IFERROR(AE!H51/AE!H52,\"\")","v":""},{"$f":"IFERROR(AE!I50/AE!I51,\"\")","v":""},{"$f":"IFERROR(AE!J50/AE!J51,\"\")","v":""},{"$f":"IFERROR(AE!K50/AE!K51,\"\")","v":2.0001920202607324},{"$f":"IFERROR(AE!L50/AE!L51,\"\")","v":""}]
["Duração média das paralisações ","IN072","Anual","horas/paralisação",{"$f":"IFERROR(AE!H52/AE!H51,\"\")","v":""}]
["Duração média dos serviços executados ","IN083 ","Anual","hora/serviço",{"$f":"IFERROR(AE!H54/AE!H55,\"\")","v":0.16342052447012637},{"$f":"IFERROR(AE!I54/AE!I55,\"\")","v":0.17993189045517111},{"$f":"IFERROR(AE!J54/AE!J55,\"\")","v":0.1938247480504442},{"$f":"IFERROR(AE!K54/AE!K55,\"\")","v":0.3459877578400134},{"$f":"IFERROR(AE!L53/AE!L54,\"\")","v":""}]
["Índice de conformidade da quantidade de amostras - cloro residual ","IN079","Anual","%",{"$f":"IFERROR(AE!H56/AE!H57,\"\")","v":1},{"$f":"IFERROR(AE!I56/AE!I57,\"\")","v":1.0580842391304348},{"$f":"IFERROR(AE!J56/AE!J57,\"\")","v":1.0256177737474497},{"$f":"IFERROR(AE!K56/AE!K57,\"\")","v":1.1620947630922693},{"$f":"IFERROR(AE!L55/AE!L56,\"\")","v":""}]
["Incidência das análises de cloro residual fora do padrão","IN075","Anual","%",{"$f":"IFERROR(AE!H58/AE!H56,\"\")","v":7.019927536231884E-3},{"$f":"IFERROR(AE!I58/AE!I56,\"\")","v":1.9261637239165329E-3},{"$f":"IFERROR(AE!J58/AE!J56,\"\")","v":3.0393457117595048E-3},{"$f":"IFERROR(AE!K58/AE!K56,\"\")","v":3.9016777214202108E-4},{"$f":"IFERROR(AE!L57/AE!L55,\"\")","v":""}]
["índice de conformidade da quantidade de amostras - turbidez","IN080 ","Anual","%",{"$f":"IFERROR(AE!H59/AE!H60,\"\")","v":1},{"$f":"IFERROR(AE!I59/AE!I60,\"\")","v":1.0580842391304348},{"$f":"IFERROR(AE!J59/AE!J60,\"\")","v":1.0256177737474497},{"$f":"IFERROR(AE!K59/AE!K60,\"\")","v":1.1620947630922693},{"$f":"IFERROR(AE!L58/AE!L59,\"\")","v":""}]
["Incidência das análises de turbidez fora do padrão ","IN076","Anual","%",{"$f":"IFERROR(AE!H61/AE!H59,\"\")","v":4.755434782608696E-3},{"$f":"IFERROR(AE!I61/AE!I59,\"\")","v":5.8855002675227397E-4},{"$f":"IFERROR(AE!J61/AE!J59,\"\")","v":1.5473032714412025E-3},{"$f":"IFERROR(AE!K61/AE!K59,\"\")","v":8.7787748731954745E-4},{"$f":"IFERROR(AE!L60/AE!L58,\"\")","v":""}]
["Índice de conformidade da quantidade de amostras - coliformes totais ","IN085","Anual","%",{"$f":"IFERROR(AE!H62/AE!H63,\"\")","v":1.0666666666666667},{"$f":"IFERROR(AE!I62/AE!I63,\"\")","v":1.0666666666666667},{"$f":"IFERROR(AE!J62/AE!J63,\"\")","v":1.0666666666666667},{"$f":"IFERROR(AE!K62/AE!K63,\"\")","v":1.0666666666666667},{"$f":"IFERROR(AE!L61/AE!L62,\"\")","v":""}]
["Incidência das análises de coliformes totais fora do padrão ","IN084","Anual","%",{"$f":"IFERROR(AE!H64/AE!H62,\"\")","v":0},{"$f":"IFERROR(AE!I64/AE!I62,\"\")","v":0},{"$f":"IFERROR(AE!J64/AE!J62,\"\")","v":0},{"$f":"IFERROR(AE!K64/AE!K62,\"\")","v":0},{"$f":"IFERROR(AE!L63/AE!L61,\"\")","v":""}]
["Investimentos realizados em abastecimento de água  pelo prestados de serviço ","FN023","Anual","R$/ano",{"$f":"IFERROR(AE!H65,\"\")","v":2148129.41},{"$f":"IFERROR(AE!I65,\"\")","v":649989.32999999996},{"$f":"IFERROR(AE!J65,\"\")","v":11259907.65},{"$f":"IFERROR(AE!K65,\"\")","v":2604610.2599999998},{"$f":"IFERROR(AE!L65,\"\")","v":0}]
["Investimentos realizados em esgotamento sanitário  pelo prestados de serviço ","FN024","Anual","R$/ano",{"$f":"IFERROR(AE!H66,\"\")","v":10200207.140000001},{"$f":"IFERROR(AE!I66,\"\")","v":525351.21},{"$f":"IFERROR(AE!J66,\"\")","v":37168060.789999999},{"$f":"IFERROR(AE!K66,\"\")","v":16853968.469999999},{"$f":"IFERROR(AE!L65,\"\")","v":0}]
["Outros investimentos realizados pelo prestador de serviços","FN025","Anual","R$/ano",{"$f":"AE!H67","v":0},{"$f":"AE!I67","v":0},{"$f":"AE!J67","v":0},{"$f":"AE!K67","v":0},{"$f":"AE!L66","v":0}]
["Investimento com recursos próprios","FN030","Anual","R$/ano",{"$f":"IFERROR(AE!H68,\"\")","v":12348336.550000001},{"$f":"IFERROR(AE!I68,\"\")","v":1175340.54},{"$f":"IFERROR(AE!J68,\"\")","v":0},{"$f":"IFERROR(AE!K68,\"\")","v":0},{"$f":"IFERROR(AE!L67,\"\")","v":0}]
["Investimento com recursos onerosos","FN031","Anual","R$/ano",{"$f":"IFERROR(AE!H69,\"\")","v":0},{"$f":"IFERROR(AE!I69,\"\")","v":0},{"$f":"IFERROR(AE!J69,\"\")","v":48427968.439999998},{"$f":"IFERROR(AE!K69,\"\")","v":19458578.73},{"$f":"IFERROR(AE!L68,\"\")","v":0}]
["Investimento com recursos não onerosos ","FN032","Anual","R$/ano",{"$f":"IFERROR(AE!H70,\"\")","v":0},{"$f":"IFERROR(AE!I70,\"\")","v":0},{"$f":"IFERROR(AE!J70,\"\")","v":0},{"$f":"IFERROR(AE!K70,\"\")","v":0},{"$f":"IFERROR(AE!L69,\"\")","v":0}]
["Investimentos totais","FN033","Anual","R$/ano",{"$f":"IFERROR(AE!H71,\"\")","v":12348336.550000001},{"$f":"IFERROR(AE!I71,\"\")","v":1175340.54},{"$f":"IFERROR(AE!J71,\"\")","v":48427968.439999998},{"$f":"IFERROR(AE!K71,\"\")","v":19458578.73},{"$f":"IFERROR(AE!L70,\"\")","v":0}]
[]
["Índice de Coleta de Esgoto","IN015","Anual","Percentual",{"$f":"((AE!H73)/(AE!H18))*100","v":58.952325216184889},{"$f":"((AE!I73)/(AE!I18))*100","v":60.028325478399111},{"$f":"((AE!J73)/(AE!J18))*100","v":56.354695313947033},{"$f":"((AE!K73)/(AE!K18))*100","v":72.372262773722625}]
["Índice de Tratamento de Esgoto","IN016","Anual","Percentual",{"$f":"((AE!H73)/(AE!H74))*100","v":100},{"$f":"((AE!I73)/(AE!I74))*100","v":100},{"$f":"((AE!J73)/(AE!J74))*100","v":100},{"$f":"((AE!K73)/(AE!K74))*100","v":100}]
["Índice de Atendimento Urbano de Esgoto Referido ao Município Atendido com Água","IN024","Anual","Percentual",{"$f":"((AE!H76)/(AE!H8))*100","v":77.999564248244425},{"$f":"((AE!I76)/(AE!I8))*100","v":77.998638088135152},{"$f":"((AE!J76)/(AE!J8))*100","v":80.74706778250561},{"$f":"((AE!K76)/(AE!K8))*100","v":80.504073707454509}]
["Índice de Esgoto Tratado Referido à Água Consumida","IN046","Anual","Percentual",{"$f":"((AE!H74)/(AE!H18))*100","v":58.952325216184889},{"$f":"((AE!I74)/(AE!I18))*100","v":60.028325478399111},{"$f":"((AE!J74)/(AE!J18))*100","v":56.354695313947033},{"$f":"((AE!K74)/(AE!K18))*100","v":72.372262773722625}]
["Índice de Atendimento Urbano de Esgoto Referido ao Município Atendido com Esgoto","IN047","Anual","Percentual",{"$f":"((AE!H76)/(AE!H8))*100","v":77.999564248244425},{"$f":"((AE!I76)/(AE!I8))*100","v":77.998638088135152},{"$f":"((AE!J76)/(AE!J8))*100","v":80.74706778250561},{"$f":"((AE!K76)/(AE!K8))*100","v":80.504073707454509}]
["Índice de Atendimento Total de Esgoto Referido ao Município Atendido com Água","IN056","Anual","Percentual",{"$f":"((AE!H95)/(AE!H5))*100","v":76.061908575350984},{"$f":"((AE!I95)/(AE!I5))*100","v":76.060079051383397},{"$f":"((AE!J95)/(AE!J5))*100","v":78.740507104360617},{"$f":"((AE!K95)/(AE!K5))*100","v":78.503965071727706}]
["Tarifa Média de Esgoto","IN006","Anual","R$/m³",{"$f":"(((AE!H45)/(AE!H96-AE!H97))/1000)","v":6.7940856151782301},{"$f":"(((AE!I45)/(AE!I96-AE!I97))/1000)","v":6.7647106932782215},{"$f":"(((AE!J45)/(AE!J96-AE!J97))/1000)","v":6.8067203961098928},{"$f":"(((AE!K45)/(AE!K96-AE!K97))/1000)","v":6.5265735905194155}]
["Índice de perdas por ligação","IN051","Anual","l/dia/lig.",{"$f":"IFERROR(((AE!H14+AE!H21-AE!H18-AE!H17)/AE!H10)*(1000000/365),\"\")","v":251.97539868863919},{"$f":"IFERROR(((AE!I14+AE!I21-AE!I18-AE!I17)/AE!I10)*(1000000/365),\"\")","v":236.10639480862605},{"$f":"IFERROR(((AE!J14+AE!J21-AE!J18-AE!J17)/AE!J10)*(1000000/365),\"\")","v":140.50857002690856},{"$f":"IFERROR(((AE!K14+AE!K21-AE!K18-AE!K17)/AE!K10)*(1000000/365),\"\")","v":238.19595172139114}]
["Extensão da rede de esgoto por ligação","IN021","Anual","m/lig.",{"$f":"((AE!H72)/(AE!H75))*1000","v":22.568924983970934},{"$f":"((AE!I72)/(AE!I75))*1000","v":21.175055143372767},{"$f":"((AE!J72)/(AE!J75))*1000","v":25.917194636805657},{"$f":"((AE!K72)/(AE!K75))*1000","v":20.703133903133903}]
["Índice de consumo de energia elétrica em sistemas de esgotamento sanitário","IN059","Anual","kWh/m³",{"$f":"(AE!H77)/(AE!H73)","v":0.33707934074357992},{"$f":"(AE!I77)/(AE!I73)","v":0.32558568063243393},{"$f":"(AE!J77)/(AE!J73)","v":0.32801987780147834},{"$f":"(AE!K77)/(AE!K73)","v":0.29087241553202214}]
["Economias atingidas por intermitências","IN073","Anual","econ./interrup.",{"$f":"IFERROR(AE!H78/AE!H79,\"\")","v":""},{"$f":"IFERROR(AE!I78/AE!I79,\"\")","v":""},{"$f":"IFERROR(AE!J78/AE!J79,\"\")","v":""},{"$f":"IFERROR(AE!K78/AE!K79,\"\")","v":""}]
["Duração média das intermitências","IN074","Anual","horas/interrup.",{"$f":"IFERROR(AE!H80/AE!H79,\"\")","v":""},{"$f":"IFERROR(AE!I80/AE!I79,\"\")","v":""},{"$f":"IFERROR(AE!J80/AE!J79,\"\")","v":""},{"$f":"IFERROR(AE!K80/AE!K79,\"\")","v":""}]
["Duração média dos reparos de extravasamentos de esgotos","IN077","Anual","horas/extrav.",{"$f":"IFERROR(AE!H82/AE!H81,\"\")","v":0.55084745762711862},{"$f":"IFERROR(AE!I82/AE!I81,\"\")","v":1.0658796296296296},{"$f":"IFERROR(AE!J82/AE!J81,\"\")","v":1.202},{"$f":"IFERROR(AE!K82/AE!K81,\"\")","v":1.0172413793103448}]
["Extravasamentos de esgotos por extensão de rede","IN082","Anual","extrav./km",{"$f":"IFERROR(AE!H81/AE!H72,\"\")","v":1.1174242424242424},{"$f":"IFERROR(AE!I81/AE!I72,\"\")","v":2.0454545454545454},{"$f":"IFERROR(AE!J81/AE!J72,\"\")","v":1.5918135304150085},{"$f":"IFERROR(AE!K81/AE!K72,\"\")","v":1.5963009853030221}]
["Índice de despesas por consumo de energia elétrica nos sistemas de água e esgotos","IN060","Anual","R$/kWh",{"$f":"IFERROR((AE!H43/(AE!H24+AE!H77))*(1/1000),\"\")","v":0.58012956033224072},{"$f":"IFERROR((AE!I43/(AE!I24+AE!I77))*(1/1000),\"\")","v":0.5951934356500207},{"$f":"IFERROR((AE!J43/(AE!J24+AE!J77))*(1/1000),\"\")","v":0.64937858047527397},{"$f":"IFERROR((AE!K43/(AE!K24+AE!K77))*(1/1000),\"\")","v":0.64487092698605963}]
["Liquidez corrente","IN061","Anual","-",{"$f":"IFERROR(AE!H83/AE!H84,\"\")","v":3.9198015708970648},{"$f":"IFERROR(AE!I83/AE!I84,\"\")","v":0.26256739489512887},{"$f":"IFERROR(AE!J83/AE!J84,\"\")","v":1.0850016107506097},{"$f":"IFERROR(AE!K83/AE!K84,\"\")","v":0.54071527336597036}]
["Liquidez geral","IN062","Anual","-",{"$f":"IFERROR((AE!H83+AE!H86)/(AE!H85+AE!H84),\"\")","v":0.2187876853231184},{"$f":"IFERROR((AE!I83+AE!I86)/(AE!I85+AE!I84),\"\")","v":9.2352183733350218E-2},{"$f":"IFERROR((AE!J83+AE!J86)/(AE!J85+AE!J84),\"\")","v":0.1687138518676132},{"$f":"IFERROR((AE!K83+AE!K86)/(AE!K85+AE!K84),\"\")","v":0.10193161549846305}]
["Grau de endividamento","IN063","Anual","-",{"$f":"IFERROR((AE!H85+AE!H84+AE!H88)/AE!H87,\"\")","v":0.47285931118919239},{"$f":"IFERROR((AE!I85+AE!I84+AE!I88)/AE!I87,\"\")","v":0.7317762639603318},{"$f":"IFERROR((AE!J85+AE!J84+AE!J88)/AE!J87,\"\")","v":0.81586478268646034},{"$f":"IFERROR((AE!K85+AE!K84+AE!K88)/AE!K87,\"\")","v":0.82357598645656982}]
["Margem operacional com depreciação","IN064","Anual","percentual",{"$f":"IFERROR((AE!H90/AE!H89)*100,\"\")","v":48.98579707778957},{"$f":"IFERROR((AE!I90/AE!I89)*100,\"\")","v":43.459228141808332},{"$f":"IFERROR((AE!J90/AE!J89)*100,\"\")","v":27.288769676007625},{"$f":"IFERROR((AE!K90/AE!K89)*100,\"\")","v":27.796524246312753}]
["Margem operacional sem depreciação","IN068","Anual","percentual",{"$f":"IFERROR((AE!H91/AE!H89)*100,\"\")","v":4.9363317280222025},{"$f":"IFERROR((AE!I91/AE!I89)*100,\"\")","v":8.1641867221546072},{"$f":"IFERROR((AE!J91/AE!J89)*100,\"\")","v":0.63704383426272326},{"$f":"IFERROR((AE!K91/AE!K89)*100,\"\")","v":-9.0996942477385421}]
["Margem líquida com depreciação","IN065","Anual","percentual",{"$f":"IFERROR((AE!H92/AE!H89)*100,\"\")","v":4.9363317280222025},{"$f":"IFERROR((AE!I92/AE!I89)*100,\"\")","v":8.1641867221546072},{"$f":"IFERROR((AE!J92/AE!J89)*100,\"\")","v":0.63704383426272326},{"$f":"IFERROR((AE!K92/AE!K89)*100,\"\")","v":-9.0996942477385421}]
["Margem líquida sem depreciação","IN069","Anual","percentual",{"$f":"IFERROR((AE!H93/AE!H89)*100,\"\")","v":11.201126438658068},{"$f":"IFERROR((AE!I93/AE!I89)*100,\"\")","v":17.09983903262534},{"$f":"IFERROR((AE!J93/AE!J89)*100,\"\")","v":11.975012352650525},{"$f":"IFERROR((AE!K93/AE!K89)*100,\"\")","v":3.5882324984553966}]
["Retorno sobre o patrimônio líquido","IN066","Anual","percentual",{"$f":"IFERROR((AE!H92/(AE!H94-AE!H92))*100,\"\")","v":7.4635154731418352},{"$f":"IFERROR((AE!I92/(AE!I94-AE!I92))*100,\"\")","v":13.605286401256174},{"$f":"IFERROR((AE!J92/(AE!J94-AE!J92))*100,\"\")","v":1.0420876392817966},{"$f":"IFERROR((AE!K92/(AE!K94-AE!K92))*100,\"\")","v":-14.500290308737029}]
["Composição de exigibilidades","IN067","Anual","percentual",{"$f":"IFERROR((AE!H84/(AE!H85+AE!H84))*100,\"\")","v":4.2899198411009438},{"$f":"IFERROR((AE!I84/(AE!I85+AE!I84))*100,\"\")","v":33.866337365165812},{"$f":"IFERROR((AE!J84/(AE!J85+AE!J84))*100,\"\")","v":14.010484167359808},{"$f":"IFERROR((AE!K84/(AE!K85+AE!K84))*100,\"\")","v":16.924721389447587}]
[]
["Indicador de Universalização em Abastecimento de Água (adaptado de Norma de Referência ANA nº 2)","NdS01","Anual","Percentual",{"$f":"IFERROR(((AE!H102+AE!H103)/AE!H108)*100,\"\")","v":100},{"$f":"IFERROR(((AE!I102+AE!I103)/AE!I108)*100,\"\")","v":100},{"$f":"IFERROR(((AE!J102+AE!J103)/AE!J108)*100,\"\")","v":100},{"$f":"IFERROR(((AE!K102+AE!K103)/AE!K108)*100,\"\")","v":100},{"$f":"IFERROR(((AE!L102+AE!L103)/AE!L108)*100,\"\")","v":""}]
["Indicador de Universalização em Coleta de Esgoto (adaptado de Norma de Referência ANA nº 2)","NdS02","Anual","Percentual",{"$f":"IFERROR(((AE!H104+AE!H105)/AE!H108)*100,\"\")","v":63.945120372767285},{"$f":"IFERROR(((AE!I104+AE!I105)/AE!I108)*100,\"\")","v":65.107474352711279},{"$f":"IFERROR(((AE!J104+AE!J105)/AE!J108)*100,\"\")","v":79.617477405945678},{"$f":"IFERROR(((AE!K104+AE!K105)/AE!K108)*100,\"\")","v":78.202976637371364},{"$f":"IFERROR(((AE!L104+AE!L105)/AE!L108)*100,\"\")","v":""}]
["Indicador de Universalização em Tratamento de Esgoto (adaptado de Norma de Referência ANA nº 2)","NdS03","Anual","Percentual",{"$f":"IFERROR(((AE!H106+AE!H107)/AE!H108)*100,\"\")","v":63.945120372767285},{"$f":"IFERROR(((AE!I106+AE!I107)/AE!I108)*100,\"\")","v":65.107474352711279},{"$f":"IFERROR(((AE!J106+AE!J107)/AE!J108)*100,\"\")","v":79.617477405945678},{"$f":"IFERROR(((AE!K106+AE!K107)/AE!K108)*100,\"\")","v":78.202976637371364},{"$f":"IFERROR(((AE!L105+AE!L106)/AE!L107)*100,\"\")","v":""}]

{"sheet":"AE","index":5,"n_rows":150,"n_cols":12,"rows_kept":150,"cut":false,"hidden":true,"merged":[]}
[]
[]
[null,null,null,null,null,null,null,{"$f":"IFERROR('Indicadores - Água e esgoto'!A2,\"\")","v":2017},{"$f":"H3+1","v":2018},{"$f":"I3+1","v":2019},{"$f":"J3+1","v":2020},{"$f":"K3+1","v":2021}]
["AG001","População total atendida com abastecimento de água ",null,null,null,null,3,{"$f":"IFERROR(HLOOKUP(H$3,'Base de Dados - Água e esgoto'!$H$2:$AB$489,$G4,),\"\")","v":59667},{"$f":"IFERROR(HLOOKUP(I$3,'Base de Dados - Água e esgoto'!$H$2:$AB$489,$G4,),\"\")","v":61678},{"$f":"IFERROR(HLOOKUP(J$3,'Base de Dados - Água e esgoto'!$H$2:$AB$489,$G4,),\"\")","v":64689},{"$f":"IFERROR(HLOOKUP(K$3,'Base de Dados - Água e esgoto'!$H$2:$AB$489,$G4,),\"\")","v":67338},{"$f":"IFERROR(HLOOKUP(L$3,'Base de Dados - Água e esgoto'!$H$2:$AB$489,$G4,),\"\")","v":0}]
["GE12a","População residente total, segundo o IBGE ",null,null,null,null,4,{"$f":"IFERROR(HLOOKUP(H$3,'Base de Dados - Água e esgoto'!$H$2:$AB$489,$G5,),\"\")","v":61187},{"$f":"IFERROR(HLOOKUP(I$3,'Base de Dados - Água e esgoto'!$H$2:$AB$489,$G5,),\"\")","v":63250},{"$f":"IFERROR(HLOOKUP(J$3,'Base de Dados - Água e esgoto'!$H$2:$AB$489,$G5,),\"\")","v":65312},{"$f":"IFERROR(HLOOKUP(K$3,'Base de Dados - Água e esgoto'!$H$2:$AB$489,$G5,),\"\")","v":67338},{"$f":"IFERROR(HLOOKUP(L$3,'Base de Dados - Água e esgoto'!$H$2:$AB$489,$G5,),\"\")","v":0}]
["AG026","População urbana atendida com abastecimento de água ",null,null,null,null,5,{"$f":"IFERROR(HLOOKUP(H$3,'Base de Dados - Água e esgoto'!$H$2:$AB$489,$G6,),\"\")","v":59667},{"$f":"IFERROR(HLOOKUP(I$3,'Base de Dados - Água e esgoto'!$H$2:$AB$489,$G6,),\"\")","v":61678},{"$f":"IFERROR(HLOOKUP(J$3,'Base de Dados - Água e esgoto'!$H$2:$AB$489,$G6,),\"\")","v":63689},{"$f":"IFERROR(HLOOKUP(K$3,'Base de Dados - Água e esgoto'!$H$2:$AB$489,$G6,),\"\")","v":65665},{"$f":"IFERROR(HLOOKUP(L$3,'Base de Dados - Água e esgoto'!$H$2:$AB$489,$G6,),\"\")","v":0}]
["GE06a","População urbana do(s) município (s) atendido (s) com abastecimento de água ",null,null,null,null,6,{"$f":"IFERROR(HLOOKUP(H$3,'Base de Dados - Água e esgoto'!$H$2:$AB$489,$G7,),\"\")","v":59667},{"$f":"IFERROR(HLOOKUP(I$3,'Base de Dados - Água e esgoto'!$H$2:$AB$489,$G7,),\"\")","v":61678},{"$f":"IFERROR(HLOOKUP(J$3,'Base de Dados - Água e esgoto'!$H$2:$AB$489,$G7,),\"\")","v":63689},{"$f":"IFERROR(HLOOKUP(K$3,'Base de Dados - Água e esgoto'!$H$2:$AB$489,$G7,),\"\")","v":65665},{"$f":"IFERROR(HLOOKUP(L$3,'Base de Dados - Água e esgoto'!$H$2:$AB$489,$G7,),\"\")","v":0}]
["GE06b","População urbana do(s) município (s) atendido (s) com esgotamento sanitário",null,null,null,null,7,{"$f":"IFERROR(HLOOKUP(H$3,'Base de Dados - Água e esgoto'!$H$2:$AB$489,$G8,),\"\")","v":59667},{"$f":"IFERROR(HLOOKUP(I$3,'Base de Dados - Água e esgoto'!$H$2:$AB$489,$G8,),\"\")","v":61678},{"$f":"IFERROR(HLOOKUP(J$3,'Base de Dados - Água e esgoto'!$H$2:$AB$489,$G8,),\"\")","v":63689},{"$f":"IFERROR(HLOOKUP(K$3,'Base de Dados - Água e esgoto'!$H$2:$AB$489,$G8,),\"\")","v":65665},{"$f":"IFERROR(HLOOKUP(L$3,'Base de Dados - Água e esgoto'!$H$2:$AB$489,$G8,),\"\")","v":0}]
["AG003","Quantidade de economias ativas de água",null,null,null,null,8,{"$f":"IFERROR(HLOOKUP(H$3,'Base de Dados - Água e esgoto'!$H$2:$AB$489,$G9,),\"\")","v":43067},{"$f":"IFERROR(HLOOKUP(I$3,'Base de Dados - Água e esgoto'!$H$2:$AB$489,$G9,),\"\")","v":45594},{"$f":"IFERROR(HLOOKUP(J$3,'Base de Dados - Água e esgoto'!$H$2:$AB$489,$G9,),\"\")","v":47792},{"$f":"IFERROR(HLOOKUP(K$3,'Base de Dados - Água e esgoto'!$H$2:$AB$489,$G9,),\"\")","v":50353},{"$f":"IFERROR(HLOOKUP(L$3,'Base de Dados - Água e esgoto'!$H$2:$AB$489,$G9,),\"\")","v":0}]
["AG002","Quantidade de ligações ativas de água ",null,null,null,null,9,{"$f":"IFERROR(HLOOKUP(H$3,'Base de Dados - Água e esgoto'!$H$2:$AB$489,$G10,),\"\")","v":14424},{"$f":"IFERROR(HLOOKUP(I$3,'Base de Dados - Água e esgoto'!$H$2:$AB$489,$G10,),\"\")","v":14684},{"$f":"IFERROR(HLOOKUP(J$3,'Base de Dados - Água e esgoto'!$H$2:$AB$489,$G10,),\"\")","v":14911},{"$f":"IFERROR(HLOOKUP(K$3,'Base de Dados - Água e esgoto'!$H$2:$AB$489,$G10,),\"\")","v":15305},{"$f":"IFERROR(HLOOKUP(L$3,'Base de Dados - Água e esgoto'!$H$2:$AB$489,$G10,),\"\")","v":0}]
["AG013","Quantidade de economias residenciais ativas de água",null,null,null,null,10,{"$f":"IFERROR(HLOOKUP(H$3,'Base de Dados - Água e esgoto'!$H$2:$AB$489,$G11,),\"\")","v":38630},{"$f":"IFERROR(HLOOKUP(I$3,'Base de Dados - Água e esgoto'!$H$2:$AB$489,$G11,),\"\")","v":40940},{"$f":"IFERROR(HLOOKUP(J$3,'Base de Dados - Água e esgoto'!$H$2:$AB$489,$G11,),\"\")","v":42821},{"$f":"IFERROR(HLOOKUP(K$3,'Base de Dados - Água e esgoto'!$H$2:$AB$489,$G11,),\"\")","v":45286},{"$f":"IFERROR(HLOOKUP(L$3,'Base de Dados - Água e esgoto'!$H$2:$AB$489,$G11,),\"\")","v":0}]
["AG012","Volume de água macromedido ",null,null,null,null,11,{"$f":"IFERROR(HLOOKUP(H$3,'Base de Dados - Água e esgoto'!$H$2:$AB$489,$G12,),\"\")","v":0},{"$f":"IFERROR(HLOOKUP(I$3,'Base de Dados - Água e esgoto'!$H$2:$AB$489,$G12,),\"\")","v":0},{"$f":"IFERROR(HLOOKUP(J$3,'Base de Dados - Água e esgoto'!$H$2:$AB$489,$G12,),\"\")","v":0},{"$f":"IFERROR(HLOOKUP(K$3,'Base de Dados - Água e esgoto'!$H$2:$AB$489,$G12,),\"\")","v":0},{"$f":"IFERROR(HLOOKUP(L$3,'Base de Dados - Água e esgoto'!$H$2:$AB$489,$G12,),\"\")","v":0}]
["AG019","Volume de água tratada exportada ",null,null,null,null,12,{"$f":"IFERROR(HLOOKUP(H$3,'Base de Dados - Água e esgoto'!$H$2:$AB$489,$G13,),\"\")","v":0},{"$f":"IFERROR(HLOOKUP(I$3,'Base de Dados - Água e esgoto'!$H$2:$AB$489,$G13,),\"\")","v":0},{"$f":"IFERROR(HLOOKUP(J$3,'Base de Dados - Água e esgoto'!$H$2:$AB$489,$G13,),\"\")","v":0},{"$f":"IFERROR(HLOOKUP(K$3,'Base de Dados - Água e esgoto'!$H$2:$AB$489,$G13,),\"\")","v":0},{"$f":"IFERROR(HLOOKUP(L$3,'Base de Dados - Água e esgoto'!$H$2:$AB$489,$G13,),\"\")","v":0}]
["AG006","Volume de água produzida ",null,null,null,null,13,{"$f":"IFERROR(HLOOKUP(H$3,'Base de Dados - Água e esgoto'!$H$2:$AB$489,$G14,),\"\")","v":5752.2},{"$f":"IFERROR(HLOOKUP(I$3,'Base de Dados - Água e esgoto'!$H$2:$AB$489,$G14,),\"\")","v":5876.14},{"$f":"IFERROR(HLOOKUP(J$3,'Base de Dados - Água e esgoto'!$H$2:$AB$489,$G14,),\"\")","v":6163.72},{"$f":"IFERROR(HLOOKUP(K$3,'Base de Dados - Água e esgoto'!$H$2:$AB$489,$G14,),\"\")","v":6810.64},{"$f":"IFERROR(HLOOKUP(L$3,'Base de Dados - Água e esgoto'!$H$2:$AB$489,$G14,),\"\")","v":0}]
["AG004","Quantidade de ligações ativas de água micromedidas",null,null,null,null,14,{"$f":"IFERROR(HLOOKUP(H$3,'Base de Dados - Água e esgoto'!$H$2:$AB$489,$G15,),\"\")","v":14424},{"$f":"IFERROR(HLOOKUP(I$3,'Base de Dados - Água e esgoto'!$H$2:$AB$489,$G15,),\"\")","v":14684},{"$f":"IFERROR(HLOOKUP(J$3,'Base de Dados - Água e esgoto'!$H$2:$AB$489,$G15,),\"\")","v":14911},{"$f":"IFERROR(HLOOKUP(K$3,'Base de Dados - Água e esgoto'!$H$2:$AB$489,$G15,),\"\")","v":15305},{"$f":"IFERROR(HLOOKUP(L$3,'Base de Dados - Água e esgoto'!$H$2:$AB$489,$G15,),\"\")","v":0}]
["AG008","Volume de água micromedido ",null,null,null,null,15,{"$f":"IFERROR(HLOOKUP(H$3,'Base de Dados - Água e esgoto'!$H$2:$AB$489,$G16,),\"\")","v":4425.6099999999997},{"$f":"IFERROR(HLOOKUP(I$3,'Base de Dados - Água e esgoto'!$H$2:$AB$489,$G16,),\"\")","v":4610.6899999999996},{"$f":"IFERROR(HLOOKUP(J$3,'Base de Dados - Água e esgoto'!$H$2:$AB$489,$G16,),\"\")","v":5399},{"$f":"IFERROR(HLOOKUP(K$3,'Base de Dados - Água e esgoto'!$H$2:$AB$489,$G16,),\"\")","v":5480},{"$f":"IFERROR(HLOOKUP(L$3,'Base de Dados - Água e esgoto'!$H$2:$AB$489,$G16,),\"\")","v":0}]
["AG024","Volume de água de serviços ",null,null,null,null,16,{"$f":"IFERROR(HLOOKUP(H$3,'Base de Dados - Água e esgoto'!$H$2:$AB$489,$G17,),\"\")","v":0},{"$f":"IFERROR(HLOOKUP(I$3,'Base de Dados - Água e esgoto'!$H$2:$AB$489,$G17,),\"\")","v":0},{"$f":"IFERROR(HLOOKUP(J$3,'Base de Dados - Água e esgoto'!$H$2:$AB$489,$G17,),\"\")","v":0},{"$f":"IFERROR(HLOOKUP(K$3,'Base de Dados - Água e esgoto'!$H$2:$AB$489,$G17,),\"\")","v":0},{"$f":"IFERROR(HLOOKUP(L$3,'Base de Dados - Água e esgoto'!$H$2:$AB$489,$G17,),\"\")","v":0}]
["AG010","Volume de água consumido ",null,null,null,null,17,{"$f":"IFERROR(HLOOKUP(H$3,'Base de Dados - Água e esgoto'!$H$2:$AB$489,$G18,),\"\")","v":4425.6099999999997},{"$f":"IFERROR(HLOOKUP(I$3,'Base de Dados - Água e esgoto'!$H$2:$AB$489,$G18,),\"\")","v":4610.6899999999996},{"$f":"IFERROR(HLOOKUP(J$3,'Base de Dados - Água e esgoto'!$H$2:$AB$489,$G18,),\"\")","v":5399},{"$f":"IFERROR(HLOOKUP(K$3,'Base de Dados - Água e esgoto'!$H$2:$AB$489,$G18,),\"\")","v":5480},{"$f":"IFERROR(HLOOKUP(L$3,'Base de Dados - Água e esgoto'!$H$2:$AB$489,$G18,),\"\")","v":0}]
["AG027","Volume de água fluoretado ",null,null,null,null,18,{"$f":"IFERROR(HLOOKUP(H$3,'Base de Dados - Água e esgoto'!$H$2:$AB$489,$G19,),\"\")","v":5752.2},{"$f":"IFERROR(HLOOKUP(I$3,'Base de Dados - Água e esgoto'!$H$2:$AB$489,$G19,),\"\")","v":5876.14},{"$f":"IFERROR(HLOOKUP(J$3,'Base de Dados - Água e esgoto'!$H$2:$AB$489,$G19,),\"\")","v":6163.72},{"$f":"IFERROR(HLOOKUP(K$3,'Base de Dados - Água e esgoto'!$H$2:$AB$489,$G19,),\"\")","v":6810.64},{"$f":"IFERROR(HLOOKUP(L$3,'Base de Dados - Água e esgoto'!$H$2:$AB$489,$G19,),\"\")","v":0}]
["AG006","Volume de água produzido ",null,null,null,null,19,{"$f":"IFERROR(HLOOKUP(H$3,'Base de Dados - Água e esgoto'!$H$2:$AB$489,$G20,),\"\")","v":5752.2},{"$f":"IFERROR(HLOOKUP(I$3,'Base de Dados - Água e esgoto'!$H$2:$AB$489,$G20,),\"\")","v":5876.14},{"$f":"IFERROR(HLOOKUP(J$3,'Base de Dados - Água e esgoto'!$H$2:$AB$489,$G20,),\"\")","v":6163.72},{"$f":"IFERROR(HLOOKUP(K$3,'Base de Dados - Água e esgoto'!$H$2:$AB$489,$G20,),\"\")","v":6810.64},{"$f":"IFERROR(HLOOKUP(L$3,'Base de Dados - Água e esgoto'!$H$2:$AB$489,$G20,),\"\")","v":0}]
["AG018","Volume de água tratada importada ",null,null,null,null,20,{"$f":"IFERROR(HLOOKUP(H$3,'Base de Dados - Água e esgoto'!$H$2:$AB$489,$G21,),\"\")","v":0},{"$f":"IFERROR(HLOOKUP(I$3,'Base de Dados - Água e esgoto'!$H$2:$AB$489,$G21,),\"\")","v":0},{"$f":"IFERROR(HLOOKUP(J$3,'Base de Dados - Água e esgoto'!$H$2:$AB$489,$G21,),\"\")","v":0},{"$f":"IFERROR(HLOOKUP(K$3,'Base de Dados - Água e esgoto'!$H$2:$AB$489,$G21,),\"\")","v":0},{"$f":"IFERROR(HLOOKUP(L$3,'Base de Dados - Água e esgoto'!$H$2:$AB$489,$G21,),\"\")","v":0}]
["AG014","Quantidade de economias ativas de água micromedidas",null,null,null,null,21,{"$f":"IFERROR(HLOOKUP(H$3,'Base de Dados - Água e esgoto'!$H$2:$AB$489,$G22,),\"\")","v":43067},{"$f":"IFERROR(HLOOKUP(I$3,'Base de Dados - Água e esgoto'!$H$2:$AB$489,$G22,),\"\")","v":45594},{"$f":"IFERROR(HLOOKUP(J$3,'Base de Dados - Água e esgoto'!$H$2:$AB$489,$G22,),\"\")","v":47792},{"$f":"IFERROR(HLOOKUP(K$3,'Base de Dados - Água e esgoto'!$H$2:$AB$489,$G22,),\"\")","v":50353},{"$f":"IFERROR(HLOOKUP(L$3,'Base de Dados - Água e esgoto'!$H$2:$AB$489,$G22,),\"\")","v":0}]
["AG011","Volume de água faturado ",null,null,null,null,22,{"$f":"IFERROR(HLOOKUP(H$3,'Base de Dados - Água e esgoto'!$H$2:$AB$489,$G23,),\"\")","v":4425.6099999999997},{"$f":"IFERROR(HLOOKUP(I$3,'Base de Dados - Água e esgoto'!$H$2:$AB$489,$G23,),\"\")","v":4610.6899999999996},{"$f":"IFERROR(HLOOKUP(J$3,'Base de Dados - Água e esgoto'!$H$2:$AB$489,$G23,),\"\")","v":5399},{"$f":"IFERROR(HLOOKUP(K$3,'Base de Dados - Água e esgoto'!$H$2:$AB$489,$G23,),\"\")","v":5480},{"$f":"IFERROR(HLOOKUP(L$3,'Base de Dados - Água e esgoto'!$H$2:$AB$489,$G23,),\"\")","v":0}]
["AG028","Consumo total de energia elétrica em sistemas de abastecimento de água ",null,null,null,null,23,{"$f":"IFERROR(HLOOKUP(H$3,'Base de Dados - Água e esgoto'!$H$2:$AB$489,$G24,),\"\")","v":1188.94},{"$f":"IFERROR(HLOOKUP(I$3,'Base de Dados - Água e esgoto'!$H$2:$AB$489,$G24,),\"\")","v":1445.18},{"$f":"IFERROR(HLOOKUP(J$3,'Base de Dados - Água e esgoto'!$H$2:$AB$489,$G24,),\"\")","v":1796.99},{"$f":"IFERROR(HLOOKUP(K$3,'Base de Dados - Água e esgoto'!$H$2:$AB$489,$G24,),\"\")","v":1901.57},{"$f":"IFERROR(HLOOKUP(L$3,'Base de Dados - Água e esgoto'!$H$2:$AB$489,$G24,),\"\")","v":0}]
["AG005","Extensão da rede de água ",null,null,null,null,24,{"$f":"IFERROR(HLOOKUP(H$3,'Base de Dados - Água e esgoto'!$H$2:$AB$489,$G25,),\"\")","v":283.38},{"$f":"IFERROR(HLOOKUP(I$3,'Base de Dados - Água e esgoto'!$H$2:$AB$489,$G25,),\"\")","v":284.45},{"$f":"IFERROR(HLOOKUP(J$3,'Base de Dados - Água e esgoto'!$H$2:$AB$489,$G25,),\"\")","v":291.17},{"$f":"IFERROR(HLOOKUP(K$3,'Base de Dados - Água e esgoto'!$H$2:$AB$489,$G25,),\"\")","v":296.54000000000002},{"$f":"IFERROR(HLOOKUP(L$3,'Base de Dados - Água e esgoto'!$H$2:$AB$489,$G25,),\"\")","v":0}]
["AG021","Quantidade de ligações totais de água ",null,null,null,null,25,{"$f":"IFERROR(HLOOKUP(H$3,'Base de Dados - Água e esgoto'!$H$2:$AB$489,$G26,),\"\")","v":14424},{"$f":"IFERROR(HLOOKUP(I$3,'Base de Dados - Água e esgoto'!$H$2:$AB$489,$G26,),\"\")","v":14684},{"$f":"IFERROR(HLOOKUP(J$3,'Base de Dados - Água e esgoto'!$H$2:$AB$489,$G26,),\"\")","v":14911},{"$f":"IFERROR(HLOOKUP(K$3,'Base de Dados - Água e esgoto'!$H$2:$AB$489,$G26,),\"\")","v":15355},{"$f":"IFERROR(HLOOKUP(L$3,'Base de Dados - Água e esgoto'!$H$2:$AB$489,$G26,),\"\")","v":0}]
["FN017","Despesas totais com os serviços ",null,null,null,null,26,{"$f":"IFERROR(HLOOKUP(H$3,'Base de Dados - Água e esgoto'!$H$2:$AB$489,$G27,),\"\")","v":34654653.609999999},{"$f":"IFERROR(HLOOKUP(I$3,'Base de Dados - Água e esgoto'!$H$2:$AB$489,$G27,),\"\")","v":44494355.789999999},{"$f":"IFERROR(HLOOKUP(J$3,'Base de Dados - Água e esgoto'!$H$2:$AB$489,$G27,),\"\")","v":48755612.539999999},{"$f":"IFERROR(HLOOKUP(K$3,'Base de Dados - Água e esgoto'!$H$2:$AB$489,$G27,),\"\")","v":51538751.299999997},{"$f":"IFERROR(HLOOKUP(L$3,'Base de Dados - Água e esgoto'!$H$2:$AB$489,$G27,),\"\")","v":0}]
["ES007","Volume total faturado de esgoto ",null,null,null,null,27,{"$f":"IFERROR(HLOOKUP(H$3,'Base de Dados - Água e esgoto'!$H$2:$AB$489,$G28,),\"\")","v":2609},{"$f":"IFERROR(HLOOKUP(I$3,'Base de Dados - Água e esgoto'!$H$2:$AB$489,$G28,),\"\")","v":2767.72},{"$f":"IFERROR(HLOOKUP(J$3,'Base de Dados - Água e esgoto'!$H$2:$AB$489,$G28,),\"\")","v":3042.59},{"$f":"IFERROR(HLOOKUP(K$3,'Base de Dados - Água e esgoto'!$H$2:$AB$489,$G28,),\"\")","v":3966},{"$f":"IFERROR(HLOOKUP(L$3,'Base de Dados - Água e esgoto'!$H$2:$AB$489,$G28,),\"\")","v":0}]
["FN015","Despesas de exploração ",null,null,null,null,28,{"$f":"IFERROR(HLOOKUP(H$3,'Base de Dados - Água e esgoto'!$H$2:$AB$489,$G29,),\"\")","v":22199985.32},{"$f":"IFERROR(HLOOKUP(I$3,'Base de Dados - Água e esgoto'!$H$2:$AB$489,$G29,),\"\")","v":24354123.760000002},{"$f":"IFERROR(HLOOKUP(J$3,'Base de Dados - Água e esgoto'!$H$2:$AB$489,$G29,),\"\")","v":25739041.129999999},{"$f":"IFERROR(HLOOKUP(K$3,'Base de Dados - Água e esgoto'!$H$2:$AB$489,$G29,),\"\")","v":24259333.989999998},{"$f":"IFERROR(HLOOKUP(L$3,'Base de Dados - Água e esgoto'!$H$2:$AB$489,$G29,),\"\")","v":0}]
["ES003","Quantidade de economias ativas de esgoto ",null,null,null,null,29,{"$f":"IFERROR(HLOOKUP(H$3,'Base de Dados - Água e esgoto'!$H$2:$AB$489,$G30,),\"\")","v":27403},{"$f":"IFERROR(HLOOKUP(I$3,'Base de Dados - Água e esgoto'!$H$2:$AB$489,$G30,),\"\")","v":29744},{"$f":"IFERROR(HLOOKUP(J$3,'Base de Dados - Água e esgoto'!$H$2:$AB$489,$G30,),\"\")","v":34093},{"$f":"IFERROR(HLOOKUP(K$3,'Base de Dados - Água e esgoto'!$H$2:$AB$489,$G30,),\"\")","v":39529},{"$f":"IFERROR(HLOOKUP(L$3,'Base de Dados - Água e esgoto'!$H$2:$AB$489,$G30,),\"\")","v":0}]
["FN001","Receita Operacional direta total ",null,null,null,null,30,{"$f":"IFERROR(HLOOKUP(H$3,'Base de Dados - Água e esgoto'!$H$2:$AB$489,$G31,),\"\")","v":48002819.560000002},{"$f":"IFERROR(HLOOKUP(I$3,'Base de Dados - Água e esgoto'!$H$2:$AB$489,$G31,),\"\")","v":50146897.479999997},{"$f":"IFERROR(HLOOKUP(J$3,'Base de Dados - Água e esgoto'!$H$2:$AB$489,$G31,),\"\")","v":54965093.020000003},{"$f":"IFERROR(HLOOKUP(K$3,'Base de Dados - Água e esgoto'!$H$2:$AB$489,$G31,),\"\")","v":62100004.259999998},{"$f":"IFERROR(HLOOKUP(L$3,'Base de Dados - Água e esgoto'!$H$2:$AB$489,$G31,),\"\")","v":0}]
["FN002","Receita operacional direta de água (R$/ano)",null,null,null,null,31,{"$f":"IFERROR(HLOOKUP(H$3,'Base de Dados - Água e esgoto'!$H$2:$AB$489,$G32,),\"\")","v":30277050.190000001},{"$f":"IFERROR(HLOOKUP(I$3,'Base de Dados - Água e esgoto'!$H$2:$AB$489,$G32,),\"\")","v":31424072.399999999},{"$f":"IFERROR(HLOOKUP(J$3,'Base de Dados - Água e esgoto'!$H$2:$AB$489,$G32,),\"\")","v":34255033.609999999},{"$f":"IFERROR(HLOOKUP(K$3,'Base de Dados - Água e esgoto'!$H$2:$AB$489,$G32,),\"\")","v":36215613.399999999},{"$f":"IFERROR(HLOOKUP(L$3,'Base de Dados - Água e esgoto'!$H$2:$AB$489,$G32,),\"\")","v":0}]
["AG017","Volume de água bruta exportado ",null,null,null,null,32,{"$f":"IFERROR(HLOOKUP(H$3,'Base de Dados - Água e esgoto'!$H$2:$AB$489,$G33,),\"\")","v":0},{"$f":"IFERROR(HLOOKUP(I$3,'Base de Dados - Água e esgoto'!$H$2:$AB$489,$G33,),\"\")","v":0},{"$f":"IFERROR(HLOOKUP(J$3,'Base de Dados - Água e esgoto'!$H$2:$AB$489,$G33,),\"\")","v":0},{"$f":"IFERROR(HLOOKUP(K$3,'Base de Dados - Água e esgoto'!$H$2:$AB$489,$G33,),\"\")","v":0},{"$f":"IFERROR(HLOOKUP(L$3,'Base de Dados - Água e esgoto'!$H$2:$AB$489,$G33,),\"\")","v":0}]
[null,"Receita operacional total ",null,null,null,null,33,{"$f":"IFERROR(HLOOKUP(H$3,'Base de Dados - Água e esgoto'!$H$2:$AB$489,$G34,),\"\")","v":49004457.189999998},{"$f":"IFERROR(HLOOKUP(I$3,'Base de Dados - Água e esgoto'!$H$2:$AB$489,$G34,),\"\")","v":50941561.780000001},{"$f":"IFERROR(HLOOKUP(J$3,'Base de Dados - Água e esgoto'!$H$2:$AB$489,$G34,),\"\")","v":56667682.409999996},{"$f":"IFERROR(HLOOKUP(K$3,'Base de Dados - Água e esgoto'!$H$2:$AB$489,$G34,),\"\")","v":63123331.07},{"$f":"IFERROR(HLOOKUP(L$3,'Base de Dados - Água e esgoto'!$H$2:$AB$489,$G34,),\"\")","v":0}]
["FN006","Arrecadação total ",null,null,null,null,34,{"$f":"IFERROR(HLOOKUP(H$3,'Base de Dados - Água e esgoto'!$H$2:$AB$489,$G35,),\"\")","v":47015151.369999997},{"$f":"IFERROR(HLOOKUP(I$3,'Base de Dados - Água e esgoto'!$H$2:$AB$489,$G35,),\"\")","v":48757259.729999997},{"$f":"IFERROR(HLOOKUP(J$3,'Base de Dados - Água e esgoto'!$H$2:$AB$489,$G35,),\"\")","v":52016645},{"$f":"IFERROR(HLOOKUP(K$3,'Base de Dados - Água e esgoto'!$H$2:$AB$489,$G35,),\"\")","v":57864935.740000002},{"$f":"IFERROR(HLOOKUP(L$3,'Base de Dados - Água e esgoto'!$H$2:$AB$489,$G35,),\"\")","v":0}]
["FN010","Despesas com pessoal próprio ",null,null,null,null,35,{"$f":"IFERROR(HLOOKUP(H$3,'Base de Dados - Água e esgoto'!$H$2:$AB$489,$G36,),\"\")","v":4279120.87},{"$f":"IFERROR(HLOOKUP(I$3,'Base de Dados - Água e esgoto'!$H$2:$AB$489,$G36,),\"\")","v":4307277},{"$f":"IFERROR(HLOOKUP(J$3,'Base de Dados - Água e esgoto'!$H$2:$AB$489,$G36,),\"\")","v":4969682.87},{"$f":"IFERROR(HLOOKUP(K$3,'Base de Dados - Água e esgoto'!$H$2:$AB$489,$G36,),\"\")","v":5381498.9000000004},{"$f":"IFERROR(HLOOKUP(L$3,'Base de Dados - Água e esgoto'!$H$2:$AB$489,$G36,),\"\")","v":0}]
["FN014","Despesas com serviços de terceiros ",null,null,null,null,36,{"$f":"IFERROR(HLOOKUP(H$3,'Base de Dados - Água e esgoto'!$H$2:$AB$489,$G37,),\"\")","v":8551779.6300000008},{"$f":"IFERROR(HLOOKUP(I$3,'Base de Dados - Água e esgoto'!$H$2:$AB$489,$G37,),\"\")","v":8825394.5600000005},{"$f":"IFERROR(HLOOKUP(J$3,'Base de Dados - Água e esgoto'!$H$2:$AB$489,$G37,),\"\")","v":11341447.310000001},{"$f":"IFERROR(HLOOKUP(K$3,'Base de Dados - Água e esgoto'!$H$2:$AB$489,$G37,),\"\")","v":10488762.76},{"$f":"IFERROR(HLOOKUP(L$3,'Base de Dados - Água e esgoto'!$H$2:$AB$489,$G37,),\"\")","v":0}]
["FM026","Quantidade total de empregados próprios ",null,null,null,null,37,{"$f":"IFERROR(HLOOKUP(H$3,'Base de Dados - Água e esgoto'!$H$2:$AB$489,$G38,),\"\")","v":84},{"$f":"IFERROR(HLOOKUP(I$3,'Base de Dados - Água e esgoto'!$H$2:$AB$489,$G38,),\"\")","v":79},{"$f":"IFERROR(HLOOKUP(J$3,'Base de Dados - Água e esgoto'!$H$2:$AB$489,$G38,),\"\")","v":87},{"$f":"IFERROR(HLOOKUP(K$3,'Base de Dados - Água e esgoto'!$H$2:$AB$489,$G38,),\"\")","v":83},{"$f":"IFERROR(HLOOKUP(L$3,'Base de Dados - Água e esgoto'!$H$2:$AB$489,$G38,),\"\")","v":0}]
["FN035","Despesas com juros e encargos do serviço da dívida ",null,null,null,null,38,{"$f":"IFERROR(HLOOKUP(H$3,'Base de Dados - Água e esgoto'!$H$2:$AB$489,$G39,),\"\")","v":4916329.5199999996},{"$f":"IFERROR(HLOOKUP(I$3,'Base de Dados - Água e esgoto'!$H$2:$AB$489,$G39,),\"\")","v":10039242.18},{"$f":"IFERROR(HLOOKUP(J$3,'Base de Dados - Água e esgoto'!$H$2:$AB$489,$G39,),\"\")","v":15678334.949999999},{"$f":"IFERROR(HLOOKUP(K$3,'Base de Dados - Água e esgoto'!$H$2:$AB$489,$G39,),\"\")","v":17679328.850000001},{"$f":"IFERROR(HLOOKUP(L$3,'Base de Dados - Água e esgoto'!$H$2:$AB$489,$G39,),\"\")","v":0}]
["FN034","Despesas com amortização do serviço da dívida ",null,null,null,null,39,{"$f":"IFERROR(HLOOKUP(H$3,'Base de Dados - Água e esgoto'!$H$2:$AB$489,$G40,),\"\")","v":0},{"$f":"IFERROR(HLOOKUP(I$3,'Base de Dados - Água e esgoto'!$H$2:$AB$489,$G40,),\"\")","v":0},{"$f":"IFERROR(HLOOKUP(J$3,'Base de Dados - Água e esgoto'!$H$2:$AB$489,$G40,),\"\")","v":0},{"$f":"IFERROR(HLOOKUP(K$3,'Base de Dados - Água e esgoto'!$H$2:$AB$489,$G40,),\"\")","v":0},{"$f":"IFERROR(HLOOKUP(L$3,'Base de Dados - Água e esgoto'!$H$2:$AB$489,$G40,),\"\")","v":0}]
["FN027","Outras despesas de exploração ",null,null,null,null,40,{"$f":"IFERROR(HLOOKUP(H$3,'Base de Dados - Água e esgoto'!$H$2:$AB$489,$G41,),\"\")","v":6793237.6600000001},{"$f":"IFERROR(HLOOKUP(I$3,'Base de Dados - Água e esgoto'!$H$2:$AB$489,$G41,),\"\")","v":8211671.7599999998},{"$f":"IFERROR(HLOOKUP(J$3,'Base de Dados - Água e esgoto'!$H$2:$AB$489,$G41,),\"\")","v":5994219.2199999997},{"$f":"IFERROR(HLOOKUP(K$3,'Base de Dados - Água e esgoto'!$H$2:$AB$489,$G41,),\"\")","v":4457437.4000000004},{"$f":"IFERROR(HLOOKUP(L$3,'Base de Dados - Água e esgoto'!$H$2:$AB$489,$G41,),\"\")","v":0}]
["FN011","Despesas com produtos químicos",null,null,null,null,41,{"$f":"IFERROR(HLOOKUP(H$3,'Base de Dados - Água e esgoto'!$H$2:$AB$489,$G42,),\"\")","v":1271509.8400000001},{"$f":"IFERROR(HLOOKUP(I$3,'Base de Dados - Água e esgoto'!$H$2:$AB$489,$G42,),\"\")","v":1566431.25},{"$f":"IFERROR(HLOOKUP(J$3,'Base de Dados - Água e esgoto'!$H$2:$AB$489,$G42,),\"\")","v":1524651.22},{"$f":"IFERROR(HLOOKUP(K$3,'Base de Dados - Água e esgoto'!$H$2:$AB$489,$G42,),\"\")","v":1865091.37},{"$f":"IFERROR(HLOOKUP(L$3,'Base de Dados - Água e esgoto'!$H$2:$AB$489,$G42,),\"\")","v":0}]
["FN013","Despesas com energia elétrica ",null,null,null,null,42,{"$f":"IFERROR(HLOOKUP(H$3,'Base de Dados - Água e esgoto'!$H$2:$AB$489,$G43,),\"\")","v":1199928.3799999999},{"$f":"IFERROR(HLOOKUP(I$3,'Base de Dados - Água e esgoto'!$H$2:$AB$489,$G43,),\"\")","v":1396508.31},{"$f":"IFERROR(HLOOKUP(J$3,'Base de Dados - Água e esgoto'!$H$2:$AB$489,$G43,),\"\")","v":1815026.12},{"$f":"IFERROR(HLOOKUP(K$3,'Base de Dados - Água e esgoto'!$H$2:$AB$489,$G43,),\"\")","v":1970190.31},{"$f":"IFERROR(HLOOKUP(L$3,'Base de Dados - Água e esgoto'!$H$2:$AB$489,$G43,),\"\")","v":0}]
["FN007","Receita operacional direta de água exportada ",null,null,null,null,43,{"$f":"IFERROR(HLOOKUP(H$3,'Base de Dados - Água e esgoto'!$H$2:$AB$489,$G44,),\"\")","v":0},{"$f":"IFERROR(HLOOKUP(I$3,'Base de Dados - Água e esgoto'!$H$2:$AB$489,$G44,),\"\")","v":0},{"$f":"IFERROR(HLOOKUP(J$3,'Base de Dados - Água e esgoto'!$H$2:$AB$489,$G44,),\"\")","v":0},{"$f":"IFERROR(HLOOKUP(K$3,'Base de Dados - Água e esgoto'!$H$2:$AB$489,$G44,),\"\")","v":0},{"$f":"IFERROR(HLOOKUP(L$3,'Base de Dados - Água e esgoto'!$H$2:$AB$489,$G44,),\"\")","v":0}]
["FN003","Receita operacional direta de esgoto ",null,null,null,null,44,{"$f":"IFERROR(HLOOKUP(H$3,'Base de Dados - Água e esgoto'!$H$2:$AB$489,$G45,),\"\")","v":17725769.370000001},{"$f":"IFERROR(HLOOKUP(I$3,'Base de Dados - Água e esgoto'!$H$2:$AB$489,$G45,),\"\")","v":18722825.079999998},{"$f":"IFERROR(HLOOKUP(J$3,'Base de Dados - Água e esgoto'!$H$2:$AB$489,$G45,),\"\")","v":20710059.41},{"$f":"IFERROR(HLOOKUP(K$3,'Base de Dados - Água e esgoto'!$H$2:$AB$489,$G45,),\"\")","v":25884390.859999999},{"$f":"IFERROR(HLOOKUP(L$3,'Base de Dados - Água e esgoto'!$H$2:$AB$489,$G45,),\"\")","v":0}]
["FN038","Receita operacional direta de esgoto bruto importado ",null,null,null,null,45,{"$f":"IFERROR(HLOOKUP(H$3,'Base de Dados - Água e esgoto'!$H$2:$AB$489,$G46,),\"\")","v":0},{"$f":"IFERROR(HLOOKUP(I$3,'Base de Dados - Água e esgoto'!$H$2:$AB$489,$G46,),\"\")","v":0},{"$f":"IFERROR(HLOOKUP(J$3,'Base de Dados - Água e esgoto'!$H$2:$AB$489,$G46,),\"\")","v":0},{"$f":"IFERROR(HLOOKUP(K$3,'Base de Dados - Água e esgoto'!$H$2:$AB$489,$G46,),\"\")","v":0},{"$f":"IFERROR(HLOOKUP(L$3,'Base de Dados - Água e esgoto'!$H$2:$AB$489,$G46,),\"\")","v":0}]
["FN008","Crédito de contas a receber ",null,null,null,null,46,{"$f":"IFERROR(HLOOKUP(H$3,'Base de Dados - Água e esgoto'!$H$2:$AB$489,$G47,),\"\")","v":8418715.3800000008},{"$f":"IFERROR(HLOOKUP(I$3,'Base de Dados - Água e esgoto'!$H$2:$AB$489,$G47,),\"\")","v":9499878.3399999999},{"$f":"IFERROR(HLOOKUP(J$3,'Base de Dados - Água e esgoto'!$H$2:$AB$489,$G47,),\"\")","v":11346709.35},{"$f":"IFERROR(HLOOKUP(K$3,'Base de Dados - Água e esgoto'!$H$2:$AB$489,$G47,),\"\")","v":13163815.52},{"$f":"IFERROR(HLOOKUP(L$3,'Base de Dados - Água e esgoto'!$H$2:$AB$489,$G47,),\"\")","v":0}]
["AG002","Quantidade de ligações ativas de esgoto ",null,null,null,null,47,{"$f":"IFERROR(HLOOKUP(H$3,'Base de Dados - Água e esgoto'!$H$2:$AB$489,$G48,),\"\")","v":14424},{"$f":"IFERROR(HLOOKUP(I$3,'Base de Dados - Água e esgoto'!$H$2:$AB$489,$G48,),\"\")","v":14684},{"$f":"IFERROR(HLOOKUP(J$3,'Base de Dados - Água e esgoto'!$H$2:$AB$489,$G48,),\"\")","v":14911},{"$f":"IFERROR(HLOOKUP(K$3,'Base de Dados - Água e esgoto'!$H$2:$AB$489,$G48,),\"\")","v":15305},{"$f":"IFERROR(HLOOKUP(L$3,'Base de Dados - Água e esgoto'!$H$2:$AB$489,$G48,),\"\")","v":0}]
["FN016","Despesas totais com serviço da dívida",null,null,null,null,48,{"$f":"IFERROR(HLOOKUP(H$3,'Base de Dados - Água e esgoto'!$H$2:$AB$489,$G49,),\"\")","v":4916329.5199999996},{"$f":"IFERROR(HLOOKUP(I$3,'Base de Dados - Água e esgoto'!$H$2:$AB$489,$G49,),\"\")","v":10039424.18},{"$f":"IFERROR(HLOOKUP(J$3,'Base de Dados - Água e esgoto'!$H$2:$AB$489,$G49,),\"\")","v":15678334.949999999},{"$f":"IFERROR(HLOOKUP(K$3,'Base de Dados - Água e esgoto'!$H$2:$AB$489,$G49,),\"\")","v":17679328.850000001},{"$f":"IFERROR(HLOOKUP(L$3,'Base de Dados - Água e esgoto'!$H$2:$AB$489,$G49,),\"\")","v":0}]
["FN021","Despesas fiscais ou tributárias não computadas na DEX ",null,null,null,null,49,{"$f":"IFERROR(HLOOKUP(H$3,'Base de Dados - Água e esgoto'!$H$2:$AB$489,$G50,),\"\")","v":104408.94},{"$f":"IFERROR(HLOOKUP(I$3,'Base de Dados - Água e esgoto'!$H$2:$AB$489,$G50,),\"\")","v":46840.88},{"$f":"IFERROR(HLOOKUP(J$3,'Base de Dados - Água e esgoto'!$H$2:$AB$489,$G50,),\"\")","v":94014.39},{"$f":"IFERROR(HLOOKUP(K$3,'Base de Dados - Água e esgoto'!$H$2:$AB$489,$G50,),\"\")","v":96353.25},{"$f":"IFERROR(HLOOKUP(L$3,'Base de Dados - Água e esgoto'!$H$2:$AB$489,$G50,),\"\")","v":0}]
["QD004","Quantidades de economias ativas atingidas por paralisações ",null,null,null,null,50,{"$f":"IFERROR(HLOOKUP(H$3,'Base de Dados - Água e esgoto'!$H$2:$AB$489,$G51,),\"\")","v":0},{"$f":"IFERROR(HLOOKUP(I$3,'Base de Dados - Água e esgoto'!$H$2:$AB$489,$G51,),\"\")","v":"-"},{"$f":"IFERROR(HLOOKUP(J$3,'Base de Dados - Água e esgoto'!$H$2:$AB$489,$G51,),\"\")","v":0},{"$f":"IFERROR(HLOOKUP(K$3,'Base de Dados - Água e esgoto'!$H$2:$AB$489,$G51,),\"\")","v":48172},{"$f":"IFERROR(HLOOKUP(L$3,'Base de Dados - Água e esgoto'!$H$2:$AB$489,$G51,),\"\")","v":0}]
["QD002","Quantidade de paralisações",null,null,null,null,51,{"$f":"IFERROR(HLOOKUP(H$3,'Base de Dados - Água e esgoto'!$H$2:$AB$489,$G52,),\"\")","v":0},{"$f":"IFERROR(HLOOKUP(I$3,'Base de Dados - Água e esgoto'!$H$2:$AB$489,$G52,),\"\")","v":0},{"$f":"IFERROR(HLOOKUP(J$3,'Base de Dados - Água e esgoto'!$H$2:$AB$489,$G52,),\"\")","v":0},{"$f":"IFERROR(HLOOKUP(K$3,'Base de Dados - Água e esgoto'!$H$2:$AB$489,$G52,),\"\")","v":7},{"$f":"IFERROR(HLOOKUP(L$3,'Base de Dados - Água e esgoto'!$H$2:$AB$489,$G52,),\"\")","v":0}]
["QD003","Duração das paralisações ",null,null,null,null,52,{"$f":"IFERROR(HLOOKUP(H$3,'Base de Dados - Água e esgoto'!$H$2:$AB$489,$G53,),\"\")","v":0},{"$f":"IFERROR(HLOOKUP(I$3,'Base de Dados - Água e esgoto'!$H$2:$AB$489,$G53,),\"\")","v":0},{"$f":"IFERROR(HLOOKUP(J$3,'Base de Dados - Água e esgoto'!$H$2:$AB$489,$G53,),\"\")","v":0},{"$f":"IFERROR(HLOOKUP(K$3,'Base de Dados - Água e esgoto'!$H$2:$AB$489,$G53,),\"\")","v":59},{"$f":"IFERROR(HLOOKUP(L$3,'Base de Dados - Água e esgoto'!$H$2:$AB$489,$G53,),\"\")","v":0}]
["QD025","Tempo de execução do serviço ",null,null,null,null,53,{"$f":"IFERROR(HLOOKUP(H$3,'Base de Dados - Água e esgoto'!$H$2:$AB$489,$G54,),\"\")","v":7409.65},{"$f":"IFERROR(HLOOKUP(I$3,'Base de Dados - Água e esgoto'!$H$2:$AB$489,$G54,),\"\")","v":7581.97},{"$f":"IFERROR(HLOOKUP(J$3,'Base de Dados - Água e esgoto'!$H$2:$AB$489,$G54,),\"\")","v":10712.5},{"$f":"IFERROR(HLOOKUP(K$3,'Base de Dados - Água e esgoto'!$H$2:$AB$489,$G54,),\"\")","v":16505},{"$f":"IFERROR(HLOOKUP(L$3,'Base de Dados - Água e esgoto'!$H$2:$AB$489,$G54,),\"\")","v":0}]
["QD024","Quantidade de serviços executados ",null,null,null,null,54,{"$f":"IFERROR(HLOOKUP(H$3,'Base de Dados - Água e esgoto'!$H$2:$AB$489,$G55,),\"\")","v":45341},{"$f":"IFERROR(HLOOKUP(I$3,'Base de Dados - Água e esgoto'!$H$2:$AB$489,$G55,),\"\")","v":42138},{"$f":"IFERROR(HLOOKUP(J$3,'Base de Dados - Água e esgoto'!$H$2:$AB$489,$G55,),\"\")","v":55269},{"$f":"IFERROR(HLOOKUP(K$3,'Base de Dados - Água e esgoto'!$H$2:$AB$489,$G55,),\"\")","v":47704},{"$f":"IFERROR(HLOOKUP(L$3,'Base de Dados - Água e esgoto'!$H$2:$AB$489,$G55,),\"\")","v":0}]
["QD006","Quantidade de amostras analisadas para aferição de cloro residual ",null,null,null,null,55,{"$f":"IFERROR(HLOOKUP(H$3,'Base de Dados - Água e esgoto'!$H$2:$AB$489,$G56,),\"\")","v":17664},{"$f":"IFERROR(HLOOKUP(I$3,'Base de Dados - Água e esgoto'!$H$2:$AB$489,$G56,),\"\")","v":18690},{"$f":"IFERROR(HLOOKUP(J$3,'Base de Dados - Água e esgoto'!$H$2:$AB$489,$G56,),\"\")","v":18096},{"$f":"IFERROR(HLOOKUP(K$3,'Base de Dados - Água e esgoto'!$H$2:$AB$489,$G56,),\"\")","v":20504},{"$f":"IFERROR(HLOOKUP(L$3,'Base de Dados - Água e esgoto'!$H$2:$AB$489,$G56,),\"\")","v":0}]
["QD020","Quantidade mínima de amostras obrigatórias para análises de cloro residual ",null,null,null,null,56,{"$f":"IFERROR(HLOOKUP(H$3,'Base de Dados - Água e esgoto'!$H$2:$AB$489,$G57,),\"\")","v":17664},{"$f":"IFERROR(HLOOKUP(I$3,'Base de Dados - Água e esgoto'!$H$2:$AB$489,$G57,),\"\")","v":17664},{"$f":"IFERROR(HLOOKUP(J$3,'Base de Dados - Água e esgoto'!$H$2:$AB$489,$G57,),\"\")","v":17644},{"$f":"IFERROR(HLOOKUP(K$3,'Base de Dados - Água e esgoto'!$H$2:$AB$489,$G57,),\"\")","v":17644},{"$f":"IFERROR(HLOOKUP(L$3,'Base de Dados - Água e esgoto'!$H$2:$AB$489,$G57,),\"\")","v":0}]
["QD007","Quantidade de amostras para análise de cloro residual com resultado fora do padrão ",null,null,null,null,57,{"$f":"IFERROR(HLOOKUP(H$3,'Base de Dados - Água e esgoto'!$H$2:$AB$489,$G58,),\"\")","v":124},{"$f":"IFERROR(HLOOKUP(I$3,'Base de Dados - Água e esgoto'!$H$2:$AB$489,$G58,),\"\")","v":36},{"$f":"IFERROR(HLOOKUP(J$3,'Base de Dados - Água e esgoto'!$H$2:$AB$489,$G58,),\"\")","v":55},{"$f":"IFERROR(HLOOKUP(K$3,'Base de Dados - Água e esgoto'!$H$2:$AB$489,$G58,),\"\")","v":8},{"$f":"IFERROR(HLOOKUP(L$3,'Base de Dados - Água e esgoto'!$H$2:$AB$489,$G58,),\"\")","v":0}]
["QD008","Quantidade de amostras analisadas para aferição de turbidez ",null,null,null,null,58,{"$f":"IFERROR(HLOOKUP(H$3,'Base de Dados - Água e esgoto'!$H$2:$AB$489,$G59,),\"\")","v":17664},{"$f":"IFERROR(HLOOKUP(I$3,'Base de Dados - Água e esgoto'!$H$2:$AB$489,$G59,),\"\")","v":18690},{"$f":"IFERROR(HLOOKUP(J$3,'Base de Dados - Água e esgoto'!$H$2:$AB$489,$G59,),\"\")","v":18096},{"$f":"IFERROR(HLOOKUP(K$3,'Base de Dados - Água e esgoto'!$H$2:$AB$489,$G59,),\"\")","v":20504},{"$f":"IFERROR(HLOOKUP(L$3,'Base de Dados - Água e esgoto'!$H$2:$AB$489,$G59,),\"\")","v":0}]
["QD019","Quantidade mínima de amostras obrigatórias para análises de turbidez ",null,null,null,null,59,{"$f":"IFERROR(HLOOKUP(H$3,'Base de Dados - Água e esgoto'!$H$2:$AB$489,$G60,),\"\")","v":17664},{"$f":"IFERROR(HLOOKUP(I$3,'Base de Dados - Água e esgoto'!$H$2:$AB$489,$G60,),\"\")","v":17664},{"$f":"IFERROR(HLOOKUP(J$3,'Base de Dados - Água e esgoto'!$H$2:$AB$489,$G60,),\"\")","v":17644},{"$f":"IFERROR(HLOOKUP(K$3,'Base de Dados - Água e esgoto'!$H$2:$AB$489,$G60,),\"\")","v":17644},{"$f":"IFERROR(HLOOKUP(L$3,'Base de Dados - Água e esgoto'!$H$2:$AB$489,$G60,),\"\")","v":0}]
["QD009","Quantidade de amostras para análise de turbidez com resultado fora do padrão ",null,null,null,null,60,{"$f":"IFERROR(HLOOKUP(H$3,'Base de Dados - Água e esgoto'!$H$2:$AB$489,$G61,),\"\")","v":84},{"$f":"IFERROR(HLOOKUP(I$3,'Base de Dados - Água e esgoto'!$H$2:$AB$489,$G61,),\"\")","v":11},{"$f":"IFERROR(HLOOKUP(J$3,'Base de Dados - Água e esgoto'!$H$2:$AB$489,$G61,),\"\")","v":28},{"$f":"IFERROR(HLOOKUP(K$3,'Base de Dados - Água e esgoto'!$H$2:$AB$489,$G61,),\"\")","v":18},{"$f":"IFERROR(HLOOKUP(L$3,'Base de Dados - Água e esgoto'!$H$2:$AB$489,$G61,),\"\")","v":0}]
["QD026","Quantidade de amostras analisadas para aferição de coliformes totais",null,null,null,null,61,{"$f":"IFERROR(HLOOKUP(H$3,'Base de Dados - Água e esgoto'!$H$2:$AB$489,$G62,),\"\")","v":1344},{"$f":"IFERROR(HLOOKUP(I$3,'Base de Dados - Água e esgoto'!$H$2:$AB$489,$G62,),\"\")","v":1344},{"$f":"IFERROR(HLOOKUP(J$3,'Base de Dados - Água e esgoto'!$H$2:$AB$489,$G62,),\"\")","v":1344},{"$f":"IFERROR(HLOOKUP(K$3,'Base de Dados - Água e esgoto'!$H$2:$AB$489,$G62,),\"\")","v":1344},{"$f":"IFERROR(HLOOKUP(L$3,'Base de Dados - Água e esgoto'!$H$2:$AB$489,$G62,),\"\")","v":0}]
["QD028","Quantidade mínima de amostra obrigatórias para coliforme totais ",null,null,null,null,62,{"$f":"IFERROR(HLOOKUP(H$3,'Base de Dados - Água e esgoto'!$H$2:$AB$489,$G63,),\"\")","v":1260},{"$f":"IFERROR(HLOOKUP(I$3,'Base de Dados - Água e esgoto'!$H$2:$AB$489,$G63,),\"\")","v":1260},{"$f":"IFERROR(HLOOKUP(J$3,'Base de Dados - Água e esgoto'!$H$2:$AB$489,$G63,),\"\")","v":1260},{"$f":"IFERROR(HLOOKUP(K$3,'Base de Dados - Água e esgoto'!$H$2:$AB$489,$G63,),\"\")","v":1260},{"$f":"IFERROR(HLOOKUP(L$3,'Base de Dados - Água e esgoto'!$H$2:$AB$489,$G63,),\"\")","v":0}]
["QD027","Quantidade de  amostras para análise de coliformes totais com resultados fora do padrão ",null,null,null,null,63,{"$f":"IFERROR(HLOOKUP(H$3,'Base de Dados - Água e esgoto'!$H$2:$AB$489,$G64,),\"\")","v":0},{"$f":"IFERROR(HLOOKUP(I$3,'Base de Dados - Água e esgoto'!$H$2:$AB$489,$G64,),\"\")","v":0},{"$f":"IFERROR(HLOOKUP(J$3,'Base de Dados - Água e esgoto'!$H$2:$AB$489,$G64,),\"\")","v":0},{"$f":"IFERROR(HLOOKUP(K$3,'Base de Dados - Água e esgoto'!$H$2:$AB$489,$G64,),\"\")","v":0},{"$f":"IFERROR(HLOOKUP(L$3,'Base de Dados - Água e esgoto'!$H$2:$AB$489,$G64,),\"\")","v":0}]
["FN023","Investimentos realizados em abastecimento de água  pelo prestados de serviço ",null,null,null,null,64,{"$f":"IFERROR(HLOOKUP(H$3,'Base de Dados - Água e esgoto'!$H$2:$AB$489,$G65,),\"\")","v":2148129.41},{"$f":"IFERROR(HLOOKUP(I$3,'Base de Dados - Água e esgoto'!$H$2:$AB$489,$G65,),\"\")","v":649989.32999999996},{"$f":"IFERROR(HLOOKUP(J$3,'Base de Dados - Água e esgoto'!$H$2:$AB$489,$G65,),\"\")","v":11259907.65},{"$f":"IFERROR(HLOOKUP(K$3,'Base de Dados - Água e esgoto'!$H$2:$AB$489,$G65,),\"\")","v":2604610.2599999998},{"$f":"IFERROR(HLOOKUP(L$3,'Base de Dados - Água e esgoto'!$H$2:$AB$489,$G65,),\"\")","v":0}]
["FN024","Investimentos realizados em esgotamento sanitário  pelo prestados de serviço ",null,null,null,null,65,{"$f":"IFERROR(HLOOKUP(H$3,'Base de Dados - Água e esgoto'!$H$2:$AB$489,$G66,),\"\")","v":10200207.140000001},{"$f":"IFERROR(HLOOKUP(I$3,'Base de Dados - Água e esgoto'!$H$2:$AB$489,$G66,),\"\")","v":525351.21},{"$f":"IFERROR(HLOOKUP(J$3,'Base de Dados - Água e esgoto'!$H$2:$AB$489,$G66,),\"\")","v":37168060.789999999},{"$f":"IFERROR(HLOOKUP(K$3,'Base de Dados - Água e esgoto'!$H$2:$AB$489,$G66,),\"\")","v":16853968.469999999},{"$f":"IFERROR(HLOOKUP(L$3,'Base de Dados - Água e esgoto'!$H$2:$AB$489,$G66,),\"\")","v":0}]
["FN025","Outros investimentos realizados pelo prestador de serviços",null,null,null,null,66,{"$f":"IFERROR(HLOOKUP(H$3,'Base de Dados - Água e esgoto'!$H$2:$AB$489,$G67,),\"\")","v":0},{"$f":"IFERROR(HLOOKUP(I$3,'Base de Dados - Água e esgoto'!$H$2:$AB$489,$G67,),\"\")","v":0},{"$f":"IFERROR(HLOOKUP(J$3,'Base de Dados - Água e esgoto'!$H$2:$AB$489,$G67,),\"\")","v":0},{"$f":"IFERROR(HLOOKUP(K$3,'Base de Dados - Água e esgoto'!$H$2:$AB$489,$G67,),\"\")","v":0},{"$f":"IFERROR(HLOOKUP(L$3,'Base de Dados - Água e esgoto'!$H$2:$AB$489,$G67,),\"\")","v":0}]
["FN030","Investimento com recurso próprio  realizado pelo prestador de serviço ",null,null,null,null,67,{"$f":"IFERROR(HLOOKUP(H$3,'Base de Dados - Água e esgoto'!$H$2:$AB$489,$G68,),\"\")","v":12348336.550000001},{"$f":"IFERROR(HLOOKUP(I$3,'Base de Dados - Água e esgoto'!$H$2:$AB$489,$G68,),\"\")","v":1175340.54},{"$f":"IFERROR(HLOOKUP(J$3,'Base de Dados - Água e esgoto'!$H$2:$AB$489,$G68,),\"\")","v":0},{"$f":"IFERROR(HLOOKUP(K$3,'Base de Dados - Água e esgoto'!$H$2:$AB$489,$G68,),\"\")","v":0},{"$f":"IFERROR(HLOOKUP(L$3,'Base de Dados - Água e esgoto'!$H$2:$AB$489,$G68,),\"\")","v":0}]
["FN031","Investimento com recursos onerosos realizado pelo prestador de serviço ",null,null,null,null,68,{"$f":"IFERROR(HLOOKUP(H$3,'Base de Dados - Água e esgoto'!$H$2:$AB$489,$G69,),\"\")","v":0},{"$f":"IFERROR(HLOOKUP(I$3,'Base de Dados - Água e esgoto'!$H$2:$AB$489,$G69,),\"\")","v":0},{"$f":"IFERROR(HLOOKUP(J$3,'Base de Dados - Água e esgoto'!$H$2:$AB$489,$G69,),\"\")","v":48427968.439999998},{"$f":"IFERROR(HLOOKUP(K$3,'Base de Dados - Água e esgoto'!$H$2:$AB$489,$G69,),\"\")","v":19458578.73},{"$f":"IFERROR(HLOOKUP(L$3,'Base de Dados - Água e esgoto'!$H$2:$AB$489,$G69,),\"\")","v":0}]
["FN032"," Investimento com recursos não onerosos  realizado pelo prestador de serviço ",null,null,null,null,69,{"$f":"IFERROR(HLOOKUP(H$3,'Base de Dados - Água e esgoto'!$H$2:$AB$489,$G70,),\"\")","v":0},{"$f":"IFERROR(HLOOKUP(I$3,'Base de Dados - Água e esgoto'!$H$2:$AB$489,$G70,),\"\")","v":0},{"$f":"IFERROR(HLOOKUP(J$3,'Base de Dados - Água e esgoto'!$H$2:$AB$489,$G70,),\"\")","v":0},{"$f":"IFERROR(HLOOKUP(K$3,'Base de Dados - Água e esgoto'!$H$2:$AB$489,$G70,),\"\")","v":0},{"$f":"IFERROR(HLOOKUP(L$3,'Base de Dados - Água e esgoto'!$H$2:$AB$489,$G70,),\"\")","v":0}]
["FN033"," Investimentos totais realizado pelo prestador de serviços ",null,null,null,null,70,{"$f":"IFERROR(HLOOKUP(H$3,'Base de Dados - Água e esgoto'!$H$2:$AB$489,$G71,),\"\")","v":12348336.550000001},{"$f":"IFERROR(HLOOKUP(I$3,'Base de Dados - Água e esgoto'!$H$2:$AB$489,$G71,),\"\")","v":1175340.54},{"$f":"IFERROR(HLOOKUP(J$3,'Base de Dados - Água e esgoto'!$H$2:$AB$489,$G71,),\"\")","v":48427968.439999998},{"$f":"IFERROR(HLOOKUP(K$3,'Base de Dados - Água e esgoto'!$H$2:$AB$489,$G71,),\"\")","v":19458578.73},{"$f":"IFERROR(HLOOKUP(L$3,'Base de Dados - Água e esgoto'!$H$2:$AB$489,$G71,),\"\")","v":0}]
["ES004","Extensão da rede de esgotos",null,null,null,null,71,{"$f":"IFERROR(HLOOKUP(H$3,'Base de Dados - Água e esgoto'!$H$2:$AB$489,$G72,),\"\")","v":105.6},{"$f":"IFERROR(HLOOKUP(I$3,'Base de Dados - Água e esgoto'!$H$2:$AB$489,$G72,),\"\")","v":105.6},{"$f":"IFERROR(HLOOKUP(J$3,'Base de Dados - Água e esgoto'!$H$2:$AB$489,$G72,),\"\")","v":175.9},{"$f":"IFERROR(HLOOKUP(K$3,'Base de Dados - Água e esgoto'!$H$2:$AB$489,$G72,),\"\")","v":181.67},{"$f":"IFERROR(HLOOKUP(L$3,'Base de Dados - Água e esgoto'!$H$2:$AB$489,$G72,),\"\")","v":0}]
["ES005","Volume de esgotos coletado",null,null,null,null,72,{"$f":"IFERROR(HLOOKUP(H$3,'Base de Dados - Água e esgoto'!$H$2:$AB$489,$G73,),\"\")","v":2609},{"$f":"IFERROR(HLOOKUP(I$3,'Base de Dados - Água e esgoto'!$H$2:$AB$489,$G73,),\"\")","v":2767.72},{"$f":"IFERROR(HLOOKUP(J$3,'Base de Dados - Água e esgoto'!$H$2:$AB$489,$G73,),\"\")","v":3042.59},{"$f":"IFERROR(HLOOKUP(K$3,'Base de Dados - Água e esgoto'!$H$2:$AB$489,$G73,),\"\")","v":3966},{"$f":"IFERROR(HLOOKUP(L$3,'Base de Dados - Água e esgoto'!$H$2:$AB$489,$G73,),\"\")","v":0}]
["ES006","Volume de esgotos Tratado",null,null,null,null,73,{"$f":"IFERROR(HLOOKUP(H$3,'Base de Dados - Água e esgoto'!$H$2:$AB$489,$G74,),\"\")","v":2609},{"$f":"IFERROR(HLOOKUP(I$3,'Base de Dados - Água e esgoto'!$H$2:$AB$489,$G74,),\"\")","v":2767.72},{"$f":"IFERROR(HLOOKUP(J$3,'Base de Dados - Água e esgoto'!$H$2:$AB$489,$G74,),\"\")","v":3042.59},{"$f":"IFERROR(HLOOKUP(K$3,'Base de Dados - Água e esgoto'!$H$2:$AB$489,$G74,),\"\")","v":3966},{"$f":"IFERROR(HLOOKUP(L$3,'Base de Dados - Água e esgoto'!$H$2:$AB$489,$G74,),\"\")","v":0}]
["ES009","Quantidade de ligações totais de esgotos ",null,null,null,null,74,{"$f":"IFERROR(HLOOKUP(H$3,'Base de Dados - Água e esgoto'!$H$2:$AB$489,$G75,),\"\")","v":4679},{"$f":"IFERROR(HLOOKUP(I$3,'Base de Dados - Água e esgoto'!$H$2:$AB$489,$G75,),\"\")","v":4987},{"$f":"IFERROR(HLOOKUP(J$3,'Base de Dados - Água e esgoto'!$H$2:$AB$489,$G75,),\"\")","v":6787},{"$f":"IFERROR(HLOOKUP(K$3,'Base de Dados - Água e esgoto'!$H$2:$AB$489,$G75,),\"\")","v":8775},{"$f":"IFERROR(HLOOKUP(L$3,'Base de Dados - Água e esgoto'!$H$2:$AB$489,$G75,),\"\")","v":0}]
["ES026","População urbana atendida com esgoto sanitário",null,null,null,null,75,{"$f":"IFERROR(HLOOKUP(H$3,'Base de Dados - Água e esgoto'!$H$2:$AB$489,$G76,),\"\")","v":46540},{"$f":"IFERROR(HLOOKUP(I$3,'Base de Dados - Água e esgoto'!$H$2:$AB$489,$G76,),\"\")","v":48108},{"$f":"IFERROR(HLOOKUP(J$3,'Base de Dados - Água e esgoto'!$H$2:$AB$489,$G76,),\"\")","v":51427},{"$f":"IFERROR(HLOOKUP(K$3,'Base de Dados - Água e esgoto'!$H$2:$AB$489,$G76,),\"\")","v":52863},{"$f":"IFERROR(HLOOKUP(L$3,'Base de Dados - Água e esgoto'!$H$2:$AB$489,$G76,),\"\")","v":0}]
["ES028","Consumo total de energia elétrica nos sistemas de esgotos",null,null,null,null,76,{"$f":"IFERROR(HLOOKUP(H$3,'Base de Dados - Água e esgoto'!$H$2:$AB$489,$G77,),\"\")","v":879.44},{"$f":"IFERROR(HLOOKUP(I$3,'Base de Dados - Água e esgoto'!$H$2:$AB$489,$G77,),\"\")","v":901.13},{"$f":"IFERROR(HLOOKUP(J$3,'Base de Dados - Água e esgoto'!$H$2:$AB$489,$G77,),\"\")","v":998.03},{"$f":"IFERROR(HLOOKUP(K$3,'Base de Dados - Água e esgoto'!$H$2:$AB$489,$G77,),\"\")","v":1153.5999999999999},{"$f":"IFERROR(HLOOKUP(L$3,'Base de Dados - Água e esgoto'!$H$2:$AB$489,$G77,),\"\")","v":0}]
["QD015","Quantidade de economias ativas atingidas por interrupções sistemáticas",null,null,null,null,77,{"$f":"IFERROR(HLOOKUP(H$3,'Base de Dados - Água e esgoto'!$H$2:$AB$489,$G78,),\"\")","v":0},{"$f":"IFERROR(HLOOKUP(I$3,'Base de Dados - Água e esgoto'!$H$2:$AB$489,$G78,),\"\")","v":0},{"$f":"IFERROR(HLOOKUP(J$3,'Base de Dados - Água e esgoto'!$H$2:$AB$489,$G78,),\"\")","v":0},{"$f":"IFERROR(HLOOKUP(K$3,'Base de Dados - Água e esgoto'!$H$2:$AB$489,$G78,),\"\")","v":0},{"$f":"IFERROR(HLOOKUP(L$3,'Base de Dados - Água e esgoto'!$H$2:$AB$489,$G78,),\"\")","v":0}]
["QD021","Quantidade de interrupções sistemáticas",null,null,null,null,78,{"$f":"IFERROR(HLOOKUP(H$3,'Base de Dados - Água e esgoto'!$H$2:$AB$489,$G79,),\"\")","v":0},{"$f":"IFERROR(HLOOKUP(I$3,'Base de Dados - Água e esgoto'!$H$2:$AB$489,$G79,),\"\")","v":0},{"$f":"IFERROR(HLOOKUP(J$3,'Base de Dados - Água e esgoto'!$H$2:$AB$489,$G79,),\"\")","v":0},{"$f":"IFERROR(HLOOKUP(K$3,'Base de Dados - Água e esgoto'!$H$2:$AB$489,$G79,),\"\")","v":0},{"$f":"IFERROR(HLOOKUP(L$3,'Base de Dados - Água e esgoto'!$H$2:$AB$489,$G79,),\"\")","v":0}]
["QD022","Duração das interrupções sistemáticas",null,null,null,null,79,{"$f":"IFERROR(HLOOKUP(H$3,'Base de Dados - Água e esgoto'!$H$2:$AB$489,$G80,),\"\")","v":0},{"$f":"IFERROR(HLOOKUP(I$3,'Base de Dados - Água e esgoto'!$H$2:$AB$489,$G80,),\"\")","v":0},{"$f":"IFERROR(HLOOKUP(J$3,'Base de Dados - Água e esgoto'!$H$2:$AB$489,$G80,),\"\")","v":0},{"$f":"IFERROR(HLOOKUP(K$3,'Base de Dados - Água e esgoto'!$H$2:$AB$489,$G80,),\"\")","v":0},{"$f":"IFERROR(HLOOKUP(L$3,'Base de Dados - Água e esgoto'!$H$2:$AB$489,$G80,),\"\")","v":0}]
["QD011","Quantidades de extravasamentos de esgotos registrados",null,null,null,null,80,{"$f":"IFERROR(HLOOKUP(H$3,'Base de Dados - Água e esgoto'!$H$2:$AB$489,$G81,),\"\")","v":118},{"$f":"IFERROR(HLOOKUP(I$3,'Base de Dados - Água e esgoto'!$H$2:$AB$489,$G81,),\"\")","v":216},{"$f":"IFERROR(HLOOKUP(J$3,'Base de Dados - Água e esgoto'!$H$2:$AB$489,$G81,),\"\")","v":280},{"$f":"IFERROR(HLOOKUP(K$3,'Base de Dados - Água e esgoto'!$H$2:$AB$489,$G81,),\"\")","v":290},{"$f":"IFERROR(HLOOKUP(L$3,'Base de Dados - Água e esgoto'!$H$2:$AB$489,$G81,),\"\")","v":0}]
["QD012","Duração dos extravasamentos registrados",null,null,null,null,81,{"$f":"IFERROR(HLOOKUP(H$3,'Base de Dados - Água e esgoto'!$H$2:$AB$489,$G82,),\"\")","v":65},{"$f":"IFERROR(HLOOKUP(I$3,'Base de Dados - Água e esgoto'!$H$2:$AB$489,$G82,),\"\")","v":230.23},{"$f":"IFERROR(HLOOKUP(J$3,'Base de Dados - Água e esgoto'!$H$2:$AB$489,$G82,),\"\")","v":336.56},{"$f":"IFERROR(HLOOKUP(K$3,'Base de Dados - Água e esgoto'!$H$2:$AB$489,$G82,),\"\")","v":295},{"$f":"IFERROR(HLOOKUP(L$3,'Base de Dados - Água e esgoto'!$H$2:$AB$489,$G82,),\"\")","v":0}]
["BL001","Ativo circulante",null,null,null,null,82,{"$f":"IFERROR(HLOOKUP(H$3,'Base de Dados - Água e esgoto'!$H$2:$AB$489,$G83,),\"\")","v":9482},{"$f":"IFERROR(HLOOKUP(I$3,'Base de Dados - Água e esgoto'!$H$2:$AB$489,$G83,),\"\")","v":8425},{"$f":"IFERROR(HLOOKUP(J$3,'Base de Dados - Água e esgoto'!$H$2:$AB$489,$G83,),\"\")","v":23576},{"$f":"IFERROR(HLOOKUP(K$3,'Base de Dados - Água e esgoto'!$H$2:$AB$489,$G83,),\"\")","v":14469},{"$f":"IFERROR(HLOOKUP(L$3,'Base de Dados - Água e esgoto'!$H$2:$AB$489,$G83,),\"\")","v":0}]
["BL005","Passivo circulante",null,null,null,null,83,{"$f":"IFERROR(HLOOKUP(H$3,'Base de Dados - Água e esgoto'!$H$2:$AB$489,$G84,),\"\")","v":2419},{"$f":"IFERROR(HLOOKUP(I$3,'Base de Dados - Água e esgoto'!$H$2:$AB$489,$G84,),\"\")","v":32087},{"$f":"IFERROR(HLOOKUP(J$3,'Base de Dados - Água e esgoto'!$H$2:$AB$489,$G84,),\"\")","v":21729},{"$f":"IFERROR(HLOOKUP(K$3,'Base de Dados - Água e esgoto'!$H$2:$AB$489,$G84,),\"\")","v":26759},{"$f":"IFERROR(HLOOKUP(L$3,'Base de Dados - Água e esgoto'!$H$2:$AB$489,$G84,),\"\")","v":0}]
["BL003","Exigível a longo prazo",null,null,null,null,84,{"$f":"IFERROR(HLOOKUP(H$3,'Base de Dados - Água e esgoto'!$H$2:$AB$489,$G85,),\"\")","v":53969},{"$f":"IFERROR(HLOOKUP(I$3,'Base de Dados - Água e esgoto'!$H$2:$AB$489,$G85,),\"\")","v":62659},{"$f":"IFERROR(HLOOKUP(J$3,'Base de Dados - Água e esgoto'!$H$2:$AB$489,$G85,),\"\")","v":133362},{"$f":"IFERROR(HLOOKUP(K$3,'Base de Dados - Água e esgoto'!$H$2:$AB$489,$G85,),\"\")","v":131347},{"$f":"IFERROR(HLOOKUP(L$3,'Base de Dados - Água e esgoto'!$H$2:$AB$489,$G85,),\"\")","v":0}]
["BL010","Realizável a longo prazo",null,null,null,null,85,{"$f":"IFERROR(HLOOKUP(H$3,'Base de Dados - Água e esgoto'!$H$2:$AB$489,$G86,),\"\")","v":2855},{"$f":"IFERROR(HLOOKUP(I$3,'Base de Dados - Água e esgoto'!$H$2:$AB$489,$G86,),\"\")","v":325},{"$f":"IFERROR(HLOOKUP(J$3,'Base de Dados - Água e esgoto'!$H$2:$AB$489,$G86,),\"\")","v":2590},{"$f":"IFERROR(HLOOKUP(K$3,'Base de Dados - Água e esgoto'!$H$2:$AB$489,$G86,),\"\")","v":1647},{"$f":"IFERROR(HLOOKUP(L$3,'Base de Dados - Água e esgoto'!$H$2:$AB$489,$G86,),\"\")","v":0}]
["BL002","Ativo total",null,null,null,null,86,{"$f":"IFERROR(HLOOKUP(H$3,'Base de Dados - Água e esgoto'!$H$2:$AB$489,$G87,),\"\")","v":119249},{"$f":"IFERROR(HLOOKUP(I$3,'Base de Dados - Água e esgoto'!$H$2:$AB$489,$G87,),\"\")","v":129474},{"$f":"IFERROR(HLOOKUP(J$3,'Base de Dados - Água e esgoto'!$H$2:$AB$489,$G87,),\"\")","v":190094},{"$f":"IFERROR(HLOOKUP(K$3,'Base de Dados - Água e esgoto'!$H$2:$AB$489,$G87,),\"\")","v":191975},{"$f":"IFERROR(HLOOKUP(L$3,'Base de Dados - Água e esgoto'!$H$2:$AB$489,$G87,),\"\")","v":0}]
["BL008","Resultado de exercícios futuros",null,null,null,null,87,{"$f":"IFERROR(HLOOKUP(H$3,'Base de Dados - Água e esgoto'!$H$2:$AB$489,$G88,),\"\")","v":0},{"$f":"IFERROR(HLOOKUP(I$3,'Base de Dados - Água e esgoto'!$H$2:$AB$489,$G88,),\"\")","v":0},{"$f":"IFERROR(HLOOKUP(J$3,'Base de Dados - Água e esgoto'!$H$2:$AB$489,$G88,),\"\")","v":0},{"$f":"IFERROR(HLOOKUP(K$3,'Base de Dados - Água e esgoto'!$H$2:$AB$489,$G88,),\"\")","v":0},{"$f":"IFERROR(HLOOKUP(L$3,'Base de Dados - Água e esgoto'!$H$2:$AB$489,$G88,),\"\")","v":0}]
["BL007"," Receita operacional",null,null,null,null,88,{"$f":"IFERROR(HLOOKUP(H$3,'Base de Dados - Água e esgoto'!$H$2:$AB$489,$G89,),\"\")","v":49004},{"$f":"IFERROR(HLOOKUP(I$3,'Base de Dados - Água e esgoto'!$H$2:$AB$489,$G89,),\"\")","v":50942},{"$f":"IFERROR(HLOOKUP(J$3,'Base de Dados - Água e esgoto'!$H$2:$AB$489,$G89,),\"\")","v":56668},{"$f":"IFERROR(HLOOKUP(K$3,'Base de Dados - Água e esgoto'!$H$2:$AB$489,$G89,),\"\")","v":63123},{"$f":"IFERROR(HLOOKUP(L$3,'Base de Dados - Água e esgoto'!$H$2:$AB$489,$G89,),\"\")","v":0}]
["BL009","Resultado operacional com depreciação",null,null,null,null,89,{"$f":"IFERROR(HLOOKUP(H$3,'Base de Dados - Água e esgoto'!$H$2:$AB$489,$G90,),\"\")","v":24005},{"$f":"IFERROR(HLOOKUP(I$3,'Base de Dados - Água e esgoto'!$H$2:$AB$489,$G90,),\"\")","v":22139},{"$f":"IFERROR(HLOOKUP(J$3,'Base de Dados - Água e esgoto'!$H$2:$AB$489,$G90,),\"\")","v":15464},{"$f":"IFERROR(HLOOKUP(K$3,'Base de Dados - Água e esgoto'!$H$2:$AB$489,$G90,),\"\")","v":17546},{"$f":"IFERROR(HLOOKUP(L$3,'Base de Dados - Água e esgoto'!$H$2:$AB$489,$G90,),\"\")","v":0}]
["BL012","Resultado operacional sem depreciação ",null,null,null,null,90,{"$f":"IFERROR(HLOOKUP(H$3,'Base de Dados - Água e esgoto'!$H$2:$AB$489,$G91,),\"\")","v":2419},{"$f":"IFERROR(HLOOKUP(I$3,'Base de Dados - Água e esgoto'!$H$2:$AB$489,$G91,),\"\")","v":4159},{"$f":"IFERROR(HLOOKUP(J$3,'Base de Dados - Água e esgoto'!$H$2:$AB$489,$G91,),\"\")","v":361},{"$f":"IFERROR(HLOOKUP(K$3,'Base de Dados - Água e esgoto'!$H$2:$AB$489,$G91,),\"\")","v":-5744},{"$f":"IFERROR(HLOOKUP(L$3,'Base de Dados - Água e esgoto'!$H$2:$AB$489,$G91,),\"\")","v":0}]
["BL004"," Lucro líquido com depreciação",null,null,null,null,91,{"$f":"IFERROR(HLOOKUP(H$3,'Base de Dados - Água e esgoto'!$H$2:$AB$489,$G92,),\"\")","v":2419},{"$f":"IFERROR(HLOOKUP(I$3,'Base de Dados - Água e esgoto'!$H$2:$AB$489,$G92,),\"\")","v":4159},{"$f":"IFERROR(HLOOKUP(J$3,'Base de Dados - Água e esgoto'!$H$2:$AB$489,$G92,),\"\")","v":361},{"$f":"IFERROR(HLOOKUP(K$3,'Base de Dados - Água e esgoto'!$H$2:$AB$489,$G92,),\"\")","v":-5744},{"$f":"IFERROR(HLOOKUP(L$3,'Base de Dados - Água e esgoto'!$H$2:$AB$489,$G92,),\"\")","v":0}]
["BL011","Lucro líquido sem depreciação",null,null,null,null,92,{"$f":"IFERROR(HLOOKUP(H$3,'Base de Dados - Água e esgoto'!$H$2:$AB$489,$G93,),\"\")","v":5489},{"$f":"IFERROR(HLOOKUP(I$3,'Base de Dados - Água e esgoto'!$H$2:$AB$489,$G93,),\"\")","v":8711},{"$f":"IFERROR(HLOOKUP(J$3,'Base de Dados - Água e esgoto'!$H$2:$AB$489,$G93,),\"\")","v":6786},{"$f":"IFERROR(HLOOKUP(K$3,'Base de Dados - Água e esgoto'!$H$2:$AB$489,$G93,),\"\")","v":2265},{"$f":"IFERROR(HLOOKUP(L$3,'Base de Dados - Água e esgoto'!$H$2:$AB$489,$G93,),\"\")","v":0}]
["BL006","Patrimônio líquido",null,null,null,null,93,{"$f":"IFERROR(HLOOKUP(H$3,'Base de Dados - Água e esgoto'!$H$2:$AB$489,$G94,),\"\")","v":34830},{"$f":"IFERROR(HLOOKUP(I$3,'Base de Dados - Água e esgoto'!$H$2:$AB$489,$G94,),\"\")","v":34728},{"$f":"IFERROR(HLOOKUP(J$3,'Base de Dados - Água e esgoto'!$H$2:$AB$489,$G94,),\"\")","v":35003},{"$f":"IFERROR(HLOOKUP(K$3,'Base de Dados - Água e esgoto'!$H$2:$AB$489,$G94,),\"\")","v":33869},{"$f":"IFERROR(HLOOKUP(L$3,'Base de Dados - Água e esgoto'!$H$2:$AB$489,$G94,),\"\")","v":0}]
["ES001","Polulação total atendida com esgotamento sanitário",null,null,null,null,94,{"$f":"IFERROR(HLOOKUP(H$3,'Base de Dados - Água e esgoto'!$H$2:$AB$489,$G95,),\"\")","v":46540},{"$f":"IFERROR(HLOOKUP(I$3,'Base de Dados - Água e esgoto'!$H$2:$AB$489,$G95,),\"\")","v":48108},{"$f":"IFERROR(HLOOKUP(J$3,'Base de Dados - Água e esgoto'!$H$2:$AB$489,$G95,),\"\")","v":51427},{"$f":"IFERROR(HLOOKUP(K$3,'Base de Dados - Água e esgoto'!$H$2:$AB$489,$G95,),\"\")","v":52863},{"$f":"IFERROR(HLOOKUP(L$3,'Base de Dados - Água e esgoto'!$H$2:$AB$489,$G95,),\"\")","v":0}]
["ES007","Volume de esgoto faturado",null,null,null,null,95,{"$f":"IFERROR(HLOOKUP(H$3,'Base de Dados - Água e esgoto'!$H$2:$AB$489,$G96,),\"\")","v":2609},{"$f":"IFERROR(HLOOKUP(I$3,'Base de Dados - Água e esgoto'!$H$2:$AB$489,$G96,),\"\")","v":2767.72},{"$f":"IFERROR(HLOOKUP(J$3,'Base de Dados - Água e esgoto'!$H$2:$AB$489,$G96,),\"\")","v":3042.59},{"$f":"IFERROR(HLOOKUP(K$3,'Base de Dados - Água e esgoto'!$H$2:$AB$489,$G96,),\"\")","v":3966},{"$f":"IFERROR(HLOOKUP(L$3,'Base de Dados - Água e esgoto'!$H$2:$AB$489,$G96,),\"\")","v":0}]
["ES013","Volume de esgoto bruto importado",null,null,null,null,96,{"$f":"IFERROR(HLOOKUP(H$3,'Base de Dados - Água e esgoto'!$H$2:$AB$489,$G97,),\"\")","v":0},{"$f":"IFERROR(HLOOKUP(I$3,'Base de Dados - Água e esgoto'!$H$2:$AB$489,$G97,),\"\")","v":0},{"$f":"IFERROR(HLOOKUP(J$3,'Base de Dados - Água e esgoto'!$H$2:$AB$489,$G97,),\"\")","v":0},{"$f":"IFERROR(HLOOKUP(K$3,'Base de Dados - Água e esgoto'!$H$2:$AB$489,$G97,),\"\")","v":0},{"$f":"IFERROR(HLOOKUP(L$3,'Base de Dados - Água e esgoto'!$H$2:$AB$489,$G97,),\"\")","v":0}]
["ES008","Quantidade de economias residenciais ativas de esgotos",null,null,null,null,97,{"$f":"IFERROR(HLOOKUP(H$3,'Base de Dados - Água e esgoto'!$H$2:$AB$489,$G98,),\"\")","v":24702},{"$f":"IFERROR(HLOOKUP(I$3,'Base de Dados - Água e esgoto'!$H$2:$AB$489,$G98,),\"\")","v":26655},{"$f":"IFERROR(HLOOKUP(J$3,'Base de Dados - Água e esgoto'!$H$2:$AB$489,$G98,),\"\")","v":34093},{"$f":"IFERROR(HLOOKUP(K$3,'Base de Dados - Água e esgoto'!$H$2:$AB$489,$G98,),\"\")","v":0},{"$f":"IFERROR(HLOOKUP(L$3,'Base de Dados - Água e esgoto'!$H$2:$AB$489,$G98,),\"\")","v":0}]
[null,null,null,null,null,null,98,{"$f":"IFERROR(HLOOKUP(H$3,'Base de Dados - Água e esgoto'!$H$2:$AB$489,$G99,),\"\")","v":0},{"$f":"IFERROR(HLOOKUP(I$3,'Base de Dados - Água e esgoto'!$H$2:$AB$489,$G99,),\"\")","v":0},{"$f":"IFERROR(HLOOKUP(J$3,'Base de Dados - Água e esgoto'!$H$2:$AB$489,$G99,),\"\")","v":0},{"$f":"IFERROR(HLOOKUP(K$3,'Base de Dados - Água e esgoto'!$H$2:$AB$489,$G99,),\"\")","v":0},{"$f":"IFERROR(HLOOKUP(L$3,'Base de Dados - Água e esgoto'!$H$2:$AB$489,$G99,),\"\")","v":0}]
[null,null,null,null,null,null,99,{"$f":"IFERROR(HLOOKUP(H$3,'Base de Dados - Água e esgoto'!$H$2:$AB$489,$G100,),\"\")","v":0},{"$f":"IFERROR(HLOOKUP(I$3,'Base de Dados - Água e esgoto'!$H$2:$AB$489,$G100,),\"\")","v":0},{"$f":"IFERROR(HLOOKUP(J$3,'Base de Dados - Água e esgoto'!$H$2:$AB$489,$G100,),\"\")","v":0},{"$f":"IFERROR(HLOOKUP(K$3,'Base de Dados - Água e esgoto'!$H$2:$AB$489,$G100,),\"\")","v":0},{"$f":"IFERROR(HLOOKUP(L$3,'Base de Dados - Água e esgoto'!$H$2:$AB$489,$G100,),\"\")","v":0}]
[null,null,null,null,null,null,100,{"$f":"IFERROR(HLOOKUP(H$3,'Base de Dados - Água e esgoto'!$H$2:$AB$489,$G101,),\"\")","v":0},{"$f":"IFERROR(HLOOKUP(I$3,'Base de Dados - Água e esgoto'!$H$2:$AB$489,$G101,),\"\")","v":0},{"$f":"IFERROR(HLOOKUP(J$3,'Base de Dados - Água e esgoto'!$H$2:$AB$489,$G101,),\"\")","v":0},{"$f":"IFERROR(HLOOKUP(K$3,'Base de Dados - Água e esgoto'!$H$2:$AB$489,$G101,),\"\")","v":0},{"$f":"IFERROR(HLOOKUP(L$3,'Base de Dados - Água e esgoto'!$H$2:$AB$489,$G101,),\"\")","v":0}]
[null,"Quantidade de economias residenciais ativas de água (similar ao SNIS AG013)",null,null,null,null,101,{"$f":"IFERROR(HLOOKUP(H$3,'Base de Dados - Água e esgoto'!$H$2:$AB$489,$G102,),\"\")","v":38630},{"$f":"IFERROR(HLOOKUP(I$3,'Base de Dados - Água e esgoto'!$H$2:$AB$489,$G102,),\"\")","v":40940},{"$f":"IFERROR(HLOOKUP(J$3,'Base de Dados - Água e esgoto'!$H$2:$AB$489,$G102,),\"\")","v":42821},{"$f":"IFERROR(HLOOKUP(K$3,'Base de Dados - Água e esgoto'!$H$2:$AB$489,$G102,),\"\")","v":45286},{"$f":"IFERROR(HLOOKUP(L$3,'Base de Dados - Água e esgoto'!$H$2:$AB$489,$G102,),\"\")","v":0}]
[null,"Quantidade de economias residenciais inativas de água",null,null,null,null,102,{"$f":"IFERROR(HLOOKUP(H$3,'Base de Dados - Água e esgoto'!$H$2:$AB$489,$G103,),\"\")","v":0},{"$f":"IFERROR(HLOOKUP(I$3,'Base de Dados - Água e esgoto'!$H$2:$AB$489,$G103,),\"\")","v":0},{"$f":"IFERROR(HLOOKUP(J$3,'Base de Dados - Água e esgoto'!$H$2:$AB$489,$G103,),\"\")","v":0},{"$f":"IFERROR(HLOOKUP(K$3,'Base de Dados - Água e esgoto'!$H$2:$AB$489,$G103,),\"\")","v":0},{"$f":"IFERROR(HLOOKUP(L$3,'Base de Dados - Água e esgoto'!$H$2:$AB$489,$G103,),\"\")","v":0}]
[null,"Quantidade de economias residenciais ativas com coleta de esgoto (similar ao SNIS ES008)",null,null,null,null,103,{"$f":"IFERROR(HLOOKUP(H$3,'Base de Dados - Água e esgoto'!$H$2:$AB$489,$G104,),\"\")","v":24702},{"$f":"IFERROR(HLOOKUP(I$3,'Base de Dados - Água e esgoto'!$H$2:$AB$489,$G104,),\"\")","v":26655},{"$f":"IFERROR(HLOOKUP(J$3,'Base de Dados - Água e esgoto'!$H$2:$AB$489,$G104,),\"\")","v":34093},{"$f":"IFERROR(HLOOKUP(K$3,'Base de Dados - Água e esgoto'!$H$2:$AB$489,$G104,),\"\")","v":35415},{"$f":"IFERROR(HLOOKUP(L$3,'Base de Dados - Água e esgoto'!$H$2:$AB$489,$G104,),\"\")","v":0}]
[null,"Quantidade de economias residenciais inativas com coleta de esgoto",null,null,null,null,104,{"$f":"IFERROR(HLOOKUP(H$3,'Base de Dados - Água e esgoto'!$H$2:$AB$489,$G105,),\"\")","v":0},{"$f":"IFERROR(HLOOKUP(I$3,'Base de Dados - Água e esgoto'!$H$2:$AB$489,$G105,),\"\")","v":0},{"$f":"IFERROR(HLOOKUP(J$3,'Base de Dados - Água e esgoto'!$H$2:$AB$489,$G105,),\"\")","v":0},{"$f":"IFERROR(HLOOKUP(K$3,'Base de Dados - Água e esgoto'!$H$2:$AB$489,$G105,),\"\")","v":0},{"$f":"IFERROR(HLOOKUP(L$3,'Base de Dados - Água e esgoto'!$H$2:$AB$489,$G105,),\"\")","v":0}]
[null,"Quantidade de economias residenciais ativas com tratamento de esgoto (similar ao SNIS ES008)",null,null,null,null,105,{"$f":"IFERROR(HLOOKUP(H$3,'Base de Dados - Água e esgoto'!$H$2:$AB$489,$G106,),\"\")","v":24702},{"$f":"IFERROR(HLOOKUP(I$3,'Base de Dados - Água e esgoto'!$H$2:$AB$489,$G106,),\"\")","v":26655},{"$f":"IFERROR(HLOOKUP(J$3,'Base de Dados - Água e esgoto'!$H$2:$AB$489,$G106,),\"\")","v":34093},{"$f":"IFERROR(HLOOKUP(K$3,'Base de Dados - Água e esgoto'!$H$2:$AB$489,$G106,),\"\")","v":35415},{"$f":"IFERROR(HLOOKUP(L$3,'Base de Dados - Água e esgoto'!$H$2:$AB$489,$G106,),\"\")","v":0}]
[null,"Quantidade de economias residenciais inativas com tratamento de esgoto",null,null,null,null,106,{"$f":"IFERROR(HLOOKUP(H$3,'Base de Dados - Água e esgoto'!$H$2:$AB$489,$G107,),\"\")","v":0},{"$f":"IFERROR(HLOOKUP(I$3,'Base de Dados - Água e esgoto'!$H$2:$AB$489,$G107,),\"\")","v":0},{"$f":"IFERROR(HLOOKUP(J$3,'Base de Dados - Água e esgoto'!$H$2:$AB$489,$G107,),\"\")","v":0},{"$f":"IFERROR(HLOOKUP(K$3,'Base de Dados - Água e esgoto'!$H$2:$AB$489,$G107,),\"\")","v":0},{"$f":"IFERROR(HLOOKUP(L$3,'Base de Dados - Água e esgoto'!$H$2:$AB$489,$G107,),\"\")","v":0}]
[null,"Quantidade total de domicílios residenciais existentes na área de abrangência do Prestador de Serviços (adotado similar a AG013)",null,null,null,null,107,{"$f":"IFERROR(HLOOKUP(H$3,'Base de Dados - Água e esgoto'!$H$2:$AB$489,$G108,),\"\")","v":38630},{"$f":"IFERROR(HLOOKUP(I$3,'Base de Dados - Água e esgoto'!$H$2:$AB$489,$G108,),\"\")","v":40940},{"$f":"IFERROR(HLOOKUP(J$3,'Base de Dados - Água e esgoto'!$H$2:$AB$489,$G108,),\"\")","v":42821},{"$f":"IFERROR(HLOOKUP(K$3,'Base de Dados - Água e esgoto'!$H$2:$AB$489,$G108,),\"\")","v":45286}]
[null,null,null,null,null,null,108,{"$f":"IFERROR(HLOOKUP(H$3,'Base de Dados - Água e esgoto'!$H$2:$AB$489,$G109,),\"\")","v":0},{"$f":"IFERROR(HLOOKUP(I$3,'Base de Dados - Água e esgoto'!$H$2:$AB$489,$G109,),\"\")","v":0},{"$f":"IFERROR(HLOOKUP(J$3,'Base de Dados - Água e esgoto'!$H$2:$AB$489,$G109,),\"\")","v":0},{"$f":"IFERROR(HLOOKUP(K$3,'Base de Dados - Água e esgoto'!$H$2:$AB$489,$G109,),\"\")","v":0}]
[null,null,null,null,null,null,109,{"$f":"IFERROR(HLOOKUP(H$3,'Base de Dados - Água e esgoto'!$H$2:$AB$489,$G110,),\"\")","v":0},{"$f":"IFERROR(HLOOKUP(I$3,'Base de Dados - Água e esgoto'!$H$2:$AB$489,$G110,),\"\")","v":0},{"$f":"IFERROR(HLOOKUP(J$3,'Base de Dados - Água e esgoto'!$H$2:$AB$489,$G110,),\"\")","v":0},{"$f":"IFERROR(HLOOKUP(K$3,'Base de Dados - Água e esgoto'!$H$2:$AB$489,$G110,),\"\")","v":0}]
[null,null,null,null,null,null,110,{"$f":"IFERROR(HLOOKUP(H$3,'Base de Dados - Água e esgoto'!$H$2:$AB$489,$G111,),\"\")","v":0},{"$f":"IFERROR(HLOOKUP(I$3,'Base de Dados - Água e esgoto'!$H$2:$AB$489,$G111,),\"\")","v":0},{"$f":"IFERROR(HLOOKUP(J$3,'Base de Dados - Água e esgoto'!$H$2:$AB$489,$G111,),\"\")","v":0},{"$f":"IFERROR(HLOOKUP(K$3,'Base de Dados - Água e esgoto'!$H$2:$AB$489,$G111,),\"\")","v":0}]
[null,null,null,null,null,null,111,{"$f":"IFERROR(HLOOKUP(H$3,'Base de Dados - Água e esgoto'!$H$2:$AB$489,$G112,),\"\")","v":0},{"$f":"IFERROR(HLOOKUP(I$3,'Base de Dados - Água e esgoto'!$H$2:$AB$489,$G112,),\"\")","v":0},{"$f":"IFERROR(HLOOKUP(J$3,'Base de Dados - Água e esgoto'!$H$2:$AB$489,$G112,),\"\")","v":0},{"$f":"IFERROR(HLOOKUP(K$3,'Base de Dados - Água e esgoto'!$H$2:$AB$489,$G112,),\"\")","v":0}]
[null,null,null,null,null,null,112,{"$f":"IFERROR(HLOOKUP(H$3,'Base de Dados - Água e esgoto'!$H$2:$AB$489,$G113,),\"\")","v":0},{"$f":"IFERROR(HLOOKUP(I$3,'Base de Dados - Água e esgoto'!$H$2:$AB$489,$G113,),\"\")","v":0},{"$f":"IFERROR(HLOOKUP(J$3,'Base de Dados - Água e esgoto'!$H$2:$AB$489,$G113,),\"\")","v":0},{"$f":"IFERROR(HLOOKUP(K$3,'Base de Dados - Água e esgoto'!$H$2:$AB$489,$G113,),\"\")","v":0}]
[null,null,null,null,null,null,113,{"$f":"IFERROR(HLOOKUP(H$3,'Base de Dados - Água e esgoto'!$H$2:$AB$489,$G114,),\"\")","v":0},{"$f":"IFERROR(HLOOKUP(I$3,'Base de Dados - Água e esgoto'!$H$2:$AB$489,$G114,),\"\")","v":0},{"$f":"IFERROR(HLOOKUP(J$3,'Base de Dados - Água e esgoto'!$H$2:$AB$489,$G114,),\"\")","v":0},{"$f":"IFERROR(HLOOKUP(K$3,'Base de Dados - Água e esgoto'!$H$2:$AB$489,$G114,),\"\")","v":0}]
[null,null,null,null,null,null,114,{"$f":"IFERROR(HLOOKUP(H$3,'Base de Dados - Água e esgoto'!$H$2:$AB$489,$G115,),\"\")","v":0},{"$f":"IFERROR(HLOOKUP(I$3,'Base de Dados - Água e esgoto'!$H$2:$AB$489,$G115,),\"\")","v":0},{"$f":"IFERROR(HLOOKUP(J$3,'Base de Dados - Água e esgoto'!$H$2:$AB$489,$G115,),\"\")","v":0},{"$f":"IFERROR(HLOOKUP(K$3,'Base de Dados - Água e esgoto'!$H$2:$AB$489,$G115,),\"\")","v":0}]
[null,null,null,null,null,null,115,{"$f":"IFERROR(HLOOKUP(H$3,'Base de Dados - Água e esgoto'!$H$2:$AB$489,$G116,),\"\")","v":0},{"$f":"IFERROR(HLOOKUP(I$3,'Base de Dados - Água e esgoto'!$H$2:$AB$489,$G116,),\"\")","v":0},{"$f":"IFERROR(HLOOKUP(J$3,'Base de Dados - Água e esgoto'!$H$2:$AB$489,$G116,),\"\")","v":0},{"$f":"IFERROR(HLOOKUP(K$3,'Base de Dados - Água e esgoto'!$H$2:$AB$489,$G116,),\"\")","v":0}]
[null,null,null,null,null,null,116,{"$f":"IFERROR(HLOOKUP(H$3,'Base de Dados - Água e esgoto'!$H$2:$AB$489,$G117,),\"\")","v":0},{"$f":"IFERROR(HLOOKUP(I$3,'Base de Dados - Água e esgoto'!$H$2:$AB$489,$G117,),\"\")","v":0},{"$f":"IFERROR(HLOOKUP(J$3,'Base de Dados - Água e esgoto'!$H$2:$AB$489,$G117,),\"\")","v":0},{"$f":"IFERROR(HLOOKUP(K$3,'Base de Dados - Água e esgoto'!$H$2:$AB$489,$G117,),\"\")","v":0}]
[null,null,null,null,null,null,117,{"$f":"IFERROR(HLOOKUP(H$3,'Base de Dados - Água e esgoto'!$H$2:$AB$489,$G118,),\"\")","v":0},{"$f":"IFERROR(HLOOKUP(I$3,'Base de Dados - Água e esgoto'!$H$2:$AB$489,$G118,),\"\")","v":0},{"$f":"IFERROR(HLOOKUP(J$3,'Base de Dados - Água e esgoto'!$H$2:$AB$489,$G118,),\"\")","v":0},{"$f":"IFERROR(HLOOKUP(K$3,'Base de Dados - Água e esgoto'!$H$2:$AB$489,$G118,),\"\")","v":0}]
[null,null,null,null,null,null,118,{"$f":"IFERROR(HLOOKUP(H$3,'Base de Dados - Água e esgoto'!$H$2:$AB$489,$G119,),\"\")","v":0},{"$f":"IFERROR(HLOOKUP(I$3,'Base de Dados - Água e esgoto'!$H$2:$AB$489,$G119,),\"\")","v":0},{"$f":"IFERROR(HLOOKUP(J$3,'Base de Dados - Água e esgoto'!$H$2:$AB$489,$G119,),\"\")","v":0},{"$f":"IFERROR(HLOOKUP(K$3,'Base de Dados - Água e esgoto'!$H$2:$AB$489,$G119,),\"\")","v":0}]
[null,null,null,null,null,null,119,{"$f":"IFERROR(HLOOKUP(H$3,'Base de Dados - Água e esgoto'!$H$2:$AB$489,$G120,),\"\")","v":0},{"$f":"IFERROR(HLOOKUP(I$3,'Base de Dados - Água e esgoto'!$H$2:$AB$489,$G120,),\"\")","v":0},{"$f":"IFERROR(HLOOKUP(J$3,'Base de Dados - Água e esgoto'!$H$2:$AB$489,$G120,),\"\")","v":0},{"$f":"IFERROR(HLOOKUP(K$3,'Base de Dados - Água e esgoto'!$H$2:$AB$489,$G120,),\"\")","v":0}]
[null,null,null,null,null,null,120,{"$f":"IFERROR(HLOOKUP(H$3,'Base de Dados - Água e esgoto'!$H$2:$AB$489,$G121,),\"\")","v":0},{"$f":"IFERROR(HLOOKUP(I$3,'Base de Dados - Água e esgoto'!$H$2:$AB$489,$G121,),\"\")","v":0},{"$f":"IFERROR(HLOOKUP(J$3,'Base de Dados - Água e esgoto'!$H$2:$AB$489,$G121,),\"\")","v":0},{"$f":"IFERROR(HLOOKUP(K$3,'Base de Dados - Água e esgoto'!$H$2:$AB$489,$G121,),\"\")","v":0}]
[null,null,null,null,null,null,121,{"$f":"IFERROR(HLOOKUP(H$3,'Base de Dados - Água e esgoto'!$H$2:$AB$489,$G122,),\"\")","v":0},{"$f":"IFERROR(HLOOKUP(I$3,'Base de Dados - Água e esgoto'!$H$2:$AB$489,$G122,),\"\")","v":0},{"$f":"IFERROR(HLOOKUP(J$3,'Base de Dados - Água e esgoto'!$H$2:$AB$489,$G122,),\"\")","v":0},{"$f":"IFERROR(HLOOKUP(K$3,'Base de Dados - Água e esgoto'!$H$2:$AB$489,$G122,),\"\")","v":0}]
[null,null,null,null,null,null,122,{"$f":"IFERROR(HLOOKUP(H$3,'Base de Dados - Água e esgoto'!$H$2:$AB$489,$G123,),\"\")","v":0},{"$f":"IFERROR(HLOOKUP(I$3,'Base de Dados - Água e esgoto'!$H$2:$AB$489,$G123,),\"\")","v":0},{"$f":"IFERROR(HLOOKUP(J$3,'Base de Dados - Água e esgoto'!$H$2:$AB$489,$G123,),\"\")","v":0},{"$f":"IFERROR(HLOOKUP(K$3,'Base de Dados - Água e esgoto'!$H$2:$AB$489,$G123,),\"\")","v":0}]
[null,null,null,null,null,null,123,{"$f":"IFERROR(HLOOKUP(H$3,'Base de Dados - Água e esgoto'!$H$2:$AB$489,$G124,),\"\")","v":0},{"$f":"IFERROR(HLOOKUP(I$3,'Base de Dados - Água e esgoto'!$H$2:$AB$489,$G124,),\"\")","v":0},{"$f":"IFERROR(HLOOKUP(J$3,'Base de Dados - Água e esgoto'!$H$2:$AB$489,$G124,),\"\")","v":0},{"$f":"IFERROR(HLOOKUP(K$3,'Base de Dados - Água e esgoto'!$H$2:$AB$489,$G124,),\"\")","v":0}]
[null,null,null,null,null,null,124,{"$f":"IFERROR(HLOOKUP(H$3,'Base de Dados - Água e esgoto'!$H$2:$AB$489,$G125,),\"\")","v":0},{"$f":"IFERROR(HLOOKUP(I$3,'Base de Dados - Água e esgoto'!$H$2:$AB$489,$G125,),\"\")","v":0},{"$f":"IFERROR(HLOOKUP(J$3,'Base de Dados - Água e esgoto'!$H$2:$AB$489,$G125,),\"\")","v":0},{"$f":"IFERROR(HLOOKUP(K$3,'Base de Dados - Água e esgoto'!$H$2:$AB$489,$G125,),\"\")","v":0}]
[null,null,null,null,null,null,125,{"$f":"IFERROR(HLOOKUP(H$3,'Base de Dados - Água e esgoto'!$H$2:$AB$489,$G126,),\"\")","v":0},{"$f":"IFERROR(HLOOKUP(I$3,'Base de Dados - Água e esgoto'!$H$2:$AB$489,$G126,),\"\")","v":0},{"$f":"IFERROR(HLOOKUP(J$3,'Base de Dados - Água e esgoto'!$H$2:$AB$489,$G126,),\"\")","v":0},{"$f":"IFERROR(HLOOKUP(K$3,'Base de Dados - Água e esgoto'!$H$2:$AB$489,$G126,),\"\")","v":0}]
[null,null,null,null,null,null,126,{"$f":"IFERROR(HLOOKUP(H$3,'Base de Dados - Água e esgoto'!$H$2:$AB$489,$G127,),\"\")","v":0},{"$f":"IFERROR(HLOOKUP(I$3,'Base de Dados - Água e esgoto'!$H$2:$AB$489,$G127,),\"\")","v":0},{"$f":"IFERROR(HLOOKUP(J$3,'Base de Dados - Água e esgoto'!$H$2:$AB$489,$G127,),\"\")","v":0},{"$f":"IFERROR(HLOOKUP(K$3,'Base de Dados - Água e esgoto'!$H$2:$AB$489,$G127,),\"\")","v":0}]
[null,null,null,null,null,null,127,{"$f":"IFERROR(HLOOKUP(H$3,'Base de Dados - Água e esgoto'!$H$2:$AB$489,$G128,),\"\")","v":0},{"$f":"IFERROR(HLOOKUP(I$3,'Base de Dados - Água e esgoto'!$H$2:$AB$489,$G128,),\"\")","v":0},{"$f":"IFERROR(HLOOKUP(J$3,'Base de Dados - Água e esgoto'!$H$2:$AB$489,$G128,),\"\")","v":0},{"$f":"IFERROR(HLOOKUP(K$3,'Base de Dados - Água e esgoto'!$H$2:$AB$489,$G128,),\"\")","v":0}]
[null,null,null,null,null,null,128,{"$f":"IFERROR(HLOOKUP(H$3,'Base de Dados - Água e esgoto'!$H$2:$AB$489,$G129,),\"\")","v":0},{"$f":"IFERROR(HLOOKUP(I$3,'Base de Dados - Água e esgoto'!$H$2:$AB$489,$G129,),\"\")","v":0},{"$f":"IFERROR(HLOOKUP(J$3,'Base de Dados - Água e esgoto'!$H$2:$AB$489,$G129,),\"\")","v":0},{"$f":"IFERROR(HLOOKUP(K$3,'Base de Dados - Água e esgoto'!$H$2:$AB$489,$G129,),\"\")","v":0}]
[null,null,null,null,null,null,129,{"$f":"IFERROR(HLOOKUP(H$3,'Base de Dados - Água e esgoto'!$H$2:$AB$489,$G130,),\"\")","v":0},{"$f":"IFERROR(HLOOKUP(I$3,'Base de Dados - Água e esgoto'!$H$2:$AB$489,$G130,),\"\")","v":0},{"$f":"IFERROR(HLOOKUP(J$3,'Base de Dados - Água e esgoto'!$H$2:$AB$489,$G130,),\"\")","v":0},{"$f":"IFERROR(HLOOKUP(K$3,'Base de Dados - Água e esgoto'!$H$2:$AB$489,$G130,),\"\")","v":0}]
[null,null,null,null,null,null,130,{"$f":"IFERROR(HLOOKUP(H$3,'Base de Dados - Água e esgoto'!$H$2:$AB$489,$G131,),\"\")","v":0},{"$f":"IFERROR(HLOOKUP(I$3,'Base de Dados - Água e esgoto'!$H$2:$AB$489,$G131,),\"\")","v":0},{"$f":"IFERROR(HLOOKUP(J$3,'Base de Dados - Água e esgoto'!$H$2:$AB$489,$G131,),\"\")","v":0},{"$f":"IFERROR(HLOOKUP(K$3,'Base de Dados - Água e esgoto'!$H$2:$AB$489,$G131,),\"\")","v":0}]
[null,null,null,null,null,null,131,{"$f":"IFERROR(HLOOKUP(H$3,'Base de Dados - Água e esgoto'!$H$2:$AB$489,$G132,),\"\")","v":0},{"$f":"IFERROR(HLOOKUP(I$3,'Base de Dados - Água e esgoto'!$H$2:$AB$489,$G132,),\"\")","v":0},{"$f":"IFERROR(HLOOKUP(J$3,'Base de Dados - Água e esgoto'!$H$2:$AB$489,$G132,),\"\")","v":0},{"$f":"IFERROR(HLOOKUP(K$3,'Base de Dados - Água e esgoto'!$H$2:$AB$489,$G132,),\"\")","v":0}]
[null,null,null,null,null,null,132,{"$f":"IFERROR(HLOOKUP(H$3,'Base de Dados - Água e esgoto'!$H$2:$AB$489,$G133,),\"\")","v":0},{"$f":"IFERROR(HLOOKUP(I$3,'Base de Dados - Água e esgoto'!$H$2:$AB$489,$G133,),\"\")","v":0},{"$f":"IFERROR(HLOOKUP(J$3,'Base de Dados - Água e esgoto'!$H$2:$AB$489,$G133,),\"\")","v":0},{"$f":"IFERROR(HLOOKUP(K$3,'Base de Dados - Água e esgoto'!$H$2:$AB$489,$G133,),\"\")","v":0}]
[null,null,null,null,null,null,133,{"$f":"IFERROR(HLOOKUP(H$3,'Base de Dados - Água e esgoto'!$H$2:$AB$489,$G134,),\"\")","v":0},{"$f":"IFERROR(HLOOKUP(I$3,'Base de Dados - Água e esgoto'!$H$2:$AB$489,$G134,),\"\")","v":0},{"$f":"IFERROR(HLOOKUP(J$3,'Base de Dados - Água e esgoto'!$H$2:$AB$489,$G134,),\"\")","v":0},{"$f":"IFERROR(HLOOKUP(K$3,'Base de Dados - Água e esgoto'!$H$2:$AB$489,$G134,),\"\")","v":0}]
[null,null,null,null,null,null,134,{"$f":"IFERROR(HLOOKUP(H$3,'Base de Dados - Água e esgoto'!$H$2:$AB$489,$G135,),\"\")","v":0},{"$f":"IFERROR(HLOOKUP(I$3,'Base de Dados - Água e esgoto'!$H$2:$AB$489,$G135,),\"\")","v":0},{"$f":"IFERROR(HLOOKUP(J$3,'Base de Dados - Água e esgoto'!$H$2:$AB$489,$G135,),\"\")","v":0},{"$f":"IFERROR(HLOOKUP(K$3,'Base de Dados - Água e esgoto'!$H$2:$AB$489,$G135,),\"\")","v":0}]
[null,null,null,null,null,null,135,{"$f":"IFERROR(HLOOKUP(H$3,'Base de Dados - Água e esgoto'!$H$2:$AB$489,$G136,),\"\")","v":0},{"$f":"IFERROR(HLOOKUP(I$3,'Base de Dados - Água e esgoto'!$H$2:$AB$489,$G136,),\"\")","v":0},{"$f":"IFERROR(HLOOKUP(J$3,'Base de Dados - Água e esgoto'!$H$2:$AB$489,$G136,),\"\")","v":0},{"$f":"IFERROR(HLOOKUP(K$3,'Base de Dados - Água e esgoto'!$H$2:$AB$489,$G136,),\"\")","v":0}]
[null,null,null,null,null,null,136,{"$f":"IFERROR(HLOOKUP(H$3,'Base de Dados - Água e esgoto'!$H$2:$AB$489,$G137,),\"\")","v":0},{"$f":"IFERROR(HLOOKUP(I$3,'Base de Dados - Água e esgoto'!$H$2:$AB$489,$G137,),\"\")","v":0},{"$f":"IFERROR(HLOOKUP(J$3,'Base de Dados - Água e esgoto'!$H$2:$AB$489,$G137,),\"\")","v":0},{"$f":"IFERROR(HLOOKUP(K$3,'Base de Dados - Água e esgoto'!$H$2:$AB$489,$G137,),\"\")","v":0}]
[null,null,null,null,null,null,137,{"$f":"IFERROR(HLOOKUP(H$3,'Base de Dados - Água e esgoto'!$H$2:$AB$489,$G138,),\"\")","v":0},{"$f":"IFERROR(HLOOKUP(I$3,'Base de Dados - Água e esgoto'!$H$2:$AB$489,$G138,),\"\")","v":0},{"$f":"IFERROR(HLOOKUP(J$3,'Base de Dados - Água e esgoto'!$H$2:$AB$489,$G138,),\"\")","v":0},{"$f":"IFERROR(HLOOKUP(K$3,'Base de Dados - Água e esgoto'!$H$2:$AB$489,$G138,),\"\")","v":0}]
[null,null,null,null,null,null,138,{"$f":"IFERROR(HLOOKUP(H$3,'Base de Dados - Água e esgoto'!$H$2:$AB$489,$G139,),\"\")","v":0},{"$f":"IFERROR(HLOOKUP(I$3,'Base de Dados - Água e esgoto'!$H$2:$AB$489,$G139,),\"\")","v":0},{"$f":"IFERROR(HLOOKUP(J$3,'Base de Dados - Água e esgoto'!$H$2:$AB$489,$G139,),\"\")","v":0},{"$f":"IFERROR(HLOOKUP(K$3,'Base de Dados - Água e esgoto'!$H$2:$AB$489,$G139,),\"\")","v":0}]
[null,null,null,null,null,null,139,{"$f":"IFERROR(HLOOKUP(H$3,'Base de Dados - Água e esgoto'!$H$2:$AB$489,$G140,),\"\")","v":0},{"$f":"IFERROR(HLOOKUP(I$3,'Base de Dados - Água e esgoto'!$H$2:$AB$489,$G140,),\"\")","v":0},{"$f":"IFERROR(HLOOKUP(J$3,'Base de Dados - Água e esgoto'!$H$2:$AB$489,$G140,),\"\")","v":0},{"$f":"IFERROR(HLOOKUP(K$3,'Base de Dados - Água e esgoto'!$H$2:$AB$489,$G140,),\"\")","v":0}]
[null,null,null,null,null,null,140,{"$f":"IFERROR(HLOOKUP(H$3,'Base de Dados - Água e esgoto'!$H$2:$AB$489,$G141,),\"\")","v":0},{"$f":"IFERROR(HLOOKUP(I$3,'Base de Dados - Água e esgoto'!$H$2:$AB$489,$G141,),\"\")","v":0},{"$f":"IFERROR(HLOOKUP(J$3,'Base de Dados - Água e esgoto'!$H$2:$AB$489,$G141,),\"\")","v":0},{"$f":"IFERROR(HLOOKUP(K$3,'Base de Dados - Água e esgoto'!$H$2:$AB$489,$G141,),\"\")","v":0}]
[null,null,null,null,null,null,141,{"$f":"IFERROR(HLOOKUP(H$3,'Base de Dados - Água e esgoto'!$H$2:$AB$489,$G142,),\"\")","v":0},{"$f":"IFERROR(HLOOKUP(I$3,'Base de Dados - Água e esgoto'!$H$2:$AB$489,$G142,),\"\")","v":0},{"$f":"IFERROR(HLOOKUP(J$3,'Base de Dados - Água e esgoto'!$H$2:$AB$489,$G142,),\"\")","v":0},{"$f":"IFERROR(HLOOKUP(K$3,'Base de Dados - Água e esgoto'!$H$2:$AB$489,$G142,),\"\")","v":0}]
[null,null,null,null,null,null,142,{"$f":"IFERROR(HLOOKUP(H$3,'Base de Dados - Água e esgoto'!$H$2:$AB$489,$G143,),\"\")","v":0},{"$f":"IFERROR(HLOOKUP(I$3,'Base de Dados - Água e esgoto'!$H$2:$AB$489,$G143,),\"\")","v":0},{"$f":"IFERROR(HLOOKUP(J$3,'Base de Dados - Água e esgoto'!$H$2:$AB$489,$G143,),\"\")","v":0},{"$f":"IFERROR(HLOOKUP(K$3,'Base de Dados - Água e esgoto'!$H$2:$AB$489,$G143,),\"\")","v":0}]
[null,null,null,null,null,null,143,{"$f":"IFERROR(HLOOKUP(H$3,'Base de Dados - Água e esgoto'!$H$2:$AB$489,$G144,),\"\")","v":0},{"$f":"IFERROR(HLOOKUP(I$3,'Base de Dados - Água e esgoto'!$H$2:$AB$489,$G144,),\"\")","v":0},{"$f":"IFERROR(HLOOKUP(J$3,'Base de Dados - Água e esgoto'!$H$2:$AB$489,$G144,),\"\")","v":0},{"$f":"IFERROR(HLOOKUP(K$3,'Base de Dados - Água e esgoto'!$H$2:$AB$489,$G144,),\"\")","v":0}]
[null,null,null,null,null,null,144,{"$f":"IFERROR(HLOOKUP(H$3,'Base de Dados - Água e esgoto'!$H$2:$AB$489,$G145,),\"\")","v":0},{"$f":"IFERROR(HLOOKUP(I$3,'Base de Dados - Água e esgoto'!$H$2:$AB$489,$G145,),\"\")","v":0},{"$f":"IFERROR(HLOOKUP(J$3,'Base de Dados - Água e esgoto'!$H$2:$AB$489,$G145,),\"\")","v":0},{"$f":"IFERROR(HLOOKUP(K$3,'Base de Dados - Água e esgoto'!$H$2:$AB$489,$G145,),\"\")","v":0}]
[null,null,null,null,null,null,145,{"$f":"IFERROR(HLOOKUP(H$3,'Base de Dados - Água e esgoto'!$H$2:$AB$489,$G146,),\"\")","v":0},{"$f":"IFERROR(HLOOKUP(I$3,'Base de Dados - Água e esgoto'!$H$2:$AB$489,$G146,),\"\")","v":0},{"$f":"IFERROR(HLOOKUP(J$3,'Base de Dados - Água e esgoto'!$H$2:$AB$489,$G146,),\"\")","v":0},{"$f":"IFERROR(HLOOKUP(K$3,'Base de Dados - Água e esgoto'!$H$2:$AB$489,$G146,),\"\")","v":0}]
[null,null,null,null,null,null,146,{"$f":"IFERROR(HLOOKUP(H$3,'Base de Dados - Água e esgoto'!$H$2:$AB$489,$G147,),\"\")","v":0},{"$f":"IFERROR(HLOOKUP(I$3,'Base de Dados - Água e esgoto'!$H$2:$AB$489,$G147,),\"\")","v":0},{"$f":"IFERROR(HLOOKUP(J$3,'Base de Dados - Água e esgoto'!$H$2:$AB$489,$G147,),\"\")","v":0},{"$f":"IFERROR(HLOOKUP(K$3,'Base de Dados - Água e esgoto'!$H$2:$AB$489,$G147,),\"\")","v":0}]
[null,null,null,null,null,null,147,{"$f":"IFERROR(HLOOKUP(H$3,'Base de Dados - Água e esgoto'!$H$2:$AB$489,$G148,),\"\")","v":0},{"$f":"IFERROR(HLOOKUP(I$3,'Base de Dados - Água e esgoto'!$H$2:$AB$489,$G148,),\"\")","v":0},{"$f":"IFERROR(HLOOKUP(J$3,'Base de Dados - Água e esgoto'!$H$2:$AB$489,$G148,),\"\")","v":0},{"$f":"IFERROR(HLOOKUP(K$3,'Base de Dados - Água e esgoto'!$H$2:$AB$489,$G148,),\"\")","v":0}]
[null,null,null,null,null,null,148,{"$f":"IFERROR(HLOOKUP(H$3,'Base de Dados - Água e esgoto'!$H$2:$AB$489,$G149,),\"\")","v":0},{"$f":"IFERROR(HLOOKUP(I$3,'Base de Dados - Água e esgoto'!$H$2:$AB$489,$G149,),\"\")","v":0},{"$f":"IFERROR(HLOOKUP(J$3,'Base de Dados - Água e esgoto'!$H$2:$AB$489,$G149,),\"\")","v":0},{"$f":"IFERROR(HLOOKUP(K$3,'Base de Dados - Água e esgoto'!$H$2:$AB$489,$G149,),\"\")","v":0}]
[null,null,null,null,null,null,149,{"$f":"IFERROR(HLOOKUP(H$3,'Base de Dados - Água e esgoto'!$H$2:$AB$489,$G150,),\"\")","v":0},{"$f":"IFERROR(HLOOKUP(I$3,'Base de Dados - Água e esgoto'!$H$2:$AB$489,$G150,),\"\")","v":0},{"$f":"IFERROR(HLOOKUP(J$3,'Base de Dados - Água e esgoto'!$H$2:$AB$489,$G150,),\"\")","v":0},{"$f":"IFERROR(HLOOKUP(K$3,'Base de Dados - Água e esgoto'!$H$2:$AB$489,$G150,),\"\")","v":0}]

{"sheet":"Base de Dados - Água e esgoto","index":6,"n_rows":108,"n_cols":52,"rows_kept":108,"cut":false,"hidden":false,"merged":[[1,15,2,15],[1,14,2,14],[1,13,2,13],[1,3,2,3],[1,2,2,2],[1,1,2,1],[1,4,2,4],[1,12,2,12],[1,11,2,11],[1,10,2,10],[1,9,2,9],[1,8,2,8],[1,7,2,7],[1,6,2,6],[1,5,2,5],[1,27,2,27],[1,26,2,26],[1,25,2,25],[1,24,2,24],[1,23,2,23],[1,22,2,22],[1,21,2,21],[1,20,2,20],[1,19,2,19],[1,16,2,16],[1,18,2,18],[1,17,2,17],[1,40,2,40],[1,33,2,33],[1,34,2,34],[1,35,2,35],[1,28,2,28],[1,29,2,29],[1,30,2,30],[1,31,2,31],[1,32,2,32],[1,0,2,0],[1,51,2,51],[1,46,2,46],[1,47,2,47],[1,48,2,48],[1,49,2,49],[1,50,2,50],[1,41,2,41],[1,42,2,42],[1,43,2,43],[1,44,2,44],[1,45,2,45],[1,36,2,36],[1,37,2,37],[1,38,2,38],[1,39,2,39]]}
[]
[null,"Dados","Frequência","Descrição","Unidade de medida","Fonte de dados","Responsável pela geração e fonte de dados",2017,2018,2019,2020,2021,2022,2023,2024,2025,2026,2027,2028,2029,2030,2031,2032,2033,2034,2035,2036,2037,2038,2039,2040,2041,2042,2043,2044,2045,2046,2047,2048,2049,2050,2051,2052,2053,2054,2055,2056,2057,2058,2059,2060,2061]
[]
["AG001","População total atendida com abastecimento de água ","Anual","Valor da soma das populações urbana e rural -sedes municipais e localidades- atendidas com abastecimento de água pelo prestador de serviços, no último dia do ano de referência. Corresponde à população que é efetivamente atendida com os serviços.","habitantes","Sistema Nacional de Informações Saneamento - (SNIS/2020)","Prestador de serviço",59667,61678,64689,67338]
["GE12a","População residente total, segundo o IBGE ","Anual","Valor da soma das populações totais residentes (urbanas e rurais) dos municípios – sedes municipais e localidades – em que o prestador de serviços atua com serviços de abastecimento de água . Inclui tanto a população beneficiada quanto a que não é beneficiada com os serviços.","habitantes","Sistema Nacional de Informações Saneamento - (SNIS/2020)","Prestador de serviço",61187,63250,65312,67338]
["AG026","População urbana atendida com abastecimento de água ","Anual","Valor da população urbana atendida com abastecimento de água pelo prestador de serviços, no último dia do ano de referência. Corresponde à população\nurbana que é efetivamente atendida com os serviços.","habitantes","Sistema Nacional de Informações Saneamento - (SNIS/2020)","Prestador de serviço",59667,61678,63689,65665]
["GE06a","População urbana do(s) município (s) atendido (s) com abastecimento de água ","Anual","Valor da soma das populações urbanas residentes dos municípios em que o prestador de serviços atua com serviços de abastecimento de água. Inclui tanto a população beneficiada quanto a que não é beneficiada com os serviços.","habitantes","Sistema Nacional de Informações Saneamento - (SNIS/2020)","Prestador de serviço",59667,61678,63689,65665]
["GE06b","População urbana do(s) município (s) atendido (s) com esgotamento sanitário","Anual","Valor da soma das populações urbanas residentes nos municípios em que o prestador de serviços atua com serviços de esgotamento sanitário (aplica-se aos dados agregados da amostra de prestadores de serviços).","habitantes","Sistema Nacional de Informações Saneamento - (SNIS/2020)","Prestador de serviço",59667,61678,63689,65665]
["AG003","Quantidade de economias ativas de água","Anual","Quantidade de economias ativas de água, que estavam em pleno funcionamento no último dia do ano de referência. (No caso dessa informação, o calculo considera a média aritmética ((dezembro / ano interior + dezembro / ano de referencia) / 2)","Economias","Sistema Nacional de Informações Saneamento - (SNIS/2020)","Prestador de serviço",43067,45594,47792,50353]
["AG002","Quantidade de ligações ativas de água ","Anual","Quantidade de ligações ativas de água à rede pública, providas ou não de hidrômetro, que estavam em pleno funcionamento no último dia do ano de referência. (No caso dessa informação, o calculo considera a média aritmética ((dezembro / ano interior + dezembro / ano de referencia) / 2)","Ligações","Sistema Nacional de Informações Saneamento - (SNIS/2020)","Prestador de serviço",14424,14684,14911,15305]
["AG013","Quantidade de economias residenciais ativas de água","Anual","Quantidade de economias residenciais ativas de água, que estavam em pleno funcionamento no último dia do ano de referência. (No caso dessa informação, o calculo considera a média aritmética ((dezembro / ano interior + dezembro / ano de referencia) / 2)","Economias","Sistema Nacional de Informações Saneamento - (SNIS/2020)","Prestador de serviço",38630,40940,42821,45286]
["AG012","Volume de água macromedido ","Anual","Valor da soma dos volumes anuais de água medidos por meio de macromedidores permanentes: na(s) saída(s) da(s) ETA(s), da(s) UTS(s) e do(s) poço(s), bem como no(s) ponto(s) de entrada de água tratada importada , se existirem.","1000m3/ano","Sistema Nacional de Informações Saneamento - (SNIS/2020)","Prestador de serviço",0,0,0,0]
["AG019","Volume de água tratada exportada ","Anual","Volume anual de água potável, previamente tratada (em ETA(s)  ou em UTS(s) , transferido para outros agentes distribuidores.  ","1000m3/ano","Sistema Nacional de Informações Saneamento - (SNIS/2020)","Prestador de serviço",0,0,0,0]
["AG006","Volume de água produzida ","Anual","Volume de água produzido mais o volume importado, com a subtração do volume tratado exportado","1000m3/ano","Sistema Nacional de Informações Saneamento - (SNIS/2020)","Prestador de serviço",5752.2,5876.14,6163.72,6810.64]
["AG004","Quantidade de ligações ativas de água micromedidas","Anual","Quantidade de ligações ativas de água, providas de hidrômetro, que estavam em pleno funcionamento no último dia do ano de referência (No caso dessa informação, o calculo considera a média aritmética ((dezembro / ano interior + dezembro / ano de referencia) / 2)","Ligações","Sistema Nacional de Informações Saneamento - (SNIS/2020)","Prestador de serviço",14424,14684,14911,15305]
["AG008","Volume de água micromedido ","Anual","Volume anual de água medido pelos hidrômetros instalados nas ligações ativas de água","1000m3/ano","Sistema Nacional de Informações Saneamento - (SNIS/2020)","Prestador de serviço",4425.6099999999997,4610.6899999999996,5399,5480]
["AG024","Volume de água de serviços ","Anual","Valor da soma dos volumes anuais de água usados para atividades operacionais e especiais, acrescido do volume de água recuperado. As águas de lavagem das ETA(s) ou UTS(s) não devem ser consideradas.","1000m3/ano","Sistema Nacional de Informações Saneamento - (SNIS/2020)","Prestador de serviço",0,0,0,0]
["AG010","Volume de água consumido ","Anual","Volume anual de água consumido por todos os usuários, compreendendo o volume micromedido, o volume de consumo estimado para as ligações desprovidas de hidrômetro ou com hidrômetro parado, acrescido do volume de água tratada exportado  para outro prestador de serviços.","1000m3/ano","Sistema Nacional de Informações Saneamento - (SNIS/2020)","Prestador de serviço",4425.6099999999997,4610.6899999999996,5399,5480]
["AG027","Volume de água fluoretado ","Anual","Volume anual de água submetida a fluoretação, compreendendo a água captada pelo prestador de serviços e a água bruta importada, ambas tratadas na(s)\nunidade(s) de tratamento do prestador de serviços, medido ou estimado na(s) saída(s) da(s) ETA(s) ou UTS(s).","1000m3/ano","Sistema Nacional de Informações Saneamento - (SNIS/2020)","Prestador de serviço",5752.2,5876.14,6163.72,6810.64]
["AG006","Volume de água produzido ","Anual","Volume anual de água disponível para consumo, compreendendo a água captada pelo prestador de serviços e a água bruta importada, ambas tratadas na(s) unidade(s) de tratamento do prestador de serviços, medido ou estimado na(s) saída(s) da(s) ETA(s) ou UTS(s). Inclui também os volumes de água captada pelo prestador de serviços ou de água bruta importada, que sejam disponibilizados para consumo sem tratamento, medidos na(s) respectiva(s) entrada(s) do sistema de distribuição.","1000m3/ano","Sistema Nacional de Informações Saneamento - (SNIS/2020)","Prestador de serviço",5752.2,5876.14,6163.72,6810.64]
["AG018","Volume de água tratada importada ","Anual","Volume anual de água potável, previamente tratada (em ETA(s) ou em UTS(s)), recebido de outros agentes fornecedores.","1000m3/ano","Sistema Nacional de Informações Saneamento - (SNIS/2020)","Prestador de serviço",0,0,0,0]
["AG014","Quantidade de economias ativas de água micromedidas","Anual","Quantidade de economias ativas de água, cujas respectivas ligações são providas de hidrômetro, que estavam em pleno funcionamento no último dia do ano de referência.","Economias","Sistema Nacional de Informações Saneamento - (SNIS/2020)","Prestador de serviço",43067,45594,47792,50353]
["AG011","Volume de água faturado ","Anual","Volume anual de água debitado ao total de economias (medidas e não medidas), para fins de faturamento. Inclui o volume de água tratada exportado  para outro prestador de serviços.","1000m3/ano","Sistema Nacional de Informações Saneamento - (SNIS/2020)","Prestador de serviço",4425.6099999999997,4610.6899999999996,5399,5480]
["AG028","Consumo total de energia elétrica em sistemas de abastecimento de água ","Anual","Quantidade anual de energia elétrica consumida nos sistemas de abastecimento de água, incluindo todas as unidades que compõem os sistemas, desde as operacionais até as administrativas","1000kWh/ano","Sistema Nacional de Informações Saneamento - (SNIS/2020)","Prestador de serviço",1188.94,1445.18,1796.99,1901.57]
["AG005","Extensão da rede de água ","Anual","Comprimento total da malha de distribuição de água, incluindo adutoras, subadutoras e redes distribuidoras e excluindo ramais prediais, operada pelo prestador de serviços, no último dia do ano de referência.  (No caso dessa informação, o calculo considera a média aritmética ((dezembro / ano interior + dezembro / ano de referencia) / 2)","km","Sistema Nacional de Informações Saneamento - (SNIS/2020)","Prestador de serviço",283.38,284.45,291.17,296.54000000000002]
["AG021","Quantidade de ligações totais de água ","Anual","Quantidade de ligações totais (ativas e inativas) de água à rede pública, providas ou não de hidrômetro, existente no último dia do ano de referência.","Ligações","Sistema Nacional de Informações Saneamento - (SNIS/2020)","Prestador de serviço",14424,14684,14911,15355]
["FN017","Despesas totais com os serviços ","Anual","Valor anual total do conjunto das despesas realizadas para a prestação dos serviços, compreendendo Despesas de Exploração (DEX), Despesas com Juros e encargos das Dívidas (incluindo as despesas decorrentes de variações monetárias e cambiais), Despesas com Depreciação, Amortização do Ativo Diferido e Provisão para Devedores Duvidosos, Despesas Fiscais ou Tributárias não Computadas na DEX, mas que compõem a DTS, além de Outras Despesas com os Serviços.","R$/ano","Sistema Nacional de Informações Saneamento - (SNIS/2020)","Prestador de serviço",34654653.609999999,44494355.789999999,48755612.539999999,51538751.299999997]
["ES007","Volume total faturado de esgoto ","Anual","Volume anual de esgoto debitado ao total de economias, para fins de faturamento.","1000m3/ano","Sistema Nacional de Informações Saneamento - (SNIS/2020)","Prestador de serviço",2609,2767.72,3042.59,3966]
["FN015","Despesas de exploração ","Anual","Valor anual das despesas realizadas para a exploração dos serviços, compreendendo Despesas com Pessoal, Produtos Químicos, Energia Elétrica, Serviços de Terceiros, Água Importada, Esgoto Exportado, Despesas Fiscais ou Tributárias computadas na DEX, além de Outras Despesas de Exploração","R$/ano","Sistema Nacional de Informações Saneamento - (SNIS/2020)","Prestador de serviço",22199985.32,24354123.760000002,25739041.129999999,24259333.989999998]
["ES003","Quantidade de economias ativas de esgoto ","Anual","Quantidade de economias ativas de esgoto, que estavam em pleno funcionamento no último dia do ano de referência.  (No caso dessa informação, o calculo considera a média aritmética ((dezembro / ano interior + dezembro / ano de referencia) / 2)","Economias","Sistema Nacional de Informações Saneamento - (SNIS/2020)","Prestador de serviço",27403,29744,34093,39529]
["FN001","Receita Operacional direta total ","Anual","Valor faturado anual decorrente das atividades-fim do prestador de serviços, resultante da exclusiva aplicação de tarifas e/ou taxas. Resultado da soma da Receita Operacional Direta de Água, Receita Operacional Direta de Esgoto, Receita Operacional Direta de Água Exportada e Receita Operacional Direta de Esgoto Bruto Importado","R$/ano","Sistema Nacional de Informações Saneamento - (SNIS/2020)","Prestador de serviço",48002819.560000002,50146897.479999997,54965093.020000003,62100004.259999998]
["FN002","Receita operacional direta de água (R$/ano)","Anual","Valor faturado anual decorrente da prestação do serviço de abastecimento de água, resultante exclusivamente da aplicação de tarifas e/ou taxas, excluídos os valores decorrentes da venda de água exportada no atacado (bruta ou tratada)","R$/ano","Sistema Nacional de Informações Saneamento - (SNIS/2020)","Prestador de serviço",30277050.190000001,31424072.399999999,34255033.609999999,36215613.399999999]
["AG017","Volume de água bruta exportado ","Anual","Volume anual de água bruta transferido para outros agentes distribuidores, sem qualquer tratamento.","1000m3/ano","Sistema Nacional de Informações Saneamento - (SNIS/2020)","Prestador de serviço",0,0,0,0]
["FN005","Receita operacional total ","Anual","Valor faturado anual decorrente das atividades-fim do prestador de serviços. Resultado da soma da Receita Operacional Direta [Água, Esgoto, Água Exportada e Esgoto Importado] e da Receita Operacional Indireta","R$/ano","Sistema Nacional de Informações Saneamento - (SNIS/2020)","Prestador de serviço",49004457.189999998,50941561.780000001,56667682.409999996,63123331.07]
["FN006","Arrecadação total ","Anual","Valor anual efetivamente arrecadado de todas as receitas operacionais, diretamente nos caixas do prestador de serviços ou por meio de terceiros autorizados","R$/ano","Sistema Nacional de Informações Saneamento - (SNIS/2020)","Prestador de serviço",47015151.369999997,48757259.729999997,52016645,57864935.740000002]
["FN010","Despesas com pessoal próprio ","Anual","Valor anual das despesas realizadas com empregados (inclusive diretores, mandatários, entre outros), correspondendo à soma de ordenados e salários, gratificações, encargos sociais (exceto PIS/PASEP e COFINS), pagamento a inativos e demais benefícios concedidos, tais como auxílio-alimentação, valetransporte, planos de saúde e previdência privada.","R$/ano","Sistema Nacional de Informações Saneamento - (SNIS/2020)","Prestador de serviço",4279120.87,4307277,4969682.87,5381498.9000000004]
["FN014","Despesas com serviços de terceiros ","Anual","Valor anual das despesas realizadas com serviços executados por terceiros. Deve-se levar em consideração somente despesas com mão de obra. Não se incluem as despesas com energia elétrica e com aluguel de veículos, máquinas equipamentos","R$/ano","Sistema Nacional de Informações Saneamento - (SNIS/2020)","Prestador de serviço",8551779.6300000008,8825394.5600000005,11341447.310000001,10488762.76]
["FM026","Quantidade total de empregados próprios ","Anual","Quantidade de empregados, sejam funcionários do prestador de serviços, dirigentes ou outros, postos permanentemente – e com ônus – à disposição do prestador de serviços, ao final do ano de referência.  (No caso dessa informação, o calculo considera a média aritmética ((dezembro / ano interior + dezembro / ano de referencia) / 2)","Empregados","Sistema Nacional de Informações Saneamento - (SNIS/2020)","Prestador de serviço",84,79,87,83]
["FN035","Despesas com juros e encargos do serviço da dívida ","Anual","Valor anual correspondente à soma das despesas realizadas com juros e encargos do serviço da dívida mais as variações monetárias e cambiais pagas no ano.","R$/ano","Sistema Nacional de Informações Saneamento - (SNIS/2020)","Prestador de serviço",4916329.5199999996,10039242.18,15678334.949999999,17679328.850000001]
["FN034","Despesas com amortização do serviço da dívida ","Anual","Valor anual das despesas realizadas com pagamento das amortizações do serviço da dívida decorrentes de empréstimos e financiamentos (obras, debêntures e captações de recursos no mercado).","R$/ano","Sistema Nacional de Informações Saneamento - (SNIS/2020)","Prestador de serviço",0,0,0,0]
["FN027","Outras despesas de exploração ","Anual","Valor anual realizado como parte das Despesas de Exploração que não são computadas nas categorias de Despesas com Pessoal, Produtos Químicos, Energia Elétrica, Serviços de Terceiros, Água Importada, Esgoto Exportado e Despesas Fiscais e Tributárias Computadas na DEX.","R$/ano","Sistema Nacional de Informações Saneamento - (SNIS/2020)","Prestador de serviço",6793237.6600000001,8211671.7599999998,5994219.2199999997,4457437.4000000004]
["FN011","Despesas com produtos químicos","Anual","Valor anual das despesas realizadas com energia elétrica (força e luz) nos sistemas de abastecimento de água e de esgotamento sanitário, incluindo todas as unidades do prestador de serviços, desde as operacionais até as administrativas.","R$/ano","Sistema Nacional de Informações Saneamento - (SNIS/2020)","Prestador de serviço",1271509.8400000001,1566431.25,1524651.22,1865091.37]
["FN013","Despesas com energia elétrica ","Anual","Valor anual das despesas realizadas com a aquisição de produtos químicos destinados aos sistemas de tratamento de água e de esgoto e nas análises de amostras de água ou de esgotos.","R$/ano","Sistema Nacional de Informações Saneamento - (SNIS/2020)","Prestador de serviço",1199928.3799999999,1396508.31,1815026.12,1970190.31]
["FN007","Receita operacional direta de água exportada ","Anual","Valor faturado anual decorrente da venda de água, bruta ou tratada, exportada no atacado para outros agentes distribuidores.","R$/ano","Sistema Nacional de Informações Saneamento - (SNIS/2020)","Prestador de serviço",0,0,0,0]
["FN003","Receita operacional direta de esgoto ","Anual","Valor faturado anual decorrente da prestação do serviço de esgotamento sanitário, resultante exclusivamente da Aplicação de tarifas e/ou taxas, excluídos osvalores decorrentes da importação de esgotos","R$/ano","Sistema Nacional de Informações Saneamento - (SNIS/2020)","Prestador de serviço",17725769.370000001,18722825.079999998,20710059.41,25884390.859999999]
["FN038","Receita operacional direta de esgoto bruto importado ","Anual","Valor faturado anual decorrente do recebimento de esgoto bruto de outro(s) agente(s). Corresponde à receita resultante da aplicação de tarifas especiais ou valores estabelecidos em contratos especiais.","R$/ano","Sistema Nacional de Informações Saneamento - (SNIS/2020)","Prestador de serviço",0,0,0,0]
["FN008","Crédito de contas a receber ","Anual","Saldo bruto acumulado dos valores a receber, considerando o último dia do ano de referência, em decorrência do faturamento dos serviços de água e esgoto (receita operacional direta) e dos outros serviços, tais como ligações, religações, conservação e reparo de hidrômetros (receita operacional indireta).","R$/ano","Sistema Nacional de Informações Saneamento - (SNIS/2020)","Prestador de serviço",8418715.3800000008,9499878.3399999999,11346709.35,13163815.52]
["AG002","Quantidade de ligações ativas de esgoto ","Anual","Quantidade de ligações ativas de esgoto à rede pública, que estavam em pleno funcionamento no último dia do ano de referência.","Ligações","Sistema Nacional de Informações Saneamento - (SNIS/2020)","Prestador de serviço",14424,14684,14911,15305]
["FN016","Despesas totais com serviço da dívida","Anual","Valor anual das despesas realizadas com o pagamento total do serviço da dívida, correspondendo ao resultado da soma do valor dos juros e encargos mais as variações monetárias e cambiais e o valor das amortizações.","R$/ano","Sistema Nacional de Informações Saneamento - (SNIS/2020)","Prestador de serviço",4916329.5199999996,10039424.18,15678334.949999999,17679328.850000001]
["FN021","Despesas fiscais ou tributárias não computadas na DEX ","Anual","Valor anual das despesas realizadas não computadas nas despesas de exploração, mas que compõem as despesas totais com os serviços, tais como imposto de renda e contribuição social sobre o lucro.","R$/ano","Sistema Nacional de Informações Saneamento - (SNIS/2020)","Prestador de serviço",104408.94,46840.88,94014.39,96353.25]
["QD004","Quantidades de economias ativas atingidas por paralisações ","Anual","Quantidade total anual, inclusive repetições, de economias ativas atingidas por paralisações no sistema de distribuição de água. Devem ser somadas somente as economias ativas atingidas por paralisações que, individualmente, tiveram duração igual ou superior a seis horas.","economias/ano","Sistema Nacional de Informações Saneamento - (SNIS/2020)","Prestador de serviço",0,"-",0,48172]
["QD002","Quantidade de paralisações","Anual","Quantidade de vezes, no ano, inclusive repetições, em que ocorreram paralisações no sistema de distribuição de água. Devem ser somadas somente as paralisações que, individualmente, tiveram duração igual ou superior a seis horas.","Paralisações/ano","Sistema Nacional de Informações Saneamento - (SNIS/2020)","Prestador de serviço",0,0,0,7]
["QD003","Duração das paralisações ","Anual","Quantidade de horas, no ano, em que ocorreram paralisações no sistema de distribuição de água. Devem ser somadas somente as durações de paralisações que, individualmente, foram iguais ou superiores a seis horas.","Horas/ano","Sistema Nacional de Informações Saneamento - (SNIS/2020)","Prestador de serviço",0,0,0,59]
["QD025","Tempo de execução do serviço ","Anual","Quantidade total anual de horas despendida no conjunto de ações para execução dos serviços, desde a primeira reclamação ou solicitação até a conclusão do serviço.","Horas/ano","Sistema Nacional de Informações Saneamento - (SNIS/2020)","Prestador de serviço",7409.65,7581.97,10712.5,16505]
["QD024","Quantidade de serviços executados ","Anual","Quantidade total anual de serviços executados no(s) sistema(s) de abastecimento de água e de esgotamento sanitário relativa às reclamações ou solicitações\nfeitas.","Serviço/ano","Sistema Nacional de Informações Saneamento - (SNIS/2020)","Prestador de serviço",45341,42138,55269,47704]
["QD006","Quantidade de amostras analisadas para aferição de cloro residual ","Anual","Quantidade total anual de amostras coletadas na(s) saída(s) da(s) unidade(s) de tratamento e no sistema de distribuição de água (reservatórios e redes), para aferição do teor de cloro residual livre na água.","Amostras/ano","Sistema Nacional de Informações Saneamento - (SNIS/2020)","Prestador de serviço",17664,18690,18096,20504]
["QD020","Quantidade mínima de amostras obrigatórias para análises de cloro residual ","Anual","Quantidade mínima anual de amostras obrigatórias a coletar na(s) saída(s) da(s) unidade(s) de tratamento e no sistema de distribuição de água (reservatórios e redes) para aferição do teor de cloro residual livre na água, determinada pela Portaria Consolidada  n. 05/2017 do Ministério da Saúde.","Amostras/ano","Sistema Nacional de Informações Saneamento - (SNIS/2020)","Prestador de serviço",17664,17664,17644,17644]
["QD007","Quantidade de amostras para análise de cloro residual com resultado fora do padrão ","Anual","Quantidade total anual de amostras coletadas na(s) saída(s) da(s) unidade(s) de tratamento e no sistema de distribuição de água (reservatórios e redes), para aferição do teor de cloro residual livre na água, cujo resultado da análise ficou fora do padrão determinado pela Portaria  Consolidada  n. 05/2017/MS","Amostras/ano","Sistema Nacional de Informações Saneamento - (SNIS/2020)","Prestador de serviço",124,36,55,8]
["QD008","Quantidade de amostras analisadas para aferição de turbidez ","Anual","Quantidade total anual de amostras coletadas na(s) saída(s) da(s) unidade(s) de tratamento e no sistema de distribuição de água (reservatórios e redes), para aferição do teor de turbidez da água","Amostras/ano","Sistema Nacional de Informações Saneamento - (SNIS/2020)","Prestador de serviço",17664,18690,18096,20504]
["QD019","Quantidade mínima de amostras obrigatórias para análises de turbidez ","Anual","Quantidade mínima anual de amostras obrigatórias a coletar na(s) saída(s) da(s) unidade(s) de tratamento e no sistema de distribuição de água (reservatórios e redes) para aferição do teor de turbidez da água, determinada pela Portaria  Consolidada  n. 05/2017/MS.","Amostras","Sistema Nacional de Informações Saneamento - (SNIS/2020)","Prestador de serviço",17664,17664,17644,17644]
["QD009","Quantidade de amostras para análise de turbidez com resultado fora do padrão ","Anual","Quantidade total anual de amostras coletadas na(s) saída(s) da(s) unidade(s) de tratamento e no sistema de distribuição de água (reservatórios e redes), para aferição do teor de turbidez da água, cujo resultado da análise ficou fora do padrão determinado pela Portaria  Consolidada  n. 05/2017/MS.","Amostras","Sistema Nacional de Informações Saneamento - (SNIS/2020)","Prestador de serviço",84,11,28,18]
["QD026","Quantidade de amostras analisadas para aferição de coliformes totais","Anual","Quantidade total anual de amostras coletadas na(s) saída(s) da(s) unidade(s) de tratamento e no sistema de distribuição de água (reservatórios e redes), para aferição do teor de coliformes totais.","Amostras","Sistema Nacional de Informações Saneamento - (SNIS/2020)","Prestador de serviço",1344,1344,1344,1344]
["QD028","Quantidade mínima de amostra obrigatórias para coliforme totais ","Anual","Quantidade mínima anual de amostras obrigatórias a coletar na(s) saída(s) da(s) unidade(s) de tratamento e no sistema de distribuição de água (reservatórios e redes), para aferição do teor de coliformes totais presentes na água, determinada pela Portaria Consolidada  n. 05/2017 do Ministério da Saúde.","Amostras","Sistema Nacional de Informações Saneamento - (SNIS/2020)","Prestador de serviço",1260,1260,1260,1260]
["QD027","Quantidade de  amostras para análise de coliformes totais com resultados fora do padrão ","Anual","Quantidade total anual de amostras coletadas na(s) saída(s) da(s) unidade(s) de tratamento e na rede de distribuição de água, para aferição do teor de coliformes totais, cujo resultado da análise ficou fora do padrão determinado pela Portaria  Consolidada  n. 05/2017/MS.","Amostras","Sistema Nacional de Informações Saneamento - (SNIS/2020)","Prestador de serviço",0,0,0,0]
["FN023","Investimentos realizados em abastecimento de água  pelo prestados de serviço ","Anual","Valor do investimento realizado no ano de referência, diretamente ou por meio de contratos celebrados pelo próprio prestador de serviços, em equipamentos e instalações incorporados ao(s) sistema(s) de abastecimento de água, contabilizado em Obras em Andamento, no Ativo Imobilizado ou no Ativo Intangível.","R$/ano","Sistema Nacional de Informações Saneamento - (SNIS/2020)","Prestador de serviço",2148129.41,649989.32999999996,11259907.65,2604610.2599999998]
["FN024","Investimentos realizados em esgotamento sanitário  pelo prestados de serviço ","Anual","Valor do investimento realizado no ano de referência, diretamente ou por meio de contratos celebrados pelo próprio prestador de serviços, em equipamentos e instalações incorporados ao(s) sistema(s) de esgotamento sanitário, contabilizado em Obras em Andamento, no Ativo Imobilizado ou no Ativo Intangível.","R$/ano","Sistema Nacional de Informações Saneamento - (SNIS/2020)","Prestador de serviço",10200207.140000001,525351.21,37168060.789999999,16853968.469999999]
["FN025","Outros investimentos realizados pelo prestador de serviços","Anual","Valor do investimento realizado no ano de referência, diretamente ou por meio de contratos celebrados pelo próprio prestador de serviços, em aquisição de bens de uso geral, equipamentos e instalações, não contabilizado nos investimentos realizados em abastecimento de água ou em esgotamento sanitário.","R$/ano","Sistema Nacional de Informações Saneamento - (SNIS/2020)","Prestador de serviço",0,0,0,0]
["FN030","Investimento com recurso próprio  realizado pelo prestador de serviço ","Anual","Valor do investimento realizado no ano de referência, diretamente ou por meio de contratos celebrados pelo próprio prestador de serviços, pago com seus recursos próprios oriundos da cobrança dos serviços, de receitas não operacionais, de integralização ou de adiantamento para futuro aumento de capital pelos acionistas ou de captações no mercado decorrentes da venda de ações, feito no sistema de abastecimento de água e de esgotamento sanitário.","R$/ano","Sistema Nacional de Informações Saneamento - (SNIS/2020)","Prestador de serviço",12348336.550000001,1175340.54,0,0]
["FN031","Investimento com recursos onerosos realizado pelo prestador de serviço ","Anual","Valor do investimento realizado no ano de referência, diretamente ou por meio de contratos celebrados pelo próprio prestador de serviços, pago com recursos de empréstimo tomados junto à CAIXA, BNDES ou outros agentes financeiros (oriundos do FGTS, FAT ou outras fontes) e também empréstimos de financiamentos externos (BID, BIRD e outros), retornáveis por meio de amortizações, juros e outros encargos, incluindo-se ainda captações decorrentes da venda e posterior recompra de debêntures vinculadas a investimentos pré-estabelecidos, feito no(s) sistema(s) de abastecimento de água, de esgotamento sanitário ou em outros investimentos relacionados aos serviços de água e esgotos, além de Despesas Capitalizáveis","R$/ano","Sistema Nacional de Informações Saneamento - (SNIS/2020)","Prestador de serviço",0,0,48427968.439999998,19458578.73]
["FN032"," Investimento com recursos não onerosos  realizado pelo prestador de serviço ","Anual","Valor do investimento realizado no ano de referência, diretamente ou por meio de contratos celebrados pelo próprio prestador de serviços, pago com recursos não reembolsáveis (oriundos do Orçamento Geral da União - OGU -, orçamentos do Estado, Distrito Federal ou Município, ou de outras fontes,\ncomo por exemplo: doações, investimentos pagos pelos usuários), que não oneram o serviço da dívida, também denominados recursos a fundo perdido, feito no(s) sistema(s) de abastecimento de água, de esgotamento sanitário ou em outros investimentos relacionados aos serviços de água e esgotos, além de Despesas Capitalizáveis.","R$/ano","Sistema Nacional de Informações Saneamento - (SNIS/2020)","Prestador de serviço",0,0,0,0]
["FN033"," Investimentos totais realizado pelo prestador de serviços ","Anual","Valor dos investimentos totais realizados no ano de referência, diretamente ou por meio de contratos celebrados pelo próprio prestador de serviços, pagos com recursos próprios, onerosos  e não onerosos feitos no(s) sistema(s) de abastecimento de água, de esgotamento sanitário ou em outros investimentos relacionados aos serviços de água e esgotos, além de Despesas Capitalizáveis.","R$/ano","Sistema Nacional de Informações Saneamento - (SNIS/2020)","Prestador de serviço",12348336.550000001,1175340.54,48427968.439999998,19458578.73]
["ES004","Extensão da rede de esgotos","Anual","Comprimento total da malha de coleta de esgoto, incluindo redes de coleta, coletores tronco e interceptores e excluindo ramais prediais e emissários de recalque, operada pelo prestador de serviços,","Km","Sistema Nacional de Informações Saneamento - (SNIS/2020)","Prestador de serviço",105.6,105.6,175.9,181.67]
["ES005","Volume de esgotos coletado","Anual","Volume anual de esgoto lançado na rede coletora. Em geral é considerado como sendo de 80% a 85% do volume de água consumido na mesma economia.","1.000 m³/ano.","Sistema Nacional de Informações Saneamento - (SNIS/2020)","Prestador de serviço",2609,2767.72,3042.59,3966]
["ES006","Volume de esgotos Tratado","Anual","Volume anual de esgoto coletado na área de atuação do prestador de serviços e que foi submetido a tratamento, medido ou estimado na(s) entrada(s) da(s) ETE(s).","1.000 m³/ano.","Sistema Nacional de Informações Saneamento - (SNIS/2020)","Prestador de serviço",2609,2767.72,3042.59,3966]
["ES009","Quantidade de ligações totais de esgotos ","Anual","Quantidade de ligações totais (ativas e inativas) de esgotos à rede pública, existentes no último dia do ano de referência.","Ligações","Sistema Nacional de Informações Saneamento - (SNIS/2020)","Prestador de serviço",4679,4987,6787,8775]
["ES026","População urbana atendida com esgoto sanitário","Anual","Valor da população urbana beneficiada com esgotamento sanitário pelo prestador de serviços, no último dia do ano de referência. Corresponde à população urbana que é efetivamente atendida com os serviços.","habitantes","Sistema Nacional de Informações Saneamento - (SNIS/2020)","Prestador de serviço",46540,48108,51427,52863]
["ES028","Consumo total de energia elétrica nos sistemas de esgotos","Anual","Quantidade anual de energia elétrica consumida nos sistemas de esgotamento sanitário, incluindo todas as unidades que compõem os sistemas, desde as operacionais até as administrativas.","1.000 kWh/ano.","Sistema Nacional de Informações Saneamento - (SNIS/2020)","Prestador de serviço",879.44,901.13,998.03,1153.5999999999999]
["QD015","Quantidade de economias ativas atingidas por interrupções sistemáticas","Anual","Quantidade total anual, inclusive repetições, de economias ativas atingidas por interrupções sistemáticas no sistema de distribuição de água decorrentes de intermitências prolongadas.","Economias/ano.","Sistema Nacional de Informações Saneamento - (SNIS/2020)","Prestador de serviço",0,0,0,0]
["QD021","Quantidade de interrupções sistemáticas","Anual","Quantidade de vezes, no ano, inclusive repetições, em que ocorreram interrupções sistemáticas no sistema de distribuição de água, provocando intermitências prolongadas no abastecimento.","Interrupções/ano.","Sistema Nacional de Informações Saneamento - (SNIS/2020)","Prestador de serviço",0,0,0,0]
["QD022","Duração das interrupções sistemáticas","Anual","Quantidade de horas, no ano, em que ocorreram interrupções sistemáticas no sistema de distribuição de água provocando intermitências prolongadas.","Horas/ano.","Sistema Nacional de Informações Saneamento - (SNIS/2020)","Prestador de serviço",0,0,0,0]
["QD011","Quantidades de extravasamentos de esgotos registrados","Anual","Quantidade de vezes no ano, inclusive repetições, em que foram registrados extravasamentos na rede de coleta de esgotos.","Extravasamentos/ano.","Sistema Nacional de Informações Saneamento - (SNIS/2020)","Prestador de serviço",118,216,280,290]
["QD012","Duração dos extravasamentos registrados","Anual","Quantidade de horas, no ano, despendida no conjunto de ações para solução dos problemas de extravasamentos na rede de coleta de esgotos, desde a primeira reclamação junto ao prestador de serviços\naté a conclusão do reparo.","Horas/ano.","Sistema Nacional de Informações Saneamento - (SNIS/2020)","Prestador de serviço",65,230.23,336.56,295]
["BL001","Ativo circulante","Anual","Valor anual das disponibilidades, contas a receber, depósitos judiciais, almoxarifado de operação, impostos a recuperar e outros créditos a receber.","1.000 R$/ano.","Sistema Nacional de Informações Saneamento - (SNIS/2020)","Prestador de serviço",9482,8425,23576,14469]
["BL005","Passivo circulante","Anual","Valor anual das obrigações no exercício subsequente, referente a empréstimos e financiamentos, empreiteiros e fornecedores, tributos e contribuições sociais, cauções a restituir, provisões e outros.","1.000 R$/ano.","Sistema Nacional de Informações Saneamento - (SNIS/2020)","Prestador de serviço",2419,32087,21729,26759]
["BL003","Exigível a longo prazo","Anual","Valor anual das obrigações com vencimentos após o exercício subsequente, referentes a: empréstimos e financiamentos, empreiteiros e fornecedores, provisões para contingências, tributos e contribuições sociais, planos de aposentadoria e outros.","1.000 R$/ano.","Sistema Nacional de Informações Saneamento - (SNIS/2020)","Prestador de serviço",53969,62659,133362,131347]
["BL010","Realizável a longo prazo","Anual","Valor anual dos direitos realizáveis após o exercício subsequente, decorrentes de créditos com clientes, indenizações a receber, depósitos judiciais, contas a receber de acionistas, impostos e contribuições diferidos, créditos com coligadas, com controladas e outros.","1.000 R$/ano.","Sistema Nacional de Informações Saneamento - (SNIS/2020)","Prestador de serviço",2855,325,2590,1647]
["BL002","Ativo total","Anual","Valor anual da soma das contas do Ativo Circulante, Ativo Realizável de Longo Prazo e Ativo Permanente.","1.000 R$/ano.","Sistema Nacional de Informações Saneamento - (SNIS/2020)","Prestador de serviço",119249,129474,190094,191975]
["BL008","Resultado de exercícios futuros","Anual","Valor anual da diferença entre as receitas e despesas correspondentes a exercícios futuros.","1.000 R$/ano.","Sistema Nacional de Informações Saneamento - (SNIS/2020)","Prestador de serviço",0,0,0,0]
["BL007"," Receita operacional","Anual","Valor anual da receita faturada referente a produção e distribuição de água e a coleta, tratamento e disposição final de esgotos, assim como as receitas indiretas de outros serviços prestados.","1.000 R$/ano.","Sistema Nacional de Informações Saneamento - (SNIS/2020)","Prestador de serviço",49004,50942,56668,63123]
["BL009","Resultado operacional com depreciação","Anual","Valor anual resultante da diferença entre as receitas operacionais e as despesas de operação e manutenção, as despesas comerciais, as despesas administrativas, as despesas tributárias ou fiscais e as\ndespesas de depreciação.","1.000 R$/ano.","Sistema Nacional de Informações Saneamento - (SNIS/2020)","Prestador de serviço",24005,22139,15464,17546]
["BL012","Resultado operacional sem depreciação ","Anual","Valor anual resultante da diferença entre as receitas operacionais e as despesas de operação e manutenção, as despesas comerciais, as despesas administrativas e as despesas tributárias ou fiscais.","1.000 R$/ano.","Sistema Nacional de Informações Saneamento - (SNIS/2020)","Prestador de serviço",2419,4159,361,-5744]
["BL004"," Lucro líquido com depreciação","Anual","Valor anual do resultado do exercício (lucro ou prejuízo), depois de deduzido o resultado não operacional, o imposto de renda, a contribuição social e as despesas de depreciação.","1.000 R$/ano.","Sistema Nacional de Informações Saneamento - (SNIS/2020)","Prestador de serviço",2419,4159,361,-5744]
["BL011","Lucro líquido sem depreciação","Anual","Valor anual do resultado líquido do exercício (lucro ou prejuízo), depois de deduzido o resultado não operacional, o imposto de renda e a contribuição social, sem deduzir as despesas de depreciação.","1.000 R$/ano.","Sistema Nacional de Informações Saneamento - (SNIS/2020)","Prestador de serviço",5489,8711,6786,2265]
["BL006","Patrimônio líquido","Anual","Valor anual pertencente aos acionistas, composto pelo Capital Social Realizado, Reservas de Capital, Reservas de Reavaliação, Reserva de Lucro e Lucros ou Prejuízos Acumulados.","1.000 R$/ano.","Sistema Nacional de Informações Saneamento - (SNIS/2020)","Prestador de serviço",34830,34728,35003,33869]
["ES001","Polulação total atendida com esgotamento sanitário","Anual","População total atendida com esgotamento sanitário pelo prestador de serviços, no último dia do ano de referência. Corresponde à população urbana que é efetivamente atendida com os serviços acrescida de outras populações atendidas localizadas em áreas não consideradas urbanas.","Habitantes","Sistema Nacional de Informações Saneamento - (SNIS/2020)","Prestador de serviço",46540,48108,51427,52863]
["ES007","Volume de esgoto faturado","Anual","Volume anual de esgoto debitado ao total de economias, para fins de faturamento. Em geral é considerado como sendo um percentual do volume de água faturado na mesma economia.","1.000 m³/ano.","Sistema Nacional de Informações Saneamento - (SNIS/2020)","Prestador de serviço",2609,2767.72,3042.59,3966]
["ES013","Volume de esgoto bruto importado","Anual","Volume de esgoto bruto recebido de outro(s) agente(s). A receita com a importação do esgoto deve estar computada na informação FN038.","1.000 m³/ano.","Sistema Nacional de Informações Saneamento - (SNIS/2020)","Prestador de serviço",0,0,0,0]
["ES008","Quantidade de economias residenciais ativas de esgotos","Anual","Quantidade de economias residenciais ativas de esgotos, que estavam em pleno funcionamento no último dia do ano de referência.","Economias","Sistema Nacional de Informações Saneamento - (SNIS/2020)","Prestador de serviço",24702,26655,34093]
[]
[]
[]
[null,"Quantidade de economias residenciais ativas de água (similar ao SNIS AG013)","Anual","Quantidade total de economias residenciais na área de abrangência do Prestador de Serviços, cadastradas pelo prestador, com ligação ativa à rede pública de abastecimento de água, no período de referência. Considera-se que uma economia residencial é equivalente a um domicílio. ","Economias","Sistema Nacional de Informações Saneamento - (SNIS/2020)","Prestador de serviço",38630,40940,42821,45286,null,51547]
[null,"Quantidade de economias residenciais inativas de água","Anual","Quantidade total de economias residenciais na área de abrangência do Prestador de Serviços, cadastradas pelo prestador, com ligação inativa à rede pública de abastecimento de água, no período de referência. Considera-se que uma economia residencial é equivalente a um domicílio. ","Economias","Prestador de serviço","Prestador de serviço",0,0,0,0,null,0]
[null,"Quantidade de economias residenciais ativas com coleta de esgoto (similar ao SNIS ES008)","Anual","Quantidade total de economias residenciais na área de abrangência do Prestador de Serviços, cadastradas pelo prestador, com ligação ativa à rede pública de coleta de esgoto, no período de referência. Considera-se que uma economia residencial é equivalente a um domicílio. ","Economias","Sistema Nacional de Informações Saneamento - (SNIS/2020)","Prestador de serviço",24702,26655,34093,35415,null,40357]
[null,"Quantidade de economias residenciais inativas com coleta de esgoto","Anual","Quantidade total de economias residenciais na área de abrangência do Prestador de Serviços, cadastradas pelo prestador, com ligação inativa à rede pública de coleta de esgoto, no período de referência. Considera-se que uma economia residencial é equivalente a um domicílio. ","Economias","Prestador de serviço","Prestador de serviço",0,0,0,0,null,0]
[null,"Quantidade de economias residenciais ativas com tratamento de esgoto (similar ao SNIS ES008)","Anual","Quantidade total de economias residenciais na área de abrangência do Prestador de Serviços, cadastradas pelo prestador, com ligação ativa à rede pública de coleta de esgoto conectada a uma unidade de tratamento de esgoto, no período de referência. Considera-se que uma economia residencial é equivalente a um domicílio. ","Economias","Sistema Nacional de Informações Saneamento - (SNIS/2020)","Prestador de serviço",{"$f":"H98","v":24702},{"$f":"I98","v":26655},34093,35415,null,40357]
[null,"Quantidade de economias residenciais inativas com tratamento de esgoto","Anual","Quantidade total de economias residenciais na área de abrangência do Prestador de Serviços, cadastradas pelo prestador, com ligação inativa à rede pública de coleta de esgoto conectada a uma unidade de tratamento de esgoto, no período de referência. Considera-se que uma economia residencial é equivalente a um domicílio. ","Economias","Prestador de serviço","Prestador de serviço",0,0,0,0,null,0]
[null,"Quantidade total de domicílios residenciais existentes na área de abrangência do Prestador de Serviços (adotado similar a AG013)","Anual","Quantidade total de domicílios residenciais existentes na área de abrangência do Prestador de Serviços, independentemente do atendimento da rede pública de abastecimento de água e/ou coleta de esgoto conectada a uma unidade de tratamento de esgoto, no período de referência.","domicílios","SNIS, Prefeitura Municipal, IBGE Cidades, Celesc","Prestador de serviço",38630,40940,42821,45286,null,51547]

{"sheet":"Gráficos - Água e esgoto","index":7,"n_rows":1,"n_cols":1,"rows_kept":1,"cut":false,"hidden":false,"merged":[[0,0,0,22]]}
["Gráficos dos indicadores de Água e Esgoto"]

{"sheet":"Indicadores - Drenagem","index":8,"n_rows":45,"n_cols":9,"rows_kept":45,"cut":false,"hidden":false,"merged":[[2,6,3,6],[2,7,3,7],[2,8,3,8],[14,0,15,0],[18,0,19,0],[2,0,3,0],[2,2,3,2],[2,3,3,3],[2,1,3,1],[14,1,15,1],[18,1,19,1],[2,4,3,4],[2,5,3,5]]}
["INÍCIO PERÍODO"]
[2019]
["Indicador","Código","Frequência de atualização","Expresso em",{"$f":"A2","v":2019},{"$f":"E3+1","v":2020},{"$f":"F3+1","v":2021},{"$f":"G3+1","v":2022},{"$f":"H3+1","v":2023}]
[]
["Percepção de Usuário sobre a Qualidade dos Serviços de Drenagem",null,"Anual","Ocorrências/ano",{"$f":"IFERROR(ID!G3,\"\")","v":10},{"$f":"IFERROR(ID!H3,\"\")","v":2},{"$f":"IFERROR(ID!I3,\"\")","v":0},{"$f":"IFERROR(ID!J3,\"\")","v":0},{"$f":"IFERROR(ID!K3,\"\")","v":0}]
["Cadastro da Rede Existente",null,"Anual","%",{"$f":"IFERROR(ID!G4/ID!G5,\"\")","v":1.6666666666666667},{"$f":"IFERROR(ID!H4/ID!H5,\"\")","v":0.75},{"$f":"IFERROR(ID!I4/ID!I5,\"\")","v":""},{"$f":"IFERROR(ID!J4/ID!J5,\"\")","v":""},{"$f":"IFERROR(ID!K4/ID!K5,\"\")","v":""}]
["Cobertura do Sistema de Drenagem Superficial",null,"Anual","%",{"$f":"IFERROR(ID!G6/ID!G7,\"\")","v":""},{"$f":"IFERROR(ID!H6/ID!H7,\"\")","v":""},{"$f":"IFERROR(ID!I6/ID!I7,\"\")","v":""},{"$f":"IFERROR(ID!J6/ID!J7,\"\")","v":""},{"$f":"IFERROR(ID!K6/ID!K7,\"\")","v":""}]
["Cobertura do Sistema de Drenagem Subterrânea",null,"Anual","%",{"$f":"IFERROR(ID!G8/ID!G9,\"\")","v":""},{"$f":"IFERROR(ID!H8/ID!H9,\"\")","v":""},{"$f":"IFERROR(ID!I8/ID!I9,\"\")","v":""},{"$f":"IFERROR(ID!J8/ID!J9,\"\")","v":""},{"$f":"IFERROR(ID!K8/ID!K9,\"\")","v":""}]
["Inspeção de Bocas de Lobo",null,"Anual","%",{"$f":"IFERROR(ID!G10/ID!G11,\"\")","v":""},{"$f":"IFERROR(ID!H10/ID!H11,\"\")","v":""},{"$f":"IFERROR(ID!I10/ID!I11,\"\")","v":""},{"$f":"IFERROR(ID!J10/ID!J11,\"\")","v":""},{"$f":"IFERROR(ID!K10/ID!K11,\"\")","v":""}]
["Limpeza de Bocas de Lobo",null,"Anual","%",{"$f":"IFERROR(ID!G12/ID!G13,\"\")","v":""},{"$f":"IFERROR(ID!H12/ID!H13,\"\")","v":""},{"$f":"IFERROR(ID!I12/ID!I13,\"\")","v":""},{"$f":"IFERROR(ID!J12/ID!J13,\"\")","v":""},{"$f":"IFERROR(ID!K12/ID!K13,\"\")","v":""}]
["Manutenção de Bocas de Lobo",null,"Anual","%",{"$f":"IFERROR(ID!G14/ID!G15,\"\")","v":""},{"$f":"IFERROR(ID!H14/ID!H15,\"\")","v":""},{"$f":"IFERROR(ID!I14/ID!I15,\"\")","v":""},{"$f":"IFERROR(ID!J14/ID!J15,\"\")","v":""},{"$f":"IFERROR(ID!K14/ID!K15,\"\")","v":""}]
["Inspeção do Sistema de Microdrenagem",null,"Anual","%",{"$f":"IFERROR(ID!G16/ID!G17,\"\")","v":""},{"$f":"IFERROR(ID!H16/ID!H17,\"\")","v":""},{"$f":"IFERROR(ID!I16/ID!I17,\"\")","v":""},{"$f":"IFERROR(ID!J16/ID!J17,\"\")","v":""},{"$f":"IFERROR(ID!K16/ID!K17,\"\")","v":""}]
["Limpeza da Microdrenagem",null,"Anual","%",{"$f":"IFERROR(ID!G18/ID!G19,\"\")","v":""},{"$f":"IFERROR(ID!H18/ID!H19,\"\")","v":""},{"$f":"IFERROR(ID!I18/ID!I19,\"\")","v":""},{"$f":"IFERROR(ID!J18/ID!J19,\"\")","v":""},{"$f":"IFERROR(ID!K18/ID!K19,\"\")","v":""}]
["Manutenção da Microdrenagem",null,"Anual","%",{"$f":"IFERROR(ID!G20/ID!G21,\"\")","v":""},{"$f":"IFERROR(ID!H20/ID!H21,\"\")","v":""},{"$f":"IFERROR(ID!I20/ID!I21,\"\")","v":""},{"$f":"IFERROR(ID!J20/ID!J21,\"\")","v":""},{"$f":"IFERROR(ID!K20/ID!K21,\"\")","v":""}]
["Inspeção do Sistema de Macrodrenagem",null,"Anual","%",{"$f":"IFERROR(ID!G22/ID!G23,\"\")","v":""},{"$f":"IFERROR(ID!H22/ID!H23,\"\")","v":""},{"$f":"IFERROR(ID!I22/ID!I23,\"\")","v":""},{"$f":"IFERROR(ID!J22/ID!J23,\"\")","v":""},{"$f":"IFERROR(ID!K22/ID!K23,\"\")","v":""}]
[null,null,"Anual","km/ano",{"$f":"IFERROR(ID!G24,\"\")","v":0},{"$f":"IFERROR(ID!H24,\"\")","v":0},{"$f":"IFERROR(ID!I24,\"\")","v":0},{"$f":"IFERROR(ID!J24,\"\")","v":0},{"$f":"IFERROR(ID!K24,\"\")","v":0}]
["Limpeza de Macrodrenagem",null,"Anual","%",{"$f":"IFERROR(ID!G25/ID!G26,\"\")","v":""},{"$f":"IFERROR(ID!H25/ID!H26,\"\")","v":""},{"$f":"IFERROR(ID!I25/ID!I26,\"\")","v":""},{"$f":"IFERROR(ID!J25/ID!J26,\"\")","v":""},{"$f":"IFERROR(ID!K25/ID!K26,\"\")","v":""}]
["Manutenção da Macrodrenagem",null,"Anual","%",{"$f":"IFERROR(ID!G27/ID!G28,\"\")","v":""},{"$f":"IFERROR(ID!H27/ID!H28,\"\")","v":""},{"$f":"IFERROR(ID!I27/ID!I28,\"\")","v":""},{"$f":"IFERROR(ID!J27/ID!J28,\"\")","v":""},{"$f":"IFERROR(ID!K27/ID!K28,\"\")","v":""}]
["Incidência de Alagamentos no Município",null,"Anual","Ocorrências/ano",{"$f":"IFERROR(ID!G29,\"\")","v":0},{"$f":"IFERROR(ID!H29,\"\")","v":0},{"$f":"IFERROR(ID!I29,\"\")","v":0},{"$f":"IFERROR(ID!J29,\"\")","v":0},{"$f":"IFERROR(ID!K29,\"\")","v":0}]
[null,null,"Anual","km/ano",{"$f":"IFERROR(ID!G30,\"\")","v":0},{"$f":"IFERROR(ID!H30,\"\")","v":0},{"$f":"IFERROR(ID!I30,\"\")","v":0},{"$f":"IFERROR(ID!J30,\"\")","v":0},{"$f":"IFERROR(ID!K30,\"\")","v":0}]
[" Parcela de área urbana em relação à área total","IN042","Anual","%",{"$f":"IFERROR((ID!G32/ID!G31)*100,\"\")","v":""},{"$f":"IFERROR((ID!H32/ID!H31)*100,\"\")","v":""},{"$f":"IFERROR((ID!I32/ID!I31)*100,\"\")","v":""},{"$f":"IFERROR((ID!J32/ID!J31)*100,\"\")","v":""},{"$f":"IFERROR((ID!K32/ID!K31)*100,\"\")","v":""}]
["Densidade Demográfica na Área Urbana","IN043","Anual","pessoas/ha",{"$f":"IFERROR((ID!G33/(ID!G32*100)),\"\")","v":""},{"$f":"IFERROR((ID!H33/(ID!H32*100)),\"\")","v":""},{"$f":"IFERROR((ID!I33/(ID!I32*100)),\"\")","v":""},{"$f":"IFERROR((ID!J33/(ID!J32*100)),\"\")","v":""},{"$f":"IFERROR((ID!K33/(ID!K32*100)),\"\")","v":""}]
["Densidade de Domicílios na Área Urbana","IN044","Anual","domicílio/ha",{"$f":"IFERROR((ID!G34/(ID!G32*100)),\"\")","v":""},{"$f":"IFERROR((ID!H34/(ID!H32*100)),\"\")","v":""},{"$f":"IFERROR((ID!I34/(ID!I32*100)),\"\")","v":""},{"$f":"IFERROR((ID!J34/(ID!J32*100)),\"\")","v":""},{"$f":"IFERROR((ID!K34/(ID!K32*100)),\"\")","v":""}]
["Participação do Pessoal Próprio Sobre o Total de Pessoal Alocado nos Serviços de Drenagem e Manejo das Águas Pluviais Urbanas","IN001","Anual","%",{"$f":"IFERROR((ID!G35/ID!G36)*100,\"\")","v":""},{"$f":"IFERROR((ID!H35/ID!H36)*100,\"\")","v":""},{"$f":"IFERROR((ID!I35/ID!I36)*100,\"\")","v":""},{"$f":"IFERROR((ID!J35/ID!J36)*100,\"\")","v":""},{"$f":"IFERROR((ID!K35/ID!K36)*100,\"\")","v":""}]
["Receita Operacional Média do Serviço por Unidades Tributadas","IN006","Anual","R$/imóveis tributados ano",{"$f":"IFERROR(ID!G38/ID!G37,\"\")","v":""},{"$f":"IFERROR(ID!H38/ID!H37,\"\")","v":""},{"$f":"IFERROR(ID!I38/ID!I37,\"\")","v":""},{"$f":"IFERROR(ID!J38/ID!J37,\"\")","v":""},{"$f":"IFERROR(ID!K38/ID!K37,\"\")","v":""}]
["Participação da Despesa Total dos Serviços de Drenagem e Manejo das Águas Pluviais Urbanas na Despesa Total do Município","IN010","Anual","%",{"$f":"IFERROR((ID!G40/ID!G39)*100,\"\")","v":""},{"$f":"IFERROR((ID!H40/ID!H39)*100,\"\")","v":""},{"$f":"IFERROR((ID!I40/ID!I39)*100,\"\")","v":""},{"$f":"IFERROR((ID!J40/ID!J39)*100,\"\")","v":""},{"$f":"IFERROR((ID!K40/ID!K39)*100,\"\")","v":""}]
["Diferença relativa entre despesas e receitas de Drenagem e Manejo de Águas Pluviais urbanas","IN050","Anual","%",{"$f":"IFERROR(((ID!G41-ID!G40)/ID!G41)*100,\"\")","v":""},{"$f":"IFERROR(((ID!H41-ID!H40)/ID!H41)*100,\"\")","v":""},{"$f":"IFERROR(((ID!I41-ID!I40)/ID!I41)*100,\"\")","v":""},{"$f":"IFERROR(((ID!J41-ID!J40)/ID!J41)*100,\"\")","v":""},{"$f":"IFERROR(((ID!K41-ID!K40)/ID!K41)*100,\"\")","v":""}]
["Investimentos totais desembolsados em relação aos investimentos totais contratados","IN054","Anual","%",{"$f":"IFERROR(ID!G43/ID!G42,\"\")","v":""},{"$f":"IFERROR(ID!H43/ID!H42,\"\")","v":""},{"$f":"IFERROR(ID!I43/ID!I42,\"\")","v":""},{"$f":"IFERROR(ID!J43/ID!J42,\"\")","v":""},{"$f":"IFERROR(ID!K43/ID!K42,\"\")","v":""}]
["Taxa Média Praticada para os Serviços de Drenagem e Manejo das Águas Pluviais Urbanas","IN005","Anual","R$/imóveis ano",{"$f":"IFERROR(ID!G38/ID!G44,\"\")","v":""},{"$f":"IFERROR(ID!H38/ID!H44,\"\")","v":""},{"$f":"IFERROR(ID!I38/ID!I44,\"\")","v":""},{"$f":"IFERROR(ID!J38/ID!J44,\"\")","v":""},{"$f":"IFERROR(ID!K38/ID!K44,\"\")","v":""}]
[" Despesa Média Praticada para os Serviços de Drenagem e Manejo das Águas Pluviais Urbanas","IN009","Anual","R$/imóveis ano",{"$f":"IFERROR(ID!G40/ID!G44,\"\")","v":""},{"$f":"IFERROR(ID!H40/ID!H44,\"\")","v":""},{"$f":"IFERROR(ID!I40/ID!I44,\"\")","v":""},{"$f":"IFERROR(ID!J40/ID!J44,\"\")","v":""},{"$f":"IFERROR(ID!K40/ID!K44,\"\")","v":""}]
["Despesa per capita com serviços de Drenagem e Manejo das Águas Pluviais Urbanas","IN048","Anual","FN016 / GE006",{"$f":"IFERROR(ID!G40/ID!G33,\"\")","v":""},{"$f":"IFERROR(ID!H40/ID!H33,\"\")","v":""},{"$f":"IFERROR(ID!I40/ID!I33,\"\")","v":""},{"$f":"IFERROR(ID!J40/ID!J33,\"\")","v":""},{"$f":"IFERROR(ID!K40/ID!K33,\"\")","v":""}]
[" Investimento per capita em drenagem e Manejo de Águas Pluviais Urbanas","IN049","Anual","R$/habitante ano",{"$f":"IFERROR(ID!G42/ID!G33,\"\")","v":""},{"$f":"IFERROR(ID!H42/ID!H33,\"\")","v":""},{"$f":"IFERROR(ID!I42/ID!I33,\"\")","v":""},{"$f":"IFERROR(ID!J42/ID!J33,\"\")","v":""},{"$f":"IFERROR(ID!K42/ID!K33,\"\")","v":""}]
["Desembolso de investimentos per capta","IN053","Anual","R$/habitante ano",{"$f":"IFERROR(ID!G43/ID!G33,\"\")","v":""},{"$f":"IFERROR(ID!H43/ID!H33,\"\")","v":""},{"$f":"IFERROR(ID!I43/ID!I33,\"\")","v":""},{"$f":"IFERROR(ID!J43/ID!J33,\"\")","v":""},{"$f":"IFERROR(ID!K43/ID!K33,\"\")","v":""}]
[" Taxa de Cobertura de Pavimentação e Meio-Fio na Área Urbana do Município","IN020","Anual","%",{"$f":"IFERROR((ID!G46/ID!G45)*100,\"\")","v":""},{"$f":"IFERROR((ID!H46/ID!H45)*100,\"\")","v":""},{"$f":"IFERROR((ID!I46/ID!I45)*100,\"\")","v":""},{"$f":"IFERROR((ID!J46/ID!J45)*100,\"\")","v":""},{"$f":"IFERROR((ID!K46/ID!K45)*100,\"\")","v":""}]
["Taxa de cobertura de vias públicas com redes ou canais pluviais subterrâneos na área urbana","IN021","Anual","%",{"$f":"IFERROR((ID!G47/ID!G45)*100,\"\")","v":""},{"$f":"IFERROR((ID!H47/ID!H45)*100,\"\")","v":""},{"$f":"IFERROR((ID!I47/ID!I45)*100,\"\")","v":""},{"$f":"IFERROR((ID!J47/ID!J45)*100,\"\")","v":""},{"$f":"IFERROR((ID!K47/ID!K45)*100,\"\")","v":""}]
[" Parcela de Cursos d’Água Naturais Perenes em Área Urbana com Parques Lineares","IN025","Anual","%",{"$f":"IFERROR((ID!G49/ID!G48)*100,\"\")","v":""},{"$f":"IFERROR((ID!H49/ID!H48)*100,\"\")","v":""},{"$f":"IFERROR((ID!I49/ID!I48)*100,\"\")","v":""},{"$f":"IFERROR((ID!J49/ID!J48)*100,\"\")","v":""},{"$f":"IFERROR((ID!K49/ID!K48)*100,\"\")","v":""}]
[" Parcela de Cursos d’Água Naturais Perenes com Canalização Aberta","IN026","Anual","%",{"$f":"IFERROR((ID!G50/ID!G48)*100,\"\")","v":""},{"$f":"IFERROR((ID!H50/ID!H48)*100,\"\")","v":""},{"$f":"IFERROR((ID!I50/ID!I48)*100,\"\")","v":""},{"$f":"IFERROR((ID!J50/ID!J48)*100,\"\")","v":""},{"$f":"IFERROR((ID!K50/ID!K48)*100,\"\")","v":""}]
["Parcela de Cursos d’Água Naturais Perenes com Canalização Fechada","IN027","Anual","%",{"$f":"IFERROR((ID!G51/ID!G48)*100,\"\")","v":""},{"$f":"IFERROR((ID!H51/ID!H48)*100,\"\")","v":""},{"$f":"IFERROR((ID!I51/ID!I48)*100,\"\")","v":""},{"$f":"IFERROR((ID!J51/ID!J48)*100,\"\")","v":""},{"$f":"IFERROR((ID!K51/ID!K48)*100,\"\")","v":""}]
["Parcela de Cursos d’Água Naturais Perenes com Diques","IN029","Anual","%",{"$f":"IFERROR((ID!G52/ID!G48)*100,\"\")","v":""},{"$f":"IFERROR((ID!H52/ID!H48)*100,\"\")","v":""},{"$f":"IFERROR((ID!I52/ID!I48)*100,\"\")","v":""},{"$f":"IFERROR((ID!J52/ID!J48)*100,\"\")","v":""},{"$f":"IFERROR((ID!K52/ID!K48)*100,\"\")","v":""}]
["Volume de reservação de águas pluviais por unidade de área urbana","IN035","Anual","m³/km²",{"$f":"IFERROR(ID!G53/ID!G32,\"\")","v":""},{"$f":"IFERROR(ID!H53/ID!H32,\"\")","v":""},{"$f":"IFERROR(ID!I53/ID!I32,\"\")","v":""},{"$f":"IFERROR(ID!J53/ID!J32,\"\")","v":""},{"$f":"IFERROR(ID!K53/ID!K32,\"\")","v":""}]
["Densidade de captações de águas pluviais na área urbana","IN051","Anual","un/km²",{"$f":"IFERROR((ID!G54+ID!G55)/ID!G32,\"\")","v":""},{"$f":"IFERROR((ID!H54+ID!H55)/ID!H32,\"\")","v":""},{"$f":"IFERROR((ID!I54+ID!I55)/ID!I32,\"\")","v":""},{"$f":"IFERROR((ID!J54+ID!J55)/ID!J32,\"\")","v":""},{"$f":"IFERROR((ID!K54+ID!K55)/ID!K32,\"\")","v":""}]
["Parcela de Domicílios em Situação de Risco de Inundação","IN040","Anual","%",{"$f":"IFERROR((ID!G56/ID!G34)*100,\"\")","v":""},{"$f":"IFERROR((ID!H56/ID!H34)*100,\"\")","v":""},{"$f":"IFERROR((ID!I56/ID!I34)*100,\"\")","v":""},{"$f":"IFERROR((ID!J56/ID!J34)*100,\"\")","v":""},{"$f":"IFERROR((ID!K56/ID!K34)*100,\"\")","v":""}]
[" Parcela da População Impactada por Eventos Hidrológicos","IN041","Anual","%",{"$f":"IFERROR(((ID!G57+ID!G58)/ID!G33)*100,\"\")","v":""},{"$f":"IFERROR(((ID!H57+ID!H58)/ID!H33)*100,\"\")","v":""},{"$f":"IFERROR(((ID!I57+ID!I58)/ID!I33)*100,\"\")","v":""},{"$f":"IFERROR(((ID!J57+ID!J58)/ID!J33)*100,\"\")","v":""},{"$f":"IFERROR(((ID!K57+ID!K58)/ID!K33)*100,\"\")","v":""}]
[" Índice de Óbitos","IN046","Anual","obi. /〖10〗^5 hab",{"$f":"IFERROR(((ID!G59+ID!G60)*(10^5))/ID!G33,\"\")","v":""},{"$f":"IFERROR(((ID!H59+ID!H60)*(10^5))/ID!H33,\"\")","v":""},{"$f":"IFERROR(((ID!I59+ID!I60)*(10^5))/ID!I33,\"\")","v":""},{"$f":"IFERROR(((ID!J59+ID!J60)*(10^5))/ID!J33,\"\")","v":""},{"$f":"IFERROR(((ID!K59+ID!K60)*(10^5))/ID!K33,\"\")","v":""}]
["Habitantes Realocados em Decorrência de Eventos Hidrológicos","IN047","Anual","pes. /〖10〗^5 hab",{"$f":"IFERROR(((ID!G62+ID!G63)/ID!G61)*(10^5),\"\")","v":""},{"$f":"IFERROR(((ID!H62+ID!H63)/ID!H61)*(10^5),\"\")","v":""},{"$f":"IFERROR(((ID!I62+ID!I63)/ID!I61)*(10^5),\"\")","v":""},{"$f":"IFERROR(((ID!J62+ID!J63)/ID!J61)*(10^5),\"\")","v":""},{"$f":"IFERROR(((ID!K62+ID!K63)/ID!K61)*(10^5),\"\")","v":""}]

{"sheet":"RE","index":9,"n_rows":250,"n_cols":12,"rows_kept":250,"cut":false,"hidden":true,"merged":[[1,12,1,26],[1,27,1,41],[0,0,1,0],[0,1,1,1],[0,2,1,2],[0,3,1,3],[0,4,1,4],[0,5,1,5]]}
["Dados","Frequência","Descrição","Unidade de medida","Fonte de dados","Responsável pela geração dos dados",null,"Ano","Ano","Ano",null,"Ano"]
[null,null,null,null,null,null,null,{"$f":"'Indicadores - Resíduos'!E3","v":2019},{"$f":"'Indicadores - Resíduos'!F3","v":2020},{"$f":"'Indicadores - Resíduos'!G3","v":2021},{"$f":"'Indicadores - Resíduos'!H3","v":2022},{"$f":"'Indicadores - Resíduos'!I3","v":2023}]
["Frequência da coleta domiciliar","Anual","Número de dias que acontece a coleta seletiva nos bairros","dias","Diretoria de resíduos","Diretoria de resíduos",2,{"$f":"HLOOKUP(H$2,'Base de Dados - Resíduos'!$G$3:$AW$1048576,$G3,)","v":"3 vezes e 6 vezes"},{"$f":"HLOOKUP(I$2,'Base de Dados - Resíduos'!$G$3:$AW$1048576,$G3,)","v":0},{"$f":"HLOOKUP(J$2,'Base de Dados - Resíduos'!$G$3:$AW$1048576,$G3,)","v":0},{"$f":"HLOOKUP(K$2,'Base de Dados - Resíduos'!$G$3:$AW$1048576,$G3,)","v":0},{"$f":"HLOOKUP(L$2,'Base de Dados - Resíduos'!$G$3:$AW$1048576,$G3,)","v":0}]
["Rurb ","Anual","Número de residências atendidas pela coleta convencional na área urbana","Unidade","Diretoria de resíduos","Diretoria de resíduos",3,{"$f":"HLOOKUP(H$2,'Base de Dados - Resíduos'!$G$3:$AW$1048576,$G4,)","v":48424},{"$f":"HLOOKUP(I$2,'Base de Dados - Resíduos'!$G$3:$AW$1048576,$G4,)","v":0},{"$f":"HLOOKUP(J$2,'Base de Dados - Resíduos'!$G$3:$AW$1048576,$G4,)","v":0},{"$f":"HLOOKUP(K$2,'Base de Dados - Resíduos'!$G$3:$AW$1048576,$G4,)","v":0},{"$f":"HLOOKUP(L$2,'Base de Dados - Resíduos'!$G$3:$AW$1048576,$G4,)","v":0}]
["Rurbana","Anual","Número total de residências na área urbana","Unidade","IBGE ou Projeção de população (PSBM)","Diretoria de resíduos",4,{"$f":"HLOOKUP(H$2,'Base de Dados - Resíduos'!$G$3:$AW$1048576,$G5,)","v":48424},{"$f":"HLOOKUP(I$2,'Base de Dados - Resíduos'!$G$3:$AW$1048576,$G5,)","v":0},{"$f":"HLOOKUP(J$2,'Base de Dados - Resíduos'!$G$3:$AW$1048576,$G5,)","v":0},{"$f":"HLOOKUP(K$2,'Base de Dados - Resíduos'!$G$3:$AW$1048576,$G5,)","v":0},{"$f":"HLOOKUP(L$2,'Base de Dados - Resíduos'!$G$3:$AW$1048576,$G5,)","v":0}]
["Rru","Anual","Número de residências atendidas pela coleta convencional na área rural","Unidade","Diretoria de resíduos","Diretoria de resíduos",5,{"$f":"HLOOKUP(H$2,'Base de Dados - Resíduos'!$G$3:$AW$1048576,$G6,)","v":736},{"$f":"HLOOKUP(I$2,'Base de Dados - Resíduos'!$G$3:$AW$1048576,$G6,)","v":0},{"$f":"HLOOKUP(J$2,'Base de Dados - Resíduos'!$G$3:$AW$1048576,$G6,)","v":0},{"$f":"HLOOKUP(K$2,'Base de Dados - Resíduos'!$G$3:$AW$1048576,$G6,)","v":0},{"$f":"HLOOKUP(L$2,'Base de Dados - Resíduos'!$G$3:$AW$1048576,$G6,)","v":0}]
["Rrural","Anual","Número total de residências na área rural","Unidade","IBGE ou Projeção de população (PSBM)","Diretoria de resíduos",6,{"$f":"HLOOKUP(H$2,'Base de Dados - Resíduos'!$G$3:$AW$1048576,$G7,)","v":878},{"$f":"HLOOKUP(I$2,'Base de Dados - Resíduos'!$G$3:$AW$1048576,$G7,)","v":0},{"$f":"HLOOKUP(J$2,'Base de Dados - Resíduos'!$G$3:$AW$1048576,$G7,)","v":0},{"$f":"HLOOKUP(K$2,'Base de Dados - Resíduos'!$G$3:$AW$1048576,$G7,)","v":0},{"$f":"HLOOKUP(L$2,'Base de Dados - Resíduos'!$G$3:$AW$1048576,$G7,)","v":0}]
["Rtot","Semestral","Número de residências totais atendidas pela coleta convencional ","Unidade","Diretoria de resíduos","Diretoria de resíduos",7,{"$f":"HLOOKUP(H$2,'Base de Dados - Resíduos'!$G$3:$AW$1048576,$G8,)","v":0},{"$f":"HLOOKUP(I$2,'Base de Dados - Resíduos'!$G$3:$AW$1048576,$G8,)","v":0},{"$f":"HLOOKUP(J$2,'Base de Dados - Resíduos'!$G$3:$AW$1048576,$G8,)","v":0},{"$f":"HLOOKUP(K$2,'Base de Dados - Resíduos'!$G$3:$AW$1048576,$G8,)","v":0},{"$f":"HLOOKUP(L$2,'Base de Dados - Resíduos'!$G$3:$AW$1048576,$G8,)","v":0}]
["Rtotal","Anual / Semestral","Número total de residências no município","Unidade","IBGE ou Projeção de população (PSBM)","Diretoria de resíduos",8,{"$f":"HLOOKUP(H$2,'Base de Dados - Resíduos'!$G$3:$AW$1048576,$G9,)","v":49302},{"$f":"HLOOKUP(I$2,'Base de Dados - Resíduos'!$G$3:$AW$1048576,$G9,)","v":0},{"$f":"HLOOKUP(J$2,'Base de Dados - Resíduos'!$G$3:$AW$1048576,$G9,)","v":0},{"$f":"HLOOKUP(K$2,'Base de Dados - Resíduos'!$G$3:$AW$1048576,$G9,)","v":0},{"$f":"HLOOKUP(L$2,'Base de Dados - Resíduos'!$G$3:$AW$1048576,$G9,)","v":0}]
["Mtotal (mensal)","Mensal","Massa total de resíduos coletada mensalmente","toneladas","Diretoria de resíduos","Diretoria de resíduos",9,{"$f":"HLOOKUP(H$2,'Base de Dados - Resíduos'!$G$3:$AW$1048576,$G10,)","v":0},{"$f":"HLOOKUP(I$2,'Base de Dados - Resíduos'!$G$3:$AW$1048576,$G10,)","v":0},{"$f":"HLOOKUP(J$2,'Base de Dados - Resíduos'!$G$3:$AW$1048576,$G10,)","v":0},{"$f":"HLOOKUP(K$2,'Base de Dados - Resíduos'!$G$3:$AW$1048576,$G10,)","v":0},{"$f":"HLOOKUP(L$2,'Base de Dados - Resíduos'!$G$3:$AW$1048576,$G10,)","v":0}]
["Ptotal","Anual","População total do município","habitantes","IBGE ou Projeção de população (PSBM)","Diretoria de resíduos",10,{"$f":"HLOOKUP(H$2,'Base de Dados - Resíduos'!$G$3:$AW$1048576,$G11,)","v":157544},{"$f":"HLOOKUP(I$2,'Base de Dados - Resíduos'!$G$3:$AW$1048576,$G11,)","v":0},{"$f":"HLOOKUP(J$2,'Base de Dados - Resíduos'!$G$3:$AW$1048576,$G11,)","v":0},{"$f":"HLOOKUP(K$2,'Base de Dados - Resíduos'!$G$3:$AW$1048576,$G11,)","v":0},{"$f":"HLOOKUP(L$2,'Base de Dados - Resíduos'!$G$3:$AW$1048576,$G11,)","v":0}]
["Nfun","Semestral","Número total de funcionários que trabalha na coleta de resíduos sólidos urbanos","-","Empresa responsável pela operação da coleta de resíduos sólidos urbanos","Diretoria de resíduos",11,{"$f":"HLOOKUP(H$2,'Base de Dados - Resíduos'!$G$3:$AW$1048576,$G12,)","v":51},{"$f":"HLOOKUP(I$2,'Base de Dados - Resíduos'!$G$3:$AW$1048576,$G12,)","v":0},{"$f":"HLOOKUP(J$2,'Base de Dados - Resíduos'!$G$3:$AW$1048576,$G12,)","v":0},{"$f":"HLOOKUP(K$2,'Base de Dados - Resíduos'!$G$3:$AW$1048576,$G12,)","v":0},{"$f":"HLOOKUP(L$2,'Base de Dados - Resíduos'!$G$3:$AW$1048576,$G12,)","v":0}]
["Ptotal (atendida)","Anual / Semestral","População total atendida pela coleta convencional","habitantes","Diretoria de resíduos","Diretoria de resíduos",12,{"$f":"HLOOKUP(H$2,'Base de Dados - Resíduos'!$G$3:$AW$1048576,$G13,)","v":157089},{"$f":"HLOOKUP(I$2,'Base de Dados - Resíduos'!$G$3:$AW$1048576,$G13,)","v":0},{"$f":"HLOOKUP(J$2,'Base de Dados - Resíduos'!$G$3:$AW$1048576,$G13,)","v":0},{"$f":"HLOOKUP(K$2,'Base de Dados - Resíduos'!$G$3:$AW$1048576,$G13,)","v":0},{"$f":"HLOOKUP(L$2,'Base de Dados - Resíduos'!$G$3:$AW$1048576,$G13,)","v":0}]
["Vtotal (anual)","Anual","Valor gasto no serviço de coleta convencional dos resíduos sólidos urbanos","R$","Semasa","Diretoria de resíduos",13,{"$f":"HLOOKUP(H$2,'Base de Dados - Resíduos'!$G$3:$AW$1048576,$G14,)","v":0},{"$f":"HLOOKUP(I$2,'Base de Dados - Resíduos'!$G$3:$AW$1048576,$G14,)","v":0},{"$f":"HLOOKUP(J$2,'Base de Dados - Resíduos'!$G$3:$AW$1048576,$G14,)","v":0},{"$f":"HLOOKUP(K$2,'Base de Dados - Resíduos'!$G$3:$AW$1048576,$G14,)","v":0},{"$f":"HLOOKUP(L$2,'Base de Dados - Resíduos'!$G$3:$AW$1048576,$G14,)","v":0}]
["Mtotal (anual)","Anual","Massa total de resíduos sólidos urbanos coletada anualmente","toneladas","Empresa responsável pela operação do Aterro sanitário","Diretoria de resíduos",14,{"$f":"HLOOKUP(H$2,'Base de Dados - Resíduos'!$G$3:$AW$1048576,$G15,)","v":0},{"$f":"HLOOKUP(I$2,'Base de Dados - Resíduos'!$G$3:$AW$1048576,$G15,)","v":0},{"$f":"HLOOKUP(J$2,'Base de Dados - Resíduos'!$G$3:$AW$1048576,$G15,)","v":0},{"$f":"HLOOKUP(K$2,'Base de Dados - Resíduos'!$G$3:$AW$1048576,$G15,)","v":0},{"$f":"HLOOKUP(L$2,'Base de Dados - Resíduos'!$G$3:$AW$1048576,$G15,)","v":0}]
["Vtotal (coleta)","Anual","Valor total gasto com a coleta seletiva","R$","Semasa","Diretoria de resíduos",15,{"$f":"HLOOKUP(H$2,'Base de Dados - Resíduos'!$G$3:$AW$1048576,$G16,)","v":817408.17},{"$f":"HLOOKUP(I$2,'Base de Dados - Resíduos'!$G$3:$AW$1048576,$G16,)","v":0},{"$f":"HLOOKUP(J$2,'Base de Dados - Resíduos'!$G$3:$AW$1048576,$G16,)","v":0},{"$f":"HLOOKUP(K$2,'Base de Dados - Resíduos'!$G$3:$AW$1048576,$G16,)","v":0},{"$f":"HLOOKUP(L$2,'Base de Dados - Resíduos'!$G$3:$AW$1048576,$G16,)","v":0}]
["Vtotal (manejo dos RSU)","Anual","Valor total gasto com o manejo dos RSU","R$","Semasa","Diretoria de resíduos",16,{"$f":"HLOOKUP(H$2,'Base de Dados - Resíduos'!$G$3:$AW$1048576,$G17,)","v":0},{"$f":"HLOOKUP(I$2,'Base de Dados - Resíduos'!$G$3:$AW$1048576,$G17,)","v":0},{"$f":"HLOOKUP(J$2,'Base de Dados - Resíduos'!$G$3:$AW$1048576,$G17,)","v":0},{"$f":"HLOOKUP(K$2,'Base de Dados - Resíduos'!$G$3:$AW$1048576,$G17,)","v":0},{"$f":"HLOOKUP(L$2,'Base de Dados - Resíduos'!$G$3:$AW$1048576,$G17,)","v":0}]
["Custo da disposição final dos RSU","Anual","Valor gasto com a disposição final dos resíduos sólidos urbanos","R$","Semasa","Diretoria de resíduos",17,{"$f":"HLOOKUP(H$2,'Base de Dados - Resíduos'!$G$3:$AW$1048576,$G18,)","v":0},{"$f":"HLOOKUP(I$2,'Base de Dados - Resíduos'!$G$3:$AW$1048576,$G18,)","v":0},{"$f":"HLOOKUP(J$2,'Base de Dados - Resíduos'!$G$3:$AW$1048576,$G18,)","v":0},{"$f":"HLOOKUP(K$2,'Base de Dados - Resíduos'!$G$3:$AW$1048576,$G18,)","v":0},{"$f":"HLOOKUP(L$2,'Base de Dados - Resíduos'!$G$3:$AW$1048576,$G18,)","v":0}]
["Mtotal (RSS)","Anual / Mensal","Massa total de resíduos de serviço de saúde coletada ","quilogramas","Empresa terceirizada para realizar a coleta dos RSS","Diretoria de resíduos",18,{"$f":"HLOOKUP(H$2,'Base de Dados - Resíduos'!$G$3:$AW$1048576,$G19,)","v":0},{"$f":"HLOOKUP(I$2,'Base de Dados - Resíduos'!$G$3:$AW$1048576,$G19,)","v":0},{"$f":"HLOOKUP(J$2,'Base de Dados - Resíduos'!$G$3:$AW$1048576,$G19,)","v":0},{"$f":"HLOOKUP(K$2,'Base de Dados - Resíduos'!$G$3:$AW$1048576,$G19,)","v":0},{"$f":"HLOOKUP(L$2,'Base de Dados - Resíduos'!$G$3:$AW$1048576,$G19,)","v":0}]
["Vtotal (RSS)","Anual","Valor gasto com manejo dos resíduos de serviço de saúde","R$","Semasa","Diretoria de resíduos",19,{"$f":"HLOOKUP(H$2,'Base de Dados - Resíduos'!$G$3:$AW$1048576,$G20,)","v":0},{"$f":"HLOOKUP(I$2,'Base de Dados - Resíduos'!$G$3:$AW$1048576,$G20,)","v":0},{"$f":"HLOOKUP(J$2,'Base de Dados - Resíduos'!$G$3:$AW$1048576,$G20,)","v":0},{"$f":"HLOOKUP(K$2,'Base de Dados - Resíduos'!$G$3:$AW$1048576,$G20,)","v":0},{"$f":"HLOOKUP(L$2,'Base de Dados - Resíduos'!$G$3:$AW$1048576,$G20,)","v":0}]
["Nfun (varrição)","Anual","Número de funcionários do serviço de varrição","funcionários","Secretaria de Serviços Públicos e Meio Ambiente","Diretoria de resíduos",20,{"$f":"HLOOKUP(H$2,'Base de Dados - Resíduos'!$G$3:$AW$1048576,$G21,)","v":31},{"$f":"HLOOKUP(I$2,'Base de Dados - Resíduos'!$G$3:$AW$1048576,$G21,)","v":0},{"$f":"HLOOKUP(J$2,'Base de Dados - Resíduos'!$G$3:$AW$1048576,$G21,)","v":0},{"$f":"HLOOKUP(K$2,'Base de Dados - Resíduos'!$G$3:$AW$1048576,$G21,)","v":0},{"$f":"HLOOKUP(L$2,'Base de Dados - Resíduos'!$G$3:$AW$1048576,$G21,)","v":0}]
["P (urbana)","Anual","População total da área urbana","habitantes","IBGE ou Projeção de população (PSBM)","Diretoria de resíduos",21,{"$f":"HLOOKUP(H$2,'Base de Dados - Resíduos'!$G$3:$AW$1048576,$G22,)","v":154740},{"$f":"HLOOKUP(I$2,'Base de Dados - Resíduos'!$G$3:$AW$1048576,$G22,)","v":0},{"$f":"HLOOKUP(J$2,'Base de Dados - Resíduos'!$G$3:$AW$1048576,$G22,)","v":0},{"$f":"HLOOKUP(K$2,'Base de Dados - Resíduos'!$G$3:$AW$1048576,$G22,)","v":0},{"$f":"HLOOKUP(L$2,'Base de Dados - Resíduos'!$G$3:$AW$1048576,$G22,)","v":0}]
["Nfun (capinação)","Anual","Número de funcionários do serviço de capinação","funcionários","Secretaria de Serviços Públicos e Meio Ambiente","Diretoria de resíduos",22,{"$f":"HLOOKUP(H$2,'Base de Dados - Resíduos'!$G$3:$AW$1048576,$G23,)","v":123},{"$f":"HLOOKUP(I$2,'Base de Dados - Resíduos'!$G$3:$AW$1048576,$G23,)","v":0},{"$f":"HLOOKUP(J$2,'Base de Dados - Resíduos'!$G$3:$AW$1048576,$G23,)","v":0},{"$f":"HLOOKUP(K$2,'Base de Dados - Resíduos'!$G$3:$AW$1048576,$G23,)","v":0},{"$f":"HLOOKUP(L$2,'Base de Dados - Resíduos'!$G$3:$AW$1048576,$G23,)","v":0}]
["EI (km de vias limpas)","Anual / Semestral","Extensão total das vias contempladas pelo serviço de varrição","km","Secretaria de Serviços Públicos e Meio Ambiente","Diretoria de resíduos",23,{"$f":"HLOOKUP(H$2,'Base de Dados - Resíduos'!$G$3:$AW$1048576,$G24,)","v":0},{"$f":"HLOOKUP(I$2,'Base de Dados - Resíduos'!$G$3:$AW$1048576,$G24,)","v":0},{"$f":"HLOOKUP(J$2,'Base de Dados - Resíduos'!$G$3:$AW$1048576,$G24,)","v":0},{"$f":"HLOOKUP(K$2,'Base de Dados - Resíduos'!$G$3:$AW$1048576,$G24,)","v":0},{"$f":"HLOOKUP(L$2,'Base de Dados - Resíduos'!$G$3:$AW$1048576,$G24,)","v":0}]
["E (km de vias pavimentadas)","Anual","Extensão total das vias municipais pavimentadas no município","km","Secretaria de Obras e Planejamento","Secretaria de Planejamento e Obras",24,{"$f":"HLOOKUP(H$2,'Base de Dados - Resíduos'!$G$3:$AW$1048576,$G25,)","v":0},{"$f":"HLOOKUP(I$2,'Base de Dados - Resíduos'!$G$3:$AW$1048576,$G25,)","v":0},{"$f":"HLOOKUP(J$2,'Base de Dados - Resíduos'!$G$3:$AW$1048576,$G25,)","v":0},{"$f":"HLOOKUP(K$2,'Base de Dados - Resíduos'!$G$3:$AW$1048576,$G25,)","v":0},{"$f":"HLOOKUP(L$2,'Base de Dados - Resíduos'!$G$3:$AW$1048576,$G25,)","v":0}]
["Vtotal (varrição)","Anual  / Semestral","Valor total gasto com o serviço de varrição","R$","Secretaria de Administração e Fazenda","Diretoria de resíduos",25,{"$f":"HLOOKUP(H$2,'Base de Dados - Resíduos'!$G$3:$AW$1048576,$G26,)","v":0},{"$f":"HLOOKUP(I$2,'Base de Dados - Resíduos'!$G$3:$AW$1048576,$G26,)","v":0},{"$f":"HLOOKUP(J$2,'Base de Dados - Resíduos'!$G$3:$AW$1048576,$G26,)","v":0},{"$f":"HLOOKUP(K$2,'Base de Dados - Resíduos'!$G$3:$AW$1048576,$G26,)","v":0},{"$f":"HLOOKUP(L$2,'Base de Dados - Resíduos'!$G$3:$AW$1048576,$G26,)","v":0}]
["R (atendida)","Anual","Número de residências atendidas pela coleta seletiva","unidade","Diretoria de resíduos","Diretoria de resíduos",26,{"$f":"HLOOKUP(H$2,'Base de Dados - Resíduos'!$G$3:$AW$1048576,$G27,)","v":43366},{"$f":"HLOOKUP(I$2,'Base de Dados - Resíduos'!$G$3:$AW$1048576,$G27,)","v":0},{"$f":"HLOOKUP(J$2,'Base de Dados - Resíduos'!$G$3:$AW$1048576,$G27,)","v":0},{"$f":"HLOOKUP(K$2,'Base de Dados - Resíduos'!$G$3:$AW$1048576,$G27,)","v":0},{"$f":"HLOOKUP(L$2,'Base de Dados - Resíduos'!$G$3:$AW$1048576,$G27,)","v":0}]
["T (recicláveis coletado)","Anual / Mensal","Massa total dos materiais recicláveis coletada","toneladas","Diretoria de resíduos","Diretoria de resíduos",27,{"$f":"HLOOKUP(H$2,'Base de Dados - Resíduos'!$G$3:$AW$1048576,$G28,)","v":0},{"$f":"HLOOKUP(I$2,'Base de Dados - Resíduos'!$G$3:$AW$1048576,$G28,)","v":0},{"$f":"HLOOKUP(J$2,'Base de Dados - Resíduos'!$G$3:$AW$1048576,$G28,)","v":0},{"$f":"HLOOKUP(K$2,'Base de Dados - Resíduos'!$G$3:$AW$1048576,$G28,)","v":0},{"$f":"HLOOKUP(L$2,'Base de Dados - Resíduos'!$G$3:$AW$1048576,$G28,)","v":0}]
["Mrtotal (diária)","Anual","Massa diária total dos materiais recicláveis ","toneladas","Diretoria de resíduos","Diretoria de resíduos",28,{"$f":"HLOOKUP(H$2,'Base de Dados - Resíduos'!$G$3:$AW$1048576,$G29,)","v":0},{"$f":"HLOOKUP(I$2,'Base de Dados - Resíduos'!$G$3:$AW$1048576,$G29,)","v":0},{"$f":"HLOOKUP(J$2,'Base de Dados - Resíduos'!$G$3:$AW$1048576,$G29,)","v":0},{"$f":"HLOOKUP(K$2,'Base de Dados - Resíduos'!$G$3:$AW$1048576,$G29,)","v":0},{"$f":"HLOOKUP(L$2,'Base de Dados - Resíduos'!$G$3:$AW$1048576,$G29,)","v":0}]
["Ptotal (atendida)","Anual","População total atendida pela coleta seletiva","habitantes","Diretoria de resíduos","Diretoria de resíduos",29,{"$f":"HLOOKUP(H$2,'Base de Dados - Resíduos'!$G$3:$AW$1048576,$G30,)","v":138607},{"$f":"HLOOKUP(I$2,'Base de Dados - Resíduos'!$G$3:$AW$1048576,$G30,)","v":0},{"$f":"HLOOKUP(J$2,'Base de Dados - Resíduos'!$G$3:$AW$1048576,$G30,)","v":0},{"$f":"HLOOKUP(K$2,'Base de Dados - Resíduos'!$G$3:$AW$1048576,$G30,)","v":0},{"$f":"HLOOKUP(L$2,'Base de Dados - Resíduos'!$G$3:$AW$1048576,$G30,)","v":0}]
["V (pago)","Anual","Valor total pago pela coleta dos materiais recicláveis","R$","Semasa","Diretoria de resíduos",30,{"$f":"HLOOKUP(H$2,'Base de Dados - Resíduos'!$G$3:$AW$1048576,$G31,)","v":817408.17},{"$f":"HLOOKUP(I$2,'Base de Dados - Resíduos'!$G$3:$AW$1048576,$G31,)","v":0},{"$f":"HLOOKUP(J$2,'Base de Dados - Resíduos'!$G$3:$AW$1048576,$G31,)","v":0},{"$f":"HLOOKUP(K$2,'Base de Dados - Resíduos'!$G$3:$AW$1048576,$G31,)","v":0},{"$f":"HLOOKUP(L$2,'Base de Dados - Resíduos'!$G$3:$AW$1048576,$G31,)","v":0}]
["V (arrecadado)","Anual","Valor arrecadado pelo município com a cobrança do serviço de manejo dos resíduos sólidos urbanos","R$","Semasa","Diretoria de resíduos",31,{"$f":"HLOOKUP(H$2,'Base de Dados - Resíduos'!$G$3:$AW$1048576,$G32,)","v":11909523.859999999},{"$f":"HLOOKUP(I$2,'Base de Dados - Resíduos'!$G$3:$AW$1048576,$G32,)","v":0},{"$f":"HLOOKUP(J$2,'Base de Dados - Resíduos'!$G$3:$AW$1048576,$G32,)","v":0},{"$f":"HLOOKUP(K$2,'Base de Dados - Resíduos'!$G$3:$AW$1048576,$G32,)","v":0},{"$f":"HLOOKUP(L$2,'Base de Dados - Resíduos'!$G$3:$AW$1048576,$G32,)","v":0}]
["O (ocorrências anual)","Anual","Indica o número de ocorrências de disposição irregular/clandestina","-","Secretaria de Serviços Públicos e Meio Ambiente","Diretoria de resíduos",32,{"$f":"HLOOKUP(H$2,'Base de Dados - Resíduos'!$G$3:$AW$1048576,$G33,)","v":0},{"$f":"HLOOKUP(I$2,'Base de Dados - Resíduos'!$G$3:$AW$1048576,$G33,)","v":0},{"$f":"HLOOKUP(J$2,'Base de Dados - Resíduos'!$G$3:$AW$1048576,$G33,)","v":0},{"$f":"HLOOKUP(K$2,'Base de Dados - Resíduos'!$G$3:$AW$1048576,$G33,)","v":0},{"$f":"HLOOKUP(L$2,'Base de Dados - Resíduos'!$G$3:$AW$1048576,$G33,)","v":0}]
["Método de disposição final","Anual","Local de destinação final dos resíduos sólidos urbanos","Aterro sanitário / aterro controlado / lixão","Diretoria de resíduos","Diretoria de resíduos",33,{"$f":"HLOOKUP(H$2,'Base de Dados - Resíduos'!$G$3:$AW$1048576,$G34,)","v":"Aterro Sanitário"},{"$f":"HLOOKUP(I$2,'Base de Dados - Resíduos'!$G$3:$AW$1048576,$G34,)","v":0},{"$f":"HLOOKUP(J$2,'Base de Dados - Resíduos'!$G$3:$AW$1048576,$G34,)","v":0},{"$f":"HLOOKUP(K$2,'Base de Dados - Resíduos'!$G$3:$AW$1048576,$G34,)","v":0},{"$f":"HLOOKUP(L$2,'Base de Dados - Resíduos'!$G$3:$AW$1048576,$G34,)","v":0}]
["Existência de licença ambiental no local de disposição final","Anual","Existência de licença ambiental no Aterro sanitário","Sim /Não","Administrador do local de disposição final","Diretoria de resíduos",34,{"$f":"HLOOKUP(H$2,'Base de Dados - Resíduos'!$G$3:$AW$1048576,$G35,)","v":"Sim"},{"$f":"HLOOKUP(I$2,'Base de Dados - Resíduos'!$G$3:$AW$1048576,$G35,)","v":0},{"$f":"HLOOKUP(J$2,'Base de Dados - Resíduos'!$G$3:$AW$1048576,$G35,)","v":0},{"$f":"HLOOKUP(K$2,'Base de Dados - Resíduos'!$G$3:$AW$1048576,$G35,)","v":0},{"$f":"HLOOKUP(L$2,'Base de Dados - Resíduos'!$G$3:$AW$1048576,$G35,)","v":0}]
["Existência de balança","Anual","Existência de balança no aterro sanitário","Sim /Não","Administrador do local de disposição final","Diretoria de resíduos",35,{"$f":"HLOOKUP(H$2,'Base de Dados - Resíduos'!$G$3:$AW$1048576,$G36,)","v":"Sim"},{"$f":"HLOOKUP(I$2,'Base de Dados - Resíduos'!$G$3:$AW$1048576,$G36,)","v":0},{"$f":"HLOOKUP(J$2,'Base de Dados - Resíduos'!$G$3:$AW$1048576,$G36,)","v":0},{"$f":"HLOOKUP(K$2,'Base de Dados - Resíduos'!$G$3:$AW$1048576,$G36,)","v":0},{"$f":"HLOOKUP(L$2,'Base de Dados - Resíduos'!$G$3:$AW$1048576,$G36,)","v":0}]
["Coleta diferenciada de resíduos de serviço de saúde (RSS)","Semestral","Existência de coleta específica para os resíduos de serviço de saúde","Sim /Não","Diretoria de resíduos","Diretoria de resíduos",36,{"$f":"HLOOKUP(H$2,'Base de Dados - Resíduos'!$G$3:$AW$1048576,$G37,)","v":0},{"$f":"HLOOKUP(I$2,'Base de Dados - Resíduos'!$G$3:$AW$1048576,$G37,)","v":0},{"$f":"HLOOKUP(J$2,'Base de Dados - Resíduos'!$G$3:$AW$1048576,$G37,)","v":0},{"$f":"HLOOKUP(K$2,'Base de Dados - Resíduos'!$G$3:$AW$1048576,$G37,)","v":0},{"$f":"HLOOKUP(L$2,'Base de Dados - Resíduos'!$G$3:$AW$1048576,$G37,)","v":0}]
["Coleta diferenciada dos resíduos de construção civil (RCC)","Semestral","Existência de programa de coleta de resíduos de construção e demolição","Sim /Não","Diretoria de resíduos","Diretoria de resíduos",37,{"$f":"HLOOKUP(H$2,'Base de Dados - Resíduos'!$G$3:$AW$1048576,$G38,)","v":0},{"$f":"HLOOKUP(I$2,'Base de Dados - Resíduos'!$G$3:$AW$1048576,$G38,)","v":0},{"$f":"HLOOKUP(J$2,'Base de Dados - Resíduos'!$G$3:$AW$1048576,$G38,)","v":0},{"$f":"HLOOKUP(K$2,'Base de Dados - Resíduos'!$G$3:$AW$1048576,$G38,)","v":0},{"$f":"HLOOKUP(L$2,'Base de Dados - Resíduos'!$G$3:$AW$1048576,$G38,)","v":0}]
["POP_URB",null,"População urbana do município (Fonte: IBGE)",null,null,null,38,{"$f":"HLOOKUP(H$2,'Base de Dados - Resíduos'!$G$3:$AW$1048576,$G39,)","v":0},{"$f":"HLOOKUP(I$2,'Base de Dados - Resíduos'!$G$3:$AW$1048576,$G39,)","v":0},{"$f":"HLOOKUP(J$2,'Base de Dados - Resíduos'!$G$3:$AW$1048576,$G39,)","v":0},{"$f":"HLOOKUP(K$2,'Base de Dados - Resíduos'!$G$3:$AW$1048576,$G39,)","v":0},{"$f":"HLOOKUP(L$2,'Base de Dados - Resíduos'!$G$3:$AW$1048576,$G39,)","v":0}]
["TB013",null,"Quantidade de trabalhadores de agentes públicos envolvidos nos serviços de manejo de RSU",null,null,null,39,{"$f":"HLOOKUP(H$2,'Base de Dados - Resíduos'!$G$3:$AW$1048576,$G40,)","v":0},{"$f":"HLOOKUP(I$2,'Base de Dados - Resíduos'!$G$3:$AW$1048576,$G40,)","v":0},{"$f":"HLOOKUP(J$2,'Base de Dados - Resíduos'!$G$3:$AW$1048576,$G40,)","v":0},{"$f":"HLOOKUP(K$2,'Base de Dados - Resíduos'!$G$3:$AW$1048576,$G40,)","v":0},{"$f":"HLOOKUP(L$2,'Base de Dados - Resíduos'!$G$3:$AW$1048576,$G40,)","v":0}]
["TB014",null,"Quantidade de trabalhadores de agentes privados envolvidos nos serviços de manejo de RSU",null,null,null,40,{"$f":"HLOOKUP(H$2,'Base de Dados - Resíduos'!$G$3:$AW$1048576,$G41,)","v":0},{"$f":"HLOOKUP(I$2,'Base de Dados - Resíduos'!$G$3:$AW$1048576,$G41,)","v":0},{"$f":"HLOOKUP(J$2,'Base de Dados - Resíduos'!$G$3:$AW$1048576,$G41,)","v":0},{"$f":"HLOOKUP(K$2,'Base de Dados - Resíduos'!$G$3:$AW$1048576,$G41,)","v":0},{"$f":"HLOOKUP(L$2,'Base de Dados - Resíduos'!$G$3:$AW$1048576,$G41,)","v":0}]
["TB016",null,"Existência de frente de trabalho temporária",null,null,null,41,{"$f":"HLOOKUP(H$2,'Base de Dados - Resíduos'!$G$3:$AW$1048576,$G42,)","v":0},{"$f":"HLOOKUP(I$2,'Base de Dados - Resíduos'!$G$3:$AW$1048576,$G42,)","v":0},{"$f":"HLOOKUP(J$2,'Base de Dados - Resíduos'!$G$3:$AW$1048576,$G42,)","v":0},{"$f":"HLOOKUP(K$2,'Base de Dados - Resíduos'!$G$3:$AW$1048576,$G42,)","v":0},{"$f":"HLOOKUP(L$2,'Base de Dados - Resíduos'!$G$3:$AW$1048576,$G42,)","v":0}]
["FN220",null,"Despesa total com serviços de manejo de RSU",null,null,null,42,{"$f":"HLOOKUP(H$2,'Base de Dados - Resíduos'!$G$3:$AW$1048576,$G43,)","v":0},{"$f":"HLOOKUP(I$2,'Base de Dados - Resíduos'!$G$3:$AW$1048576,$G43,)","v":0},{"$f":"HLOOKUP(J$2,'Base de Dados - Resíduos'!$G$3:$AW$1048576,$G43,)","v":0},{"$f":"HLOOKUP(K$2,'Base de Dados - Resíduos'!$G$3:$AW$1048576,$G43,)","v":0},{"$f":"HLOOKUP(L$2,'Base de Dados - Resíduos'!$G$3:$AW$1048576,$G43,)","v":0}]
["FN223",null,"Despesa Corrente da Prefeitura durante o ano com TODOS os serviços do município (saúde,\neducação, pagamento de pessoal, etc.)",null,null,null,43,{"$f":"HLOOKUP(H$2,'Base de Dados - Resíduos'!$G$3:$AW$1048576,$G44,)","v":0},{"$f":"HLOOKUP(I$2,'Base de Dados - Resíduos'!$G$3:$AW$1048576,$G44,)","v":0},{"$f":"HLOOKUP(J$2,'Base de Dados - Resíduos'!$G$3:$AW$1048576,$G44,)","v":0},{"$f":"HLOOKUP(K$2,'Base de Dados - Resíduos'!$G$3:$AW$1048576,$G44,)","v":0},{"$f":"HLOOKUP(L$2,'Base de Dados - Resíduos'!$G$3:$AW$1048576,$G44,)","v":0}]
["FN219",null,"Despesa com agentes privados executores de serviços de manejo de RSU",null,null,null,44,{"$f":"HLOOKUP(H$2,'Base de Dados - Resíduos'!$G$3:$AW$1048576,$G45,)","v":0},{"$f":"HLOOKUP(I$2,'Base de Dados - Resíduos'!$G$3:$AW$1048576,$G45,)","v":0},{"$f":"HLOOKUP(J$2,'Base de Dados - Resíduos'!$G$3:$AW$1048576,$G45,)","v":0},{"$f":"HLOOKUP(K$2,'Base de Dados - Resíduos'!$G$3:$AW$1048576,$G45,)","v":0},{"$f":"HLOOKUP(L$2,'Base de Dados - Resíduos'!$G$3:$AW$1048576,$G45,)","v":0}]
["FN222",null,"Receita arrecadada com taxas e tarifas referentes à gestão e manejo de RSU ",null,null,null,45,{"$f":"HLOOKUP(H$2,'Base de Dados - Resíduos'!$G$3:$AW$1048576,$G46,)","v":0},{"$f":"HLOOKUP(I$2,'Base de Dados - Resíduos'!$G$3:$AW$1048576,$G46,)","v":0},{"$f":"HLOOKUP(J$2,'Base de Dados - Resíduos'!$G$3:$AW$1048576,$G46,)","v":0},{"$f":"HLOOKUP(K$2,'Base de Dados - Resíduos'!$G$3:$AW$1048576,$G46,)","v":0},{"$f":"HLOOKUP(L$2,'Base de Dados - Resíduos'!$G$3:$AW$1048576,$G46,)","v":0}]
["TB011",null,"Quantidade de empregados administrativos dos agentes públicos",null,null,null,46,{"$f":"HLOOKUP(H$2,'Base de Dados - Resíduos'!$G$3:$AW$1048576,$G47,)","v":0},{"$f":"HLOOKUP(I$2,'Base de Dados - Resíduos'!$G$3:$AW$1048576,$G47,)","v":0},{"$f":"HLOOKUP(J$2,'Base de Dados - Resíduos'!$G$3:$AW$1048576,$G47,)","v":0},{"$f":"HLOOKUP(K$2,'Base de Dados - Resíduos'!$G$3:$AW$1048576,$G47,)","v":0},{"$f":"HLOOKUP(L$2,'Base de Dados - Resíduos'!$G$3:$AW$1048576,$G47,)","v":0}]
["TB012",null,"Quantidade de empregados administrativos dos agentes privados\n",null,null,null,47,{"$f":"HLOOKUP(H$2,'Base de Dados - Resíduos'!$G$3:$AW$1048576,$G48,)","v":0},{"$f":"HLOOKUP(I$2,'Base de Dados - Resíduos'!$G$3:$AW$1048576,$G48,)","v":0},{"$f":"HLOOKUP(J$2,'Base de Dados - Resíduos'!$G$3:$AW$1048576,$G48,)","v":0},{"$f":"HLOOKUP(K$2,'Base de Dados - Resíduos'!$G$3:$AW$1048576,$G48,)","v":0},{"$f":"HLOOKUP(L$2,'Base de Dados - Resíduos'!$G$3:$AW$1048576,$G48,)","v":0}]
["CO165",null,"População urbana atendida pelo serviço de coleta domiciliar direta, ou seja, porta a porta",null,null,null,48,{"$f":"HLOOKUP(H$2,'Base de Dados - Resíduos'!$G$3:$AW$1048576,$G49,)","v":0},{"$f":"HLOOKUP(I$2,'Base de Dados - Resíduos'!$G$3:$AW$1048576,$G49,)","v":0},{"$f":"HLOOKUP(J$2,'Base de Dados - Resíduos'!$G$3:$AW$1048576,$G49,)","v":0},{"$f":"HLOOKUP(K$2,'Base de Dados - Resíduos'!$G$3:$AW$1048576,$G49,)","v":0},{"$f":"HLOOKUP(L$2,'Base de Dados - Resíduos'!$G$3:$AW$1048576,$G49,)","v":0}]
["CO116",null,"Quantidade de RDO e RPU coletada pelo agente público",null,null,null,49,{"$f":"HLOOKUP(H$2,'Base de Dados - Resíduos'!$G$3:$AW$1048576,$G50,)","v":0},{"$f":"HLOOKUP(I$2,'Base de Dados - Resíduos'!$G$3:$AW$1048576,$G50,)","v":0},{"$f":"HLOOKUP(J$2,'Base de Dados - Resíduos'!$G$3:$AW$1048576,$G50,)","v":0},{"$f":"HLOOKUP(K$2,'Base de Dados - Resíduos'!$G$3:$AW$1048576,$G50,)","v":0},{"$f":"HLOOKUP(L$2,'Base de Dados - Resíduos'!$G$3:$AW$1048576,$G50,)","v":0}]
["CO117",null,"Quantidade de RDO e RPU coletada pelos agentes privados",null,null,null,50,{"$f":"HLOOKUP(H$2,'Base de Dados - Resíduos'!$G$3:$AW$1048576,$G51,)","v":0},{"$f":"HLOOKUP(I$2,'Base de Dados - Resíduos'!$G$3:$AW$1048576,$G51,)","v":0},{"$f":"HLOOKUP(J$2,'Base de Dados - Resíduos'!$G$3:$AW$1048576,$G51,)","v":0},{"$f":"HLOOKUP(K$2,'Base de Dados - Resíduos'!$G$3:$AW$1048576,$G51,)","v":0},{"$f":"HLOOKUP(L$2,'Base de Dados - Resíduos'!$G$3:$AW$1048576,$G51,)","v":0}]
["CO142",null,"Quantidade de RDO e RPU coletada por outros agentes executores\n",null,null,null,51,{"$f":"HLOOKUP(H$2,'Base de Dados - Resíduos'!$G$3:$AW$1048576,$G52,)","v":0},{"$f":"HLOOKUP(I$2,'Base de Dados - Resíduos'!$G$3:$AW$1048576,$G52,)","v":0},{"$f":"HLOOKUP(J$2,'Base de Dados - Resíduos'!$G$3:$AW$1048576,$G52,)","v":0},{"$f":"HLOOKUP(K$2,'Base de Dados - Resíduos'!$G$3:$AW$1048576,$G52,)","v":0},{"$f":"HLOOKUP(L$2,'Base de Dados - Resíduos'!$G$3:$AW$1048576,$G52,)","v":0}]
["CS048",null,"Qtd. recolhida na coleta seletiva executada por associações ou cooperativas de catadores\nCOM parceria/apoio da Prefeitura?",null,null,null,52,{"$f":"HLOOKUP(H$2,'Base de Dados - Resíduos'!$G$3:$AW$1048576,$G53,)","v":0},{"$f":"HLOOKUP(I$2,'Base de Dados - Resíduos'!$G$3:$AW$1048576,$G53,)","v":0},{"$f":"HLOOKUP(J$2,'Base de Dados - Resíduos'!$G$3:$AW$1048576,$G53,)","v":0},{"$f":"HLOOKUP(K$2,'Base de Dados - Resíduos'!$G$3:$AW$1048576,$G53,)","v":0},{"$f":"HLOOKUP(L$2,'Base de Dados - Resíduos'!$G$3:$AW$1048576,$G53,)","v":0}]
["TB001",null,"Quantidade de coletadores e motoristas de agentes públicos, alocados no serviço de coleta\nde RDO e RPU",null,null,null,53,{"$f":"HLOOKUP(H$2,'Base de Dados - Resíduos'!$G$3:$AW$1048576,$G54,)","v":0},{"$f":"HLOOKUP(I$2,'Base de Dados - Resíduos'!$G$3:$AW$1048576,$G54,)","v":0},{"$f":"HLOOKUP(J$2,'Base de Dados - Resíduos'!$G$3:$AW$1048576,$G54,)","v":0},{"$f":"HLOOKUP(K$2,'Base de Dados - Resíduos'!$G$3:$AW$1048576,$G54,)","v":0},{"$f":"HLOOKUP(L$2,'Base de Dados - Resíduos'!$G$3:$AW$1048576,$G54,)","v":0}]
["TB002",null,"Quantidade de coletadores e motoristas de agentes públicos, alocados no serviço de coleta\nde RDO e RPU",null,null,null,54,{"$f":"HLOOKUP(H$2,'Base de Dados - Resíduos'!$G$3:$AW$1048576,$G55,)","v":0},{"$f":"HLOOKUP(I$2,'Base de Dados - Resíduos'!$G$3:$AW$1048576,$G55,)","v":0},{"$f":"HLOOKUP(J$2,'Base de Dados - Resíduos'!$G$3:$AW$1048576,$G55,)","v":0},{"$f":"HLOOKUP(K$2,'Base de Dados - Resíduos'!$G$3:$AW$1048576,$G55,)","v":0},{"$f":"HLOOKUP(L$2,'Base de Dados - Resíduos'!$G$3:$AW$1048576,$G55,)","v":0}]
["CO108",null,"Quantidade de RDO coletada pelo agente público",null,null,null,55,{"$f":"HLOOKUP(H$2,'Base de Dados - Resíduos'!$G$3:$AW$1048576,$G56,)","v":0},{"$f":"HLOOKUP(I$2,'Base de Dados - Resíduos'!$G$3:$AW$1048576,$G56,)","v":0},{"$f":"HLOOKUP(J$2,'Base de Dados - Resíduos'!$G$3:$AW$1048576,$G56,)","v":0},{"$f":"HLOOKUP(K$2,'Base de Dados - Resíduos'!$G$3:$AW$1048576,$G56,)","v":0},{"$f":"HLOOKUP(L$2,'Base de Dados - Resíduos'!$G$3:$AW$1048576,$G56,)","v":0}]
["CO109",null,"Quantidade de RDO coletada pelos agentes privados",null,null,null,56,{"$f":"HLOOKUP(H$2,'Base de Dados - Resíduos'!$G$3:$AW$1048576,$G57,)","v":0},{"$f":"HLOOKUP(I$2,'Base de Dados - Resíduos'!$G$3:$AW$1048576,$G57,)","v":0},{"$f":"HLOOKUP(J$2,'Base de Dados - Resíduos'!$G$3:$AW$1048576,$G57,)","v":0},{"$f":"HLOOKUP(K$2,'Base de Dados - Resíduos'!$G$3:$AW$1048576,$G57,)","v":0},{"$f":"HLOOKUP(L$2,'Base de Dados - Resíduos'!$G$3:$AW$1048576,$G57,)","v":0}]
["CO112",null," Quantidade de RPU coletada pelo agente público",null,null,null,57,{"$f":"HLOOKUP(H$2,'Base de Dados - Resíduos'!$G$3:$AW$1048576,$G58,)","v":0},{"$f":"HLOOKUP(I$2,'Base de Dados - Resíduos'!$G$3:$AW$1048576,$G58,)","v":0},{"$f":"HLOOKUP(J$2,'Base de Dados - Resíduos'!$G$3:$AW$1048576,$G58,)","v":0},{"$f":"HLOOKUP(K$2,'Base de Dados - Resíduos'!$G$3:$AW$1048576,$G58,)","v":0},{"$f":"HLOOKUP(L$2,'Base de Dados - Resíduos'!$G$3:$AW$1048576,$G58,)","v":0}]
["CO113",null,"Quantidade de RPU coletada pelos agentes privados",null,null,null,58,{"$f":"HLOOKUP(H$2,'Base de Dados - Resíduos'!$G$3:$AW$1048576,$G59,)","v":0},{"$f":"HLOOKUP(I$2,'Base de Dados - Resíduos'!$G$3:$AW$1048576,$G59,)","v":0},{"$f":"HLOOKUP(J$2,'Base de Dados - Resíduos'!$G$3:$AW$1048576,$G59,)","v":0},{"$f":"HLOOKUP(K$2,'Base de Dados - Resíduos'!$G$3:$AW$1048576,$G59,)","v":0},{"$f":"HLOOKUP(L$2,'Base de Dados - Resíduos'!$G$3:$AW$1048576,$G59,)","v":0}]
["CO140",null," Quantidade de RDO coletada por outros agentes executores, exceto coop. ou associações de\ncatadores",null,null,null,59,{"$f":"HLOOKUP(H$2,'Base de Dados - Resíduos'!$G$3:$AW$1048576,$G60,)","v":0},{"$f":"HLOOKUP(I$2,'Base de Dados - Resíduos'!$G$3:$AW$1048576,$G60,)","v":0},{"$f":"HLOOKUP(J$2,'Base de Dados - Resíduos'!$G$3:$AW$1048576,$G60,)","v":0},{"$f":"HLOOKUP(K$2,'Base de Dados - Resíduos'!$G$3:$AW$1048576,$G60,)","v":0},{"$f":"HLOOKUP(L$2,'Base de Dados - Resíduos'!$G$3:$AW$1048576,$G60,)","v":0}]
["CO141",null,"Quantidade de RPU coletada por outros agentes executores, exceto coop. ou associações de\ncatadores",null,null,null,60,{"$f":"HLOOKUP(H$2,'Base de Dados - Resíduos'!$G$3:$AW$1048576,$G61,)","v":0},{"$f":"HLOOKUP(I$2,'Base de Dados - Resíduos'!$G$3:$AW$1048576,$G61,)","v":0},{"$f":"HLOOKUP(J$2,'Base de Dados - Resíduos'!$G$3:$AW$1048576,$G61,)","v":0},{"$f":"HLOOKUP(K$2,'Base de Dados - Resíduos'!$G$3:$AW$1048576,$G61,)","v":0},{"$f":"HLOOKUP(L$2,'Base de Dados - Resíduos'!$G$3:$AW$1048576,$G61,)","v":0}]
["CO164",null,"População total atendida no município",null,null,null,61,{"$f":"HLOOKUP(H$2,'Base de Dados - Resíduos'!$G$3:$AW$1048576,$G62,)","v":0},{"$f":"HLOOKUP(I$2,'Base de Dados - Resíduos'!$G$3:$AW$1048576,$G62,)","v":0},{"$f":"HLOOKUP(J$2,'Base de Dados - Resíduos'!$G$3:$AW$1048576,$G62,)","v":0},{"$f":"HLOOKUP(K$2,'Base de Dados - Resíduos'!$G$3:$AW$1048576,$G62,)","v":0},{"$f":"HLOOKUP(L$2,'Base de Dados - Resíduos'!$G$3:$AW$1048576,$G62,)","v":0}]
["CS050",null,"População urbana do município atendida com a coleta seletiva do tipo porta a porta\nexecutada pela Prefeitura (ou SLU",null,null,null,62,{"$f":"HLOOKUP(H$2,'Base de Dados - Resíduos'!$G$3:$AW$1048576,$G63,)","v":0},{"$f":"HLOOKUP(I$2,'Base de Dados - Resíduos'!$G$3:$AW$1048576,$G63,)","v":0},{"$f":"HLOOKUP(J$2,'Base de Dados - Resíduos'!$G$3:$AW$1048576,$G63,)","v":0},{"$f":"HLOOKUP(K$2,'Base de Dados - Resíduos'!$G$3:$AW$1048576,$G63,)","v":0},{"$f":"HLOOKUP(L$2,'Base de Dados - Resíduos'!$G$3:$AW$1048576,$G63,)","v":0}]
["CS009",null,"Quantidade total de materiais recicláveis recuperados",null,null,null,63,{"$f":"HLOOKUP(H$2,'Base de Dados - Resíduos'!$G$3:$AW$1048576,$G64,)","v":0},{"$f":"HLOOKUP(I$2,'Base de Dados - Resíduos'!$G$3:$AW$1048576,$G64,)","v":0},{"$f":"HLOOKUP(J$2,'Base de Dados - Resíduos'!$G$3:$AW$1048576,$G64,)","v":0},{"$f":"HLOOKUP(K$2,'Base de Dados - Resíduos'!$G$3:$AW$1048576,$G64,)","v":0},{"$f":"HLOOKUP(L$2,'Base de Dados - Resíduos'!$G$3:$AW$1048576,$G64,)","v":0}]
["CC013",null,"Pela Prefeitura Municipal ou empresa contratada por ela",null,null,null,64,{"$f":"HLOOKUP(H$2,'Base de Dados - Resíduos'!$G$3:$AW$1048576,$G65,)","v":0},{"$f":"HLOOKUP(I$2,'Base de Dados - Resíduos'!$G$3:$AW$1048576,$G65,)","v":0},{"$f":"HLOOKUP(J$2,'Base de Dados - Resíduos'!$G$3:$AW$1048576,$G65,)","v":0},{"$f":"HLOOKUP(K$2,'Base de Dados - Resíduos'!$G$3:$AW$1048576,$G65,)","v":0},{"$f":"HLOOKUP(L$2,'Base de Dados - Resíduos'!$G$3:$AW$1048576,$G65,)","v":0}]
["CC014",null,"Por empresas especializadas (\"caçambeiros\") ou autônomos contratados pelo gerador",null,null,null,65,{"$f":"HLOOKUP(H$2,'Base de Dados - Resíduos'!$G$3:$AW$1048576,$G66,)","v":0},{"$f":"HLOOKUP(I$2,'Base de Dados - Resíduos'!$G$3:$AW$1048576,$G66,)","v":0},{"$f":"HLOOKUP(J$2,'Base de Dados - Resíduos'!$G$3:$AW$1048576,$G66,)","v":0},{"$f":"HLOOKUP(K$2,'Base de Dados - Resíduos'!$G$3:$AW$1048576,$G66,)","v":0},{"$f":"HLOOKUP(L$2,'Base de Dados - Resíduos'!$G$3:$AW$1048576,$G66,)","v":0}]
["CC015",null,"Pelo próprio gerador",null,null,null,66,{"$f":"HLOOKUP(H$2,'Base de Dados - Resíduos'!$G$3:$AW$1048576,$G67,)","v":0},{"$f":"HLOOKUP(I$2,'Base de Dados - Resíduos'!$G$3:$AW$1048576,$G67,)","v":0},{"$f":"HLOOKUP(J$2,'Base de Dados - Resíduos'!$G$3:$AW$1048576,$G67,)","v":0},{"$f":"HLOOKUP(K$2,'Base de Dados - Resíduos'!$G$3:$AW$1048576,$G67,)","v":0},{"$f":"HLOOKUP(L$2,'Base de Dados - Resíduos'!$G$3:$AW$1048576,$G67,)","v":0}]
["CS026",null,"Qtd. total recolhida pelos 4 agentes executores da coleta seletiva acima mencionados",null,null,null,67,{"$f":"HLOOKUP(H$2,'Base de Dados - Resíduos'!$G$3:$AW$1048576,$G68,)","v":0},{"$f":"HLOOKUP(I$2,'Base de Dados - Resíduos'!$G$3:$AW$1048576,$G68,)","v":0},{"$f":"HLOOKUP(J$2,'Base de Dados - Resíduos'!$G$3:$AW$1048576,$G68,)","v":0},{"$f":"HLOOKUP(K$2,'Base de Dados - Resíduos'!$G$3:$AW$1048576,$G68,)","v":0},{"$f":"HLOOKUP(L$2,'Base de Dados - Resíduos'!$G$3:$AW$1048576,$G68,)","v":0}]
["CS010",null,"Quantidade de Papel e papelão recicláveis recuperados",null,null,null,68,{"$f":"HLOOKUP(H$2,'Base de Dados - Resíduos'!$G$3:$AW$1048576,$G69,)","v":0},{"$f":"HLOOKUP(I$2,'Base de Dados - Resíduos'!$G$3:$AW$1048576,$G69,)","v":0},{"$f":"HLOOKUP(J$2,'Base de Dados - Resíduos'!$G$3:$AW$1048576,$G69,)","v":0},{"$f":"HLOOKUP(K$2,'Base de Dados - Resíduos'!$G$3:$AW$1048576,$G69,)","v":0},{"$f":"HLOOKUP(L$2,'Base de Dados - Resíduos'!$G$3:$AW$1048576,$G69,)","v":0}]
["CS011",null,"Quantidade de Plásticos recicláveis recuperados ",null,null,null,69,{"$f":"HLOOKUP(H$2,'Base de Dados - Resíduos'!$G$3:$AW$1048576,$G70,)","v":0},{"$f":"HLOOKUP(I$2,'Base de Dados - Resíduos'!$G$3:$AW$1048576,$G70,)","v":0},{"$f":"HLOOKUP(J$2,'Base de Dados - Resíduos'!$G$3:$AW$1048576,$G70,)","v":0},{"$f":"HLOOKUP(K$2,'Base de Dados - Resíduos'!$G$3:$AW$1048576,$G70,)","v":0},{"$f":"HLOOKUP(L$2,'Base de Dados - Resíduos'!$G$3:$AW$1048576,$G70,)","v":0}]
["CS012",null,"Quantidade de Metais recicláveis recuperados",null,null,null,70,{"$f":"HLOOKUP(H$2,'Base de Dados - Resíduos'!$G$3:$AW$1048576,$G71,)","v":0},{"$f":"HLOOKUP(I$2,'Base de Dados - Resíduos'!$G$3:$AW$1048576,$G71,)","v":0},{"$f":"HLOOKUP(J$2,'Base de Dados - Resíduos'!$G$3:$AW$1048576,$G71,)","v":0},{"$f":"HLOOKUP(K$2,'Base de Dados - Resíduos'!$G$3:$AW$1048576,$G71,)","v":0},{"$f":"HLOOKUP(L$2,'Base de Dados - Resíduos'!$G$3:$AW$1048576,$G71,)","v":0}]
["CS013",null,"Quantidade de Vidros recicláveis recuperados",null,null,null,71,{"$f":"HLOOKUP(H$2,'Base de Dados - Resíduos'!$G$3:$AW$1048576,$G72,)","v":0},{"$f":"HLOOKUP(I$2,'Base de Dados - Resíduos'!$G$3:$AW$1048576,$G72,)","v":0},{"$f":"HLOOKUP(J$2,'Base de Dados - Resíduos'!$G$3:$AW$1048576,$G72,)","v":0},{"$f":"HLOOKUP(K$2,'Base de Dados - Resíduos'!$G$3:$AW$1048576,$G72,)","v":0},{"$f":"HLOOKUP(L$2,'Base de Dados - Resíduos'!$G$3:$AW$1048576,$G72,)","v":0}]
["CS014",null,"Quantidade de Outros materiais recicláveis recuperados (exceto pneus e eletrônicos)",null,null,null,72,{"$f":"HLOOKUP(H$2,'Base de Dados - Resíduos'!$G$3:$AW$1048576,$G73,)","v":0},{"$f":"HLOOKUP(I$2,'Base de Dados - Resíduos'!$G$3:$AW$1048576,$G73,)","v":0},{"$f":"HLOOKUP(J$2,'Base de Dados - Resíduos'!$G$3:$AW$1048576,$G73,)","v":0},{"$f":"HLOOKUP(K$2,'Base de Dados - Resíduos'!$G$3:$AW$1048576,$G73,)","v":0},{"$f":"HLOOKUP(L$2,'Base de Dados - Resíduos'!$G$3:$AW$1048576,$G73,)","v":0}]
["RS044",null,"Quantidade total de RSS coletada pelos agentes executores",null,null,null,73,{"$f":"HLOOKUP(H$2,'Base de Dados - Resíduos'!$G$3:$AW$1048576,$G74,)","v":0},{"$f":"HLOOKUP(I$2,'Base de Dados - Resíduos'!$G$3:$AW$1048576,$G74,)","v":0},{"$f":"HLOOKUP(J$2,'Base de Dados - Resíduos'!$G$3:$AW$1048576,$G74,)","v":0},{"$f":"HLOOKUP(K$2,'Base de Dados - Resíduos'!$G$3:$AW$1048576,$G74,)","v":0},{"$f":"HLOOKUP(L$2,'Base de Dados - Resíduos'!$G$3:$AW$1048576,$G74,)","v":0}]
["TB004",null,"Quantidade de varredores de agentes privados, alocados no serviço de varrição",null,null,null,74,{"$f":"HLOOKUP(H$2,'Base de Dados - Resíduos'!$G$3:$AW$1048576,$G75,)","v":0},{"$f":"HLOOKUP(I$2,'Base de Dados - Resíduos'!$G$3:$AW$1048576,$G75,)","v":0},{"$f":"HLOOKUP(J$2,'Base de Dados - Resíduos'!$G$3:$AW$1048576,$G75,)","v":0},{"$f":"HLOOKUP(K$2,'Base de Dados - Resíduos'!$G$3:$AW$1048576,$G75,)","v":0},{"$f":"HLOOKUP(L$2,'Base de Dados - Resíduos'!$G$3:$AW$1048576,$G75,)","v":0}]
["TB003",null,"Quantidade de varredores dos agentes públicos, alocados no serviço de varrição",null,null,null,75,{"$f":"HLOOKUP(H$2,'Base de Dados - Resíduos'!$G$3:$AW$1048576,$G76,)","v":0},{"$f":"HLOOKUP(I$2,'Base de Dados - Resíduos'!$G$3:$AW$1048576,$G76,)","v":0},{"$f":"HLOOKUP(J$2,'Base de Dados - Resíduos'!$G$3:$AW$1048576,$G76,)","v":0},{"$f":"HLOOKUP(K$2,'Base de Dados - Resíduos'!$G$3:$AW$1048576,$G76,)","v":0},{"$f":"HLOOKUP(L$2,'Base de Dados - Resíduos'!$G$3:$AW$1048576,$G76,)","v":0}]
["VA011",null,"Por empresas contratadas (Km varridos)",null,null,null,76,{"$f":"HLOOKUP(H$2,'Base de Dados - Resíduos'!$G$3:$AW$1048576,$G77,)","v":0},{"$f":"HLOOKUP(I$2,'Base de Dados - Resíduos'!$G$3:$AW$1048576,$G77,)","v":0},{"$f":"HLOOKUP(J$2,'Base de Dados - Resíduos'!$G$3:$AW$1048576,$G77,)","v":0},{"$f":"HLOOKUP(K$2,'Base de Dados - Resíduos'!$G$3:$AW$1048576,$G77,)","v":0},{"$f":"HLOOKUP(L$2,'Base de Dados - Resíduos'!$G$3:$AW$1048576,$G77,)","v":0}]
["VA039",null,"Extensão total de sarjetas varridas pelos executores (Km varridos)",null,null,null,77,{"$f":"HLOOKUP(H$2,'Base de Dados - Resíduos'!$G$3:$AW$1048576,$G78,)","v":0},{"$f":"HLOOKUP(I$2,'Base de Dados - Resíduos'!$G$3:$AW$1048576,$G78,)","v":0},{"$f":"HLOOKUP(J$2,'Base de Dados - Resíduos'!$G$3:$AW$1048576,$G78,)","v":0},{"$f":"HLOOKUP(K$2,'Base de Dados - Resíduos'!$G$3:$AW$1048576,$G78,)","v":0},{"$f":"HLOOKUP(L$2,'Base de Dados - Resíduos'!$G$3:$AW$1048576,$G78,)","v":0}]
["FN212",null,"Despesa dos agentes públicos com o serviço de varrição",null,null,null,78,{"$f":"HLOOKUP(H$2,'Base de Dados - Resíduos'!$G$3:$AW$1048576,$G79,)","v":0},{"$f":"HLOOKUP(I$2,'Base de Dados - Resíduos'!$G$3:$AW$1048576,$G79,)","v":0},{"$f":"HLOOKUP(J$2,'Base de Dados - Resíduos'!$G$3:$AW$1048576,$G79,)","v":0},{"$f":"HLOOKUP(K$2,'Base de Dados - Resíduos'!$G$3:$AW$1048576,$G79,)","v":0},{"$f":"HLOOKUP(L$2,'Base de Dados - Resíduos'!$G$3:$AW$1048576,$G79,)","v":0}]
["FN2013",null,"Despesa com empresas contratadas para o serviço de varrição",null,null,null,79,{"$f":"HLOOKUP(H$2,'Base de Dados - Resíduos'!$G$3:$AW$1048576,$G80,)","v":0},{"$f":"HLOOKUP(I$2,'Base de Dados - Resíduos'!$G$3:$AW$1048576,$G80,)","v":0},{"$f":"HLOOKUP(J$2,'Base de Dados - Resíduos'!$G$3:$AW$1048576,$G80,)","v":0},{"$f":"HLOOKUP(K$2,'Base de Dados - Resíduos'!$G$3:$AW$1048576,$G80,)","v":0},{"$f":"HLOOKUP(L$2,'Base de Dados - Resíduos'!$G$3:$AW$1048576,$G80,)","v":0}]
["TB005",null,"Quantidade de empregados dos agentes públicos envolvidos com os serviços de capina e\nroçada",null,null,null,80,{"$f":"HLOOKUP(H$2,'Base de Dados - Resíduos'!$G$3:$AW$1048576,$G81,)","v":0},{"$f":"HLOOKUP(I$2,'Base de Dados - Resíduos'!$G$3:$AW$1048576,$G81,)","v":0},{"$f":"HLOOKUP(J$2,'Base de Dados - Resíduos'!$G$3:$AW$1048576,$G81,)","v":0},{"$f":"HLOOKUP(K$2,'Base de Dados - Resíduos'!$G$3:$AW$1048576,$G81,)","v":0},{"$f":"HLOOKUP(L$2,'Base de Dados - Resíduos'!$G$3:$AW$1048576,$G81,)","v":0}]
["TB006",null,"Quantidade de empregados dos agentes privados envolvidos com os serviços de capina e\nroçada",null,null,null,81,{"$f":"HLOOKUP(H$2,'Base de Dados - Resíduos'!$G$3:$AW$1048576,$G82,)","v":0},{"$f":"HLOOKUP(I$2,'Base de Dados - Resíduos'!$G$3:$AW$1048576,$G82,)","v":0},{"$f":"HLOOKUP(J$2,'Base de Dados - Resíduos'!$G$3:$AW$1048576,$G82,)","v":0},{"$f":"HLOOKUP(K$2,'Base de Dados - Resíduos'!$G$3:$AW$1048576,$G82,)","v":0},{"$f":"HLOOKUP(L$2,'Base de Dados - Resíduos'!$G$3:$AW$1048576,$G82,)","v":0}]
[null,null,null,null,null,null,82,{"$f":"HLOOKUP(H$2,'Base de Dados - Resíduos'!$G$3:$AW$1048576,$G83,)","v":0},{"$f":"HLOOKUP(I$2,'Base de Dados - Resíduos'!$G$3:$AW$1048576,$G83,)","v":0},{"$f":"HLOOKUP(J$2,'Base de Dados - Resíduos'!$G$3:$AW$1048576,$G83,)","v":0},{"$f":"HLOOKUP(K$2,'Base de Dados - Resíduos'!$G$3:$AW$1048576,$G83,)","v":0},{"$f":"HLOOKUP(L$2,'Base de Dados - Resíduos'!$G$3:$AW$1048576,$G83,)","v":0}]
[null,null,null,null,null,null,83,{"$f":"HLOOKUP(H$2,'Base de Dados - Resíduos'!$G$3:$AW$1048576,$G84,)","v":0},{"$f":"HLOOKUP(I$2,'Base de Dados - Resíduos'!$G$3:$AW$1048576,$G84,)","v":0},{"$f":"HLOOKUP(J$2,'Base de Dados - Resíduos'!$G$3:$AW$1048576,$G84,)","v":0},{"$f":"HLOOKUP(K$2,'Base de Dados - Resíduos'!$G$3:$AW$1048576,$G84,)","v":0},{"$f":"HLOOKUP(L$2,'Base de Dados - Resíduos'!$G$3:$AW$1048576,$G84,)","v":0}]
[null,null,null,null,null,null,84,{"$f":"HLOOKUP(H$2,'Base de Dados - Resíduos'!$G$3:$AW$1048576,$G85,)","v":0},{"$f":"HLOOKUP(I$2,'Base de Dados - Resíduos'!$G$3:$AW$1048576,$G85,)","v":0},{"$f":"HLOOKUP(J$2,'Base de Dados - Resíduos'!$G$3:$AW$1048576,$G85,)","v":0},{"$f":"HLOOKUP(K$2,'Base de Dados - Resíduos'!$G$3:$AW$1048576,$G85,)","v":0},{"$f":"HLOOKUP(L$2,'Base de Dados - Resíduos'!$G$3:$AW$1048576,$G85,)","v":0}]
[null,null,null,null,null,null,85,{"$f":"HLOOKUP(H$2,'Base de Dados - Resíduos'!$G$3:$AW$1048576,$G86,)","v":0},{"$f":"HLOOKUP(I$2,'Base de Dados - Resíduos'!$G$3:$AW$1048576,$G86,)","v":0},{"$f":"HLOOKUP(J$2,'Base de Dados - Resíduos'!$G$3:$AW$1048576,$G86,)","v":0},{"$f":"HLOOKUP(K$2,'Base de Dados - Resíduos'!$G$3:$AW$1048576,$G86,)","v":0},{"$f":"HLOOKUP(L$2,'Base de Dados - Resíduos'!$G$3:$AW$1048576,$G86,)","v":0}]
[null,null,null,null,null,null,86,{"$f":"HLOOKUP(H$2,'Base de Dados - Resíduos'!$G$3:$AW$1048576,$G87,)","v":0},{"$f":"HLOOKUP(I$2,'Base de Dados - Resíduos'!$G$3:$AW$1048576,$G87,)","v":0},{"$f":"HLOOKUP(J$2,'Base de Dados - Resíduos'!$G$3:$AW$1048576,$G87,)","v":0},{"$f":"HLOOKUP(K$2,'Base de Dados - Resíduos'!$G$3:$AW$1048576,$G87,)","v":0},{"$f":"HLOOKUP(L$2,'Base de Dados - Resíduos'!$G$3:$AW$1048576,$G87,)","v":0}]
[null,null,null,null,null,null,87,{"$f":"HLOOKUP(H$2,'Base de Dados - Resíduos'!$G$3:$AW$1048576,$G88,)","v":0},{"$f":"HLOOKUP(I$2,'Base de Dados - Resíduos'!$G$3:$AW$1048576,$G88,)","v":0},{"$f":"HLOOKUP(J$2,'Base de Dados - Resíduos'!$G$3:$AW$1048576,$G88,)","v":0},{"$f":"HLOOKUP(K$2,'Base de Dados - Resíduos'!$G$3:$AW$1048576,$G88,)","v":0},{"$f":"HLOOKUP(L$2,'Base de Dados - Resíduos'!$G$3:$AW$1048576,$G88,)","v":0}]
[null,null,null,null,null,null,88,{"$f":"HLOOKUP(H$2,'Base de Dados - Resíduos'!$G$3:$AW$1048576,$G89,)","v":0},{"$f":"HLOOKUP(I$2,'Base de Dados - Resíduos'!$G$3:$AW$1048576,$G89,)","v":0},{"$f":"HLOOKUP(J$2,'Base de Dados - Resíduos'!$G$3:$AW$1048576,$G89,)","v":0},{"$f":"HLOOKUP(K$2,'Base de Dados - Resíduos'!$G$3:$AW$1048576,$G89,)","v":0},{"$f":"HLOOKUP(L$2,'Base de Dados - Resíduos'!$G$3:$AW$1048576,$G89,)","v":0}]
[null,null,null,null,null,null,89,{"$f":"HLOOKUP(H$2,'Base de Dados - Resíduos'!$G$3:$AW$1048576,$G90,)","v":0},{"$f":"HLOOKUP(I$2,'Base de Dados - Resíduos'!$G$3:$AW$1048576,$G90,)","v":0},{"$f":"HLOOKUP(J$2,'Base de Dados - Resíduos'!$G$3:$AW$1048576,$G90,)","v":0},{"$f":"HLOOKUP(K$2,'Base de Dados - Resíduos'!$G$3:$AW$1048576,$G90,)","v":0},{"$f":"HLOOKUP(L$2,'Base de Dados - Resíduos'!$G$3:$AW$1048576,$G90,)","v":0}]
[null,null,null,null,null,null,90,{"$f":"HLOOKUP(H$2,'Base de Dados - Resíduos'!$G$3:$AW$1048576,$G91,)","v":0},{"$f":"HLOOKUP(I$2,'Base de Dados - Resíduos'!$G$3:$AW$1048576,$G91,)","v":0},{"$f":"HLOOKUP(J$2,'Base de Dados - Resíduos'!$G$3:$AW$1048576,$G91,)","v":0},{"$f":"HLOOKUP(K$2,'Base de Dados - Resíduos'!$G$3:$AW$1048576,$G91,)","v":0},{"$f":"HLOOKUP(L$2,'Base de Dados - Resíduos'!$G$3:$AW$1048576,$G91,)","v":0}]
[null,null,null,null,null,null,91,{"$f":"HLOOKUP(H$2,'Base de Dados - Resíduos'!$G$3:$AW$1048576,$G92,)","v":0},{"$f":"HLOOKUP(I$2,'Base de Dados - Resíduos'!$G$3:$AW$1048576,$G92,)","v":0},{"$f":"HLOOKUP(J$2,'Base de Dados - Resíduos'!$G$3:$AW$1048576,$G92,)","v":0},{"$f":"HLOOKUP(K$2,'Base de Dados - Resíduos'!$G$3:$AW$1048576,$G92,)","v":0},{"$f":"HLOOKUP(L$2,'Base de Dados - Resíduos'!$G$3:$AW$1048576,$G92,)","v":0}]
[null,null,null,null,null,null,92,{"$f":"HLOOKUP(H$2,'Base de Dados - Resíduos'!$G$3:$AW$1048576,$G93,)","v":0},{"$f":"HLOOKUP(I$2,'Base de Dados - Resíduos'!$G$3:$AW$1048576,$G93,)","v":0},{"$f":"HLOOKUP(J$2,'Base de Dados - Resíduos'!$G$3:$AW$1048576,$G93,)","v":0},{"$f":"HLOOKUP(K$2,'Base de Dados - Resíduos'!$G$3:$AW$1048576,$G93,)","v":0},{"$f":"HLOOKUP(L$2,'Base de Dados - Resíduos'!$G$3:$AW$1048576,$G93,)","v":0}]
[null,null,null,null,null,null,93,{"$f":"HLOOKUP(H$2,'Base de Dados - Resíduos'!$G$3:$AW$1048576,$G94,)","v":0},{"$f":"HLOOKUP(I$2,'Base de Dados - Resíduos'!$G$3:$AW$1048576,$G94,)","v":0},{"$f":"HLOOKUP(J$2,'Base de Dados - Resíduos'!$G$3:$AW$1048576,$G94,)","v":0},{"$f":"HLOOKUP(K$2,'Base de Dados - Resíduos'!$G$3:$AW$1048576,$G94,)","v":0},{"$f":"HLOOKUP(L$2,'Base de Dados - Resíduos'!$G$3:$AW$1048576,$G94,)","v":0}]
[null,null,null,null,null,null,94,{"$f":"HLOOKUP(H$2,'Base de Dados - Resíduos'!$G$3:$AW$1048576,$G95,)","v":0},{"$f":"HLOOKUP(I$2,'Base de Dados - Resíduos'!$G$3:$AW$1048576,$G95,)","v":0},{"$f":"HLOOKUP(J$2,'Base de Dados - Resíduos'!$G$3:$AW$1048576,$G95,)","v":0},{"$f":"HLOOKUP(K$2,'Base de Dados - Resíduos'!$G$3:$AW$1048576,$G95,)","v":0},{"$f":"HLOOKUP(L$2,'Base de Dados - Resíduos'!$G$3:$AW$1048576,$G95,)","v":0}]
[null,null,null,null,null,null,95,{"$f":"HLOOKUP(H$2,'Base de Dados - Resíduos'!$G$3:$AW$1048576,$G96,)","v":0},{"$f":"HLOOKUP(I$2,'Base de Dados - Resíduos'!$G$3:$AW$1048576,$G96,)","v":0},{"$f":"HLOOKUP(J$2,'Base de Dados - Resíduos'!$G$3:$AW$1048576,$G96,)","v":0},{"$f":"HLOOKUP(K$2,'Base de Dados - Resíduos'!$G$3:$AW$1048576,$G96,)","v":0},{"$f":"HLOOKUP(L$2,'Base de Dados - Resíduos'!$G$3:$AW$1048576,$G96,)","v":0}]
[null,null,null,null,null,null,96,{"$f":"HLOOKUP(H$2,'Base de Dados - Resíduos'!$G$3:$AW$1048576,$G97,)","v":0},{"$f":"HLOOKUP(I$2,'Base de Dados - Resíduos'!$G$3:$AW$1048576,$G97,)","v":0},{"$f":"HLOOKUP(J$2,'Base de Dados - Resíduos'!$G$3:$AW$1048576,$G97,)","v":0},{"$f":"HLOOKUP(K$2,'Base de Dados - Resíduos'!$G$3:$AW$1048576,$G97,)","v":0},{"$f":"HLOOKUP(L$2,'Base de Dados - Resíduos'!$G$3:$AW$1048576,$G97,)","v":0}]
[null,null,null,null,null,null,97,{"$f":"HLOOKUP(H$2,'Base de Dados - Resíduos'!$G$3:$AW$1048576,$G98,)","v":0},{"$f":"HLOOKUP(I$2,'Base de Dados - Resíduos'!$G$3:$AW$1048576,$G98,)","v":0},{"$f":"HLOOKUP(J$2,'Base de Dados - Resíduos'!$G$3:$AW$1048576,$G98,)","v":0},{"$f":"HLOOKUP(K$2,'Base de Dados - Resíduos'!$G$3:$AW$1048576,$G98,)","v":0},{"$f":"HLOOKUP(L$2,'Base de Dados - Resíduos'!$G$3:$AW$1048576,$G98,)","v":0}]
[null,null,null,null,null,null,98,{"$f":"HLOOKUP(H$2,'Base de Dados - Resíduos'!$G$3:$AW$1048576,$G99,)","v":0},{"$f":"HLOOKUP(I$2,'Base de Dados - Resíduos'!$G$3:$AW$1048576,$G99,)","v":0},{"$f":"HLOOKUP(J$2,'Base de Dados - Resíduos'!$G$3:$AW$1048576,$G99,)","v":0},{"$f":"HLOOKUP(K$2,'Base de Dados - Resíduos'!$G$3:$AW$1048576,$G99,)","v":0},{"$f":"HLOOKUP(L$2,'Base de Dados - Resíduos'!$G$3:$AW$1048576,$G99,)","v":0}]
[null,null,null,null,null,null,99,{"$f":"HLOOKUP(H$2,'Base de Dados - Resíduos'!$G$3:$AW$1048576,$G100,)","v":0},{"$f":"HLOOKUP(I$2,'Base de Dados - Resíduos'!$G$3:$AW$1048576,$G100,)","v":0},{"$f":"HLOOKUP(J$2,'Base de Dados - Resíduos'!$G$3:$AW$1048576,$G100,)","v":0},{"$f":"HLOOKUP(K$2,'Base de Dados - Resíduos'!$G$3:$AW$1048576,$G100,)","v":0},{"$f":"HLOOKUP(L$2,'Base de Dados - Resíduos'!$G$3:$AW$1048576,$G100,)","v":0}]
[null,null,null,null,null,null,100,{"$f":"HLOOKUP(H$2,'Base de Dados - Resíduos'!$G$3:$AW$1048576,$G101,)","v":0},{"$f":"HLOOKUP(I$2,'Base de Dados - Resíduos'!$G$3:$AW$1048576,$G101,)","v":0},{"$f":"HLOOKUP(J$2,'Base de Dados - Resíduos'!$G$3:$AW$1048576,$G101,)","v":0},{"$f":"HLOOKUP(K$2,'Base de Dados - Resíduos'!$G$3:$AW$1048576,$G101,)","v":0},{"$f":"HLOOKUP(L$2,'Base de Dados - Resíduos'!$G$3:$AW$1048576,$G101,)","v":0}]
[null,null,null,null,null,null,101,{"$f":"HLOOKUP(H$2,'Base de Dados - Resíduos'!$G$3:$AW$1048576,$G102,)","v":0},{"$f":"HLOOKUP(I$2,'Base de Dados - Resíduos'!$G$3:$AW$1048576,$G102,)","v":0},{"$f":"HLOOKUP(J$2,'Base de Dados - Resíduos'!$G$3:$AW$1048576,$G102,)","v":0},{"$f":"HLOOKUP(K$2,'Base de Dados - Resíduos'!$G$3:$AW$1048576,$G102,)","v":0},{"$f":"HLOOKUP(L$2,'Base de Dados - Resíduos'!$G$3:$AW$1048576,$G102,)","v":0}]
[null,null,null,null,null,null,102,{"$f":"HLOOKUP(H$2,'Base de Dados - Resíduos'!$G$3:$AW$1048576,$G103,)","v":0},{"$f":"HLOOKUP(I$2,'Base de Dados - Resíduos'!$G$3:$AW$1048576,$G103,)","v":0},{"$f":"HLOOKUP(J$2,'Base de Dados - Resíduos'!$G$3:$AW$1048576,$G103,)","v":0},{"$f":"HLOOKUP(K$2,'Base de Dados - Resíduos'!$G$3:$AW$1048576,$G103,)","v":0},{"$f":"HLOOKUP(L$2,'Base de Dados - Resíduos'!$G$3:$AW$1048576,$G103,)","v":0}]
[null,null,null,null,null,null,103,{"$f":"HLOOKUP(H$2,'Base de Dados - Resíduos'!$G$3:$AW$1048576,$G104,)","v":0},{"$f":"HLOOKUP(I$2,'Base de Dados - Resíduos'!$G$3:$AW$1048576,$G104,)","v":0},{"$f":"HLOOKUP(J$2,'Base de Dados - Resíduos'!$G$3:$AW$1048576,$G104,)","v":0},{"$f":"HLOOKUP(K$2,'Base de Dados - Resíduos'!$G$3:$AW$1048576,$G104,)","v":0},{"$f":"HLOOKUP(L$2,'Base de Dados - Resíduos'!$G$3:$AW$1048576,$G104,)","v":0}]
[null,null,null,null,null,null,104,{"$f":"HLOOKUP(H$2,'Base de Dados - Resíduos'!$G$3:$AW$1048576,$G105,)","v":0},{"$f":"HLOOKUP(I$2,'Base de Dados - Resíduos'!$G$3:$AW$1048576,$G105,)","v":0},{"$f":"HLOOKUP(J$2,'Base de Dados - Resíduos'!$G$3:$AW$1048576,$G105,)","v":0},{"$f":"HLOOKUP(K$2,'Base de Dados - Resíduos'!$G$3:$AW$1048576,$G105,)","v":0},{"$f":"HLOOKUP(L$2,'Base de Dados - Resíduos'!$G$3:$AW$1048576,$G105,)","v":0}]
[null,null,null,null,null,null,105,{"$f":"HLOOKUP(H$2,'Base de Dados - Resíduos'!$G$3:$AW$1048576,$G106,)","v":0},{"$f":"HLOOKUP(I$2,'Base de Dados - Resíduos'!$G$3:$AW$1048576,$G106,)","v":0},{"$f":"HLOOKUP(J$2,'Base de Dados - Resíduos'!$G$3:$AW$1048576,$G106,)","v":0},{"$f":"HLOOKUP(K$2,'Base de Dados - Resíduos'!$G$3:$AW$1048576,$G106,)","v":0},{"$f":"HLOOKUP(L$2,'Base de Dados - Resíduos'!$G$3:$AW$1048576,$G106,)","v":0}]
[null,null,null,null,null,null,106,{"$f":"HLOOKUP(H$2,'Base de Dados - Resíduos'!$G$3:$AW$1048576,$G107,)","v":0},{"$f":"HLOOKUP(I$2,'Base de Dados - Resíduos'!$G$3:$AW$1048576,$G107,)","v":0},{"$f":"HLOOKUP(J$2,'Base de Dados - Resíduos'!$G$3:$AW$1048576,$G107,)","v":0},{"$f":"HLOOKUP(K$2,'Base de Dados - Resíduos'!$G$3:$AW$1048576,$G107,)","v":0},{"$f":"HLOOKUP(L$2,'Base de Dados - Resíduos'!$G$3:$AW$1048576,$G107,)","v":0}]
[null,null,null,null,null,null,107,{"$f":"HLOOKUP(H$2,'Base de Dados - Resíduos'!$G$3:$AW$1048576,$G108,)","v":0},{"$f":"HLOOKUP(I$2,'Base de Dados - Resíduos'!$G$3:$AW$1048576,$G108,)","v":0},{"$f":"HLOOKUP(J$2,'Base de Dados - Resíduos'!$G$3:$AW$1048576,$G108,)","v":0},{"$f":"HLOOKUP(K$2,'Base de Dados - Resíduos'!$G$3:$AW$1048576,$G108,)","v":0},{"$f":"HLOOKUP(L$2,'Base de Dados - Resíduos'!$G$3:$AW$1048576,$G108,)","v":0}]
[null,null,null,null,null,null,108,{"$f":"HLOOKUP(H$2,'Base de Dados - Resíduos'!$G$3:$AW$1048576,$G109,)","v":0},{"$f":"HLOOKUP(I$2,'Base de Dados - Resíduos'!$G$3:$AW$1048576,$G109,)","v":0},{"$f":"HLOOKUP(J$2,'Base de Dados - Resíduos'!$G$3:$AW$1048576,$G109,)","v":0},{"$f":"HLOOKUP(K$2,'Base de Dados - Resíduos'!$G$3:$AW$1048576,$G109,)","v":0},{"$f":"HLOOKUP(L$2,'Base de Dados - Resíduos'!$G$3:$AW$1048576,$G109,)","v":0}]
[null,null,null,null,null,null,109,{"$f":"HLOOKUP(H$2,'Base de Dados - Resíduos'!$G$3:$AW$1048576,$G110,)","v":0},{"$f":"HLOOKUP(I$2,'Base de Dados - Resíduos'!$G$3:$AW$1048576,$G110,)","v":0},{"$f":"HLOOKUP(J$2,'Base de Dados - Resíduos'!$G$3:$AW$1048576,$G110,)","v":0},{"$f":"HLOOKUP(K$2,'Base de Dados - Resíduos'!$G$3:$AW$1048576,$G110,)","v":0},{"$f":"HLOOKUP(L$2,'Base de Dados - Resíduos'!$G$3:$AW$1048576,$G110,)","v":0}]
[null,null,null,null,null,null,110,{"$f":"HLOOKUP(H$2,'Base de Dados - Resíduos'!$G$3:$AW$1048576,$G111,)","v":0},{"$f":"HLOOKUP(I$2,'Base de Dados - Resíduos'!$G$3:$AW$1048576,$G111,)","v":0},{"$f":"HLOOKUP(J$2,'Base de Dados - Resíduos'!$G$3:$AW$1048576,$G111,)","v":0},{"$f":"HLOOKUP(K$2,'Base de Dados - Resíduos'!$G$3:$AW$1048576,$G111,)","v":0},{"$f":"HLOOKUP(L$2,'Base de Dados - Resíduos'!$G$3:$AW$1048576,$G111,)","v":0}]
[null,null,null,null,null,null,111,{"$f":"HLOOKUP(H$2,'Base de Dados - Resíduos'!$G$3:$AW$1048576,$G112,)","v":0},{"$f":"HLOOKUP(I$2,'Base de Dados - Resíduos'!$G$3:$AW$1048576,$G112,)","v":0},{"$f":"HLOOKUP(J$2,'Base de Dados - Resíduos'!$G$3:$AW$1048576,$G112,)","v":0},{"$f":"HLOOKUP(K$2,'Base de Dados - Resíduos'!$G$3:$AW$1048576,$G112,)","v":0},{"$f":"HLOOKUP(L$2,'Base de Dados - Resíduos'!$G$3:$AW$1048576,$G112,)","v":0}]
[null,null,null,null,null,null,112,{"$f":"HLOOKUP(H$2,'Base de Dados - Resíduos'!$G$3:$AW$1048576,$G113,)","v":0},{"$f":"HLOOKUP(I$2,'Base de Dados - Resíduos'!$G$3:$AW$1048576,$G113,)","v":0},{"$f":"HLOOKUP(J$2,'Base de Dados - Resíduos'!$G$3:$AW$1048576,$G113,)","v":0},{"$f":"HLOOKUP(K$2,'Base de Dados - Resíduos'!$G$3:$AW$1048576,$G113,)","v":0},{"$f":"HLOOKUP(L$2,'Base de Dados - Resíduos'!$G$3:$AW$1048576,$G113,)","v":0}]
[null,null,null,null,null,null,113,{"$f":"HLOOKUP(H$2,'Base de Dados - Resíduos'!$G$3:$AW$1048576,$G114,)","v":0},{"$f":"HLOOKUP(I$2,'Base de Dados - Resíduos'!$G$3:$AW$1048576,$G114,)","v":0},{"$f":"HLOOKUP(J$2,'Base de Dados - Resíduos'!$G$3:$AW$1048576,$G114,)","v":0},{"$f":"HLOOKUP(K$2,'Base de Dados - Resíduos'!$G$3:$AW$1048576,$G114,)","v":0},{"$f":"HLOOKUP(L$2,'Base de Dados - Resíduos'!$G$3:$AW$1048576,$G114,)","v":0}]
[null,null,null,null,null,null,114,{"$f":"HLOOKUP(H$2,'Base de Dados - Resíduos'!$G$3:$AW$1048576,$G115,)","v":0},{"$f":"HLOOKUP(I$2,'Base de Dados - Resíduos'!$G$3:$AW$1048576,$G115,)","v":0},{"$f":"HLOOKUP(J$2,'Base de Dados - Resíduos'!$G$3:$AW$1048576,$G115,)","v":0},{"$f":"HLOOKUP(K$2,'Base de Dados - Resíduos'!$G$3:$AW$1048576,$G115,)","v":0},{"$f":"HLOOKUP(L$2,'Base de Dados - Resíduos'!$G$3:$AW$1048576,$G115,)","v":0}]
[null,null,null,null,null,null,115,{"$f":"HLOOKUP(H$2,'Base de Dados - Resíduos'!$G$3:$AW$1048576,$G116,)","v":0},{"$f":"HLOOKUP(I$2,'Base de Dados - Resíduos'!$G$3:$AW$1048576,$G116,)","v":0},{"$f":"HLOOKUP(J$2,'Base de Dados - Resíduos'!$G$3:$AW$1048576,$G116,)","v":0},{"$f":"HLOOKUP(K$2,'Base de Dados - Resíduos'!$G$3:$AW$1048576,$G116,)","v":0},{"$f":"HLOOKUP(L$2,'Base de Dados - Resíduos'!$G$3:$AW$1048576,$G116,)","v":0}]
[null,null,null,null,null,null,116,{"$f":"HLOOKUP(H$2,'Base de Dados - Resíduos'!$G$3:$AW$1048576,$G117,)","v":0},{"$f":"HLOOKUP(I$2,'Base de Dados - Resíduos'!$G$3:$AW$1048576,$G117,)","v":0},{"$f":"HLOOKUP(J$2,'Base de Dados - Resíduos'!$G$3:$AW$1048576,$G117,)","v":0},{"$f":"HLOOKUP(K$2,'Base de Dados - Resíduos'!$G$3:$AW$1048576,$G117,)","v":0},{"$f":"HLOOKUP(L$2,'Base de Dados - Resíduos'!$G$3:$AW$1048576,$G117,)","v":0}]
[null,null,null,null,null,null,117,{"$f":"HLOOKUP(H$2,'Base de Dados - Resíduos'!$G$3:$AW$1048576,$G118,)","v":0},{"$f":"HLOOKUP(I$2,'Base de Dados - Resíduos'!$G$3:$AW$1048576,$G118,)","v":0},{"$f":"HLOOKUP(J$2,'Base de Dados - Resíduos'!$G$3:$AW$1048576,$G118,)","v":0},{"$f":"HLOOKUP(K$2,'Base de Dados - Resíduos'!$G$3:$AW$1048576,$G118,)","v":0},{"$f":"HLOOKUP(L$2,'Base de Dados - Resíduos'!$G$3:$AW$1048576,$G118,)","v":0}]
[null,null,null,null,null,null,118,{"$f":"HLOOKUP(H$2,'Base de Dados - Resíduos'!$G$3:$AW$1048576,$G119,)","v":0},{"$f":"HLOOKUP(I$2,'Base de Dados - Resíduos'!$G$3:$AW$1048576,$G119,)","v":0},{"$f":"HLOOKUP(J$2,'Base de Dados - Resíduos'!$G$3:$AW$1048576,$G119,)","v":0},{"$f":"HLOOKUP(K$2,'Base de Dados - Resíduos'!$G$3:$AW$1048576,$G119,)","v":0},{"$f":"HLOOKUP(L$2,'Base de Dados - Resíduos'!$G$3:$AW$1048576,$G119,)","v":0}]
[null,null,null,null,null,null,119,{"$f":"HLOOKUP(H$2,'Base de Dados - Resíduos'!$G$3:$AW$1048576,$G120,)","v":0},{"$f":"HLOOKUP(I$2,'Base de Dados - Resíduos'!$G$3:$AW$1048576,$G120,)","v":0},{"$f":"HLOOKUP(J$2,'Base de Dados - Resíduos'!$G$3:$AW$1048576,$G120,)","v":0},{"$f":"HLOOKUP(K$2,'Base de Dados - Resíduos'!$G$3:$AW$1048576,$G120,)","v":0},{"$f":"HLOOKUP(L$2,'Base de Dados - Resíduos'!$G$3:$AW$1048576,$G120,)","v":0}]
[null,null,null,null,null,null,120,{"$f":"HLOOKUP(H$2,'Base de Dados - Resíduos'!$G$3:$AW$1048576,$G121,)","v":0},{"$f":"HLOOKUP(I$2,'Base de Dados - Resíduos'!$G$3:$AW$1048576,$G121,)","v":0},{"$f":"HLOOKUP(J$2,'Base de Dados - Resíduos'!$G$3:$AW$1048576,$G121,)","v":0},{"$f":"HLOOKUP(K$2,'Base de Dados - Resíduos'!$G$3:$AW$1048576,$G121,)","v":0},{"$f":"HLOOKUP(L$2,'Base de Dados - Resíduos'!$G$3:$AW$1048576,$G121,)","v":0}]
[null,null,null,null,null,null,121,{"$f":"HLOOKUP(H$2,'Base de Dados - Resíduos'!$G$3:$AW$1048576,$G122,)","v":0},{"$f":"HLOOKUP(I$2,'Base de Dados - Resíduos'!$G$3:$AW$1048576,$G122,)","v":0},{"$f":"HLOOKUP(J$2,'Base de Dados - Resíduos'!$G$3:$AW$1048576,$G122,)","v":0},{"$f":"HLOOKUP(K$2,'Base de Dados - Resíduos'!$G$3:$AW$1048576,$G122,)","v":0},{"$f":"HLOOKUP(L$2,'Base de Dados - Resíduos'!$G$3:$AW$1048576,$G122,)","v":0}]
[null,null,null,null,null,null,122,{"$f":"HLOOKUP(H$2,'Base de Dados - Resíduos'!$G$3:$AW$1048576,$G123,)","v":0},{"$f":"HLOOKUP(I$2,'Base de Dados - Resíduos'!$G$3:$AW$1048576,$G123,)","v":0},{"$f":"HLOOKUP(J$2,'Base de Dados - Resíduos'!$G$3:$AW$1048576,$G123,)","v":0},{"$f":"HLOOKUP(K$2,'Base de Dados - Resíduos'!$G$3:$AW$1048576,$G123,)","v":0},{"$f":"HLOOKUP(L$2,'Base de Dados - Resíduos'!$G$3:$AW$1048576,$G123,)","v":0}]
[null,null,null,null,null,null,123,{"$f":"HLOOKUP(H$2,'Base de Dados - Resíduos'!$G$3:$AW$1048576,$G124,)","v":0},{"$f":"HLOOKUP(I$2,'Base de Dados - Resíduos'!$G$3:$AW$1048576,$G124,)","v":0},{"$f":"HLOOKUP(J$2,'Base de Dados - Resíduos'!$G$3:$AW$1048576,$G124,)","v":0},{"$f":"HLOOKUP(K$2,'Base de Dados - Resíduos'!$G$3:$AW$1048576,$G124,)","v":0},{"$f":"HLOOKUP(L$2,'Base de Dados - Resíduos'!$G$3:$AW$1048576,$G124,)","v":0}]
[null,null,null,null,null,null,124,{"$f":"HLOOKUP(H$2,'Base de Dados - Resíduos'!$G$3:$AW$1048576,$G125,)","v":0},{"$f":"HLOOKUP(I$2,'Base de Dados - Resíduos'!$G$3:$AW$1048576,$G125,)","v":0},{"$f":"HLOOKUP(J$2,'Base de Dados - Resíduos'!$G$3:$AW$1048576,$G125,)","v":0},{"$f":"HLOOKUP(K$2,'Base de Dados - Resíduos'!$G$3:$AW$1048576,$G125,)","v":0},{"$f":"HLOOKUP(L$2,'Base de Dados - Resíduos'!$G$3:$AW$1048576,$G125,)","v":0}]
[null,null,null,null,null,null,125,{"$f":"HLOOKUP(H$2,'Base de Dados - Resíduos'!$G$3:$AW$1048576,$G126,)","v":0},{"$f":"HLOOKUP(I$2,'Base de Dados - Resíduos'!$G$3:$AW$1048576,$G126,)","v":0},{"$f":"HLOOKUP(J$2,'Base de Dados - Resíduos'!$G$3:$AW$1048576,$G126,)","v":0},{"$f":"HLOOKUP(K$2,'Base de Dados - Resíduos'!$G$3:$AW$1048576,$G126,)","v":0},{"$f":"HLOOKUP(L$2,'Base de Dados - Resíduos'!$G$3:$AW$1048576,$G126,)","v":0}]
[null,null,null,null,null,null,126,{"$f":"HLOOKUP(H$2,'Base de Dados - Resíduos'!$G$3:$AW$1048576,$G127,)","v":0},{"$f":"HLOOKUP(I$2,'Base de Dados - Resíduos'!$G$3:$AW$1048576,$G127,)","v":0},{"$f":"HLOOKUP(J$2,'Base de Dados - Resíduos'!$G$3:$AW$1048576,$G127,)","v":0},{"$f":"HLOOKUP(K$2,'Base de Dados - Resíduos'!$G$3:$AW$1048576,$G127,)","v":0},{"$f":"HLOOKUP(L$2,'Base de Dados - Resíduos'!$G$3:$AW$1048576,$G127,)","v":0}]
[null,null,null,null,null,null,127,{"$f":"HLOOKUP(H$2,'Base de Dados - Resíduos'!$G$3:$AW$1048576,$G128,)","v":0},{"$f":"HLOOKUP(I$2,'Base de Dados - Resíduos'!$G$3:$AW$1048576,$G128,)","v":0},{"$f":"HLOOKUP(J$2,'Base de Dados - Resíduos'!$G$3:$AW$1048576,$G128,)","v":0},{"$f":"HLOOKUP(K$2,'Base de Dados - Resíduos'!$G$3:$AW$1048576,$G128,)","v":0},{"$f":"HLOOKUP(L$2,'Base de Dados - Resíduos'!$G$3:$AW$1048576,$G128,)","v":0}]
[null,null,null,null,null,null,128,{"$f":"HLOOKUP(H$2,'Base de Dados - Resíduos'!$G$3:$AW$1048576,$G129,)","v":0},{"$f":"HLOOKUP(I$2,'Base de Dados - Resíduos'!$G$3:$AW$1048576,$G129,)","v":0},{"$f":"HLOOKUP(J$2,'Base de Dados - Resíduos'!$G$3:$AW$1048576,$G129,)","v":0},{"$f":"HLOOKUP(K$2,'Base de Dados - Resíduos'!$G$3:$AW$1048576,$G129,)","v":0},{"$f":"HLOOKUP(L$2,'Base de Dados - Resíduos'!$G$3:$AW$1048576,$G129,)","v":0}]
[null,null,null,null,null,null,129,{"$f":"HLOOKUP(H$2,'Base de Dados - Resíduos'!$G$3:$AW$1048576,$G130,)","v":0},{"$f":"HLOOKUP(I$2,'Base de Dados - Resíduos'!$G$3:$AW$1048576,$G130,)","v":0},{"$f":"HLOOKUP(J$2,'Base de Dados - Resíduos'!$G$3:$AW$1048576,$G130,)","v":0},{"$f":"HLOOKUP(K$2,'Base de Dados - Resíduos'!$G$3:$AW$1048576,$G130,)","v":0},{"$f":"HLOOKUP(L$2,'Base de Dados - Resíduos'!$G$3:$AW$1048576,$G130,)","v":0}]
[null,null,null,null,null,null,130,{"$f":"HLOOKUP(H$2,'Base de Dados - Resíduos'!$G$3:$AW$1048576,$G131,)","v":0},{"$f":"HLOOKUP(I$2,'Base de Dados - Resíduos'!$G$3:$AW$1048576,$G131,)","v":0},{"$f":"HLOOKUP(J$2,'Base de Dados - Resíduos'!$G$3:$AW$1048576,$G131,)","v":0},{"$f":"HLOOKUP(K$2,'Base de Dados - Resíduos'!$G$3:$AW$1048576,$G131,)","v":0},{"$f":"HLOOKUP(L$2,'Base de Dados - Resíduos'!$G$3:$AW$1048576,$G131,)","v":0}]
[null,null,null,null,null,null,131,{"$f":"HLOOKUP(H$2,'Base de Dados - Resíduos'!$G$3:$AW$1048576,$G132,)","v":0},{"$f":"HLOOKUP(I$2,'Base de Dados - Resíduos'!$G$3:$AW$1048576,$G132,)","v":0},{"$f":"HLOOKUP(J$2,'Base de Dados - Resíduos'!$G$3:$AW$1048576,$G132,)","v":0},{"$f":"HLOOKUP(K$2,'Base de Dados - Resíduos'!$G$3:$AW$1048576,$G132,)","v":0},{"$f":"HLOOKUP(L$2,'Base de Dados - Resíduos'!$G$3:$AW$1048576,$G132,)","v":0}]
[null,null,null,null,null,null,132,{"$f":"HLOOKUP(H$2,'Base de Dados - Resíduos'!$G$3:$AW$1048576,$G133,)","v":0},{"$f":"HLOOKUP(I$2,'Base de Dados - Resíduos'!$G$3:$AW$1048576,$G133,)","v":0},{"$f":"HLOOKUP(J$2,'Base de Dados - Resíduos'!$G$3:$AW$1048576,$G133,)","v":0},{"$f":"HLOOKUP(K$2,'Base de Dados - Resíduos'!$G$3:$AW$1048576,$G133,)","v":0},{"$f":"HLOOKUP(L$2,'Base de Dados - Resíduos'!$G$3:$AW$1048576,$G133,)","v":0}]
[null,null,null,null,null,null,133,{"$f":"HLOOKUP(H$2,'Base de Dados - Resíduos'!$G$3:$AW$1048576,$G134,)","v":0},{"$f":"HLOOKUP(I$2,'Base de Dados - Resíduos'!$G$3:$AW$1048576,$G134,)","v":0},{"$f":"HLOOKUP(J$2,'Base de Dados - Resíduos'!$G$3:$AW$1048576,$G134,)","v":0},{"$f":"HLOOKUP(K$2,'Base de Dados - Resíduos'!$G$3:$AW$1048576,$G134,)","v":0},{"$f":"HLOOKUP(L$2,'Base de Dados - Resíduos'!$G$3:$AW$1048576,$G134,)","v":0}]
[null,null,null,null,null,null,134,{"$f":"HLOOKUP(H$2,'Base de Dados - Resíduos'!$G$3:$AW$1048576,$G135,)","v":0},{"$f":"HLOOKUP(I$2,'Base de Dados - Resíduos'!$G$3:$AW$1048576,$G135,)","v":0},{"$f":"HLOOKUP(J$2,'Base de Dados - Resíduos'!$G$3:$AW$1048576,$G135,)","v":0},{"$f":"HLOOKUP(K$2,'Base de Dados - Resíduos'!$G$3:$AW$1048576,$G135,)","v":0},{"$f":"HLOOKUP(L$2,'Base de Dados - Resíduos'!$G$3:$AW$1048576,$G135,)","v":0}]
[null,null,null,null,null,null,135,{"$f":"HLOOKUP(H$2,'Base de Dados - Resíduos'!$G$3:$AW$1048576,$G136,)","v":0},{"$f":"HLOOKUP(I$2,'Base de Dados - Resíduos'!$G$3:$AW$1048576,$G136,)","v":0},{"$f":"HLOOKUP(J$2,'Base de Dados - Resíduos'!$G$3:$AW$1048576,$G136,)","v":0},{"$f":"HLOOKUP(K$2,'Base de Dados - Resíduos'!$G$3:$AW$1048576,$G136,)","v":0},{"$f":"HLOOKUP(L$2,'Base de Dados - Resíduos'!$G$3:$AW$1048576,$G136,)","v":0}]
[null,null,null,null,null,null,136,{"$f":"HLOOKUP(H$2,'Base de Dados - Resíduos'!$G$3:$AW$1048576,$G137,)","v":0},{"$f":"HLOOKUP(I$2,'Base de Dados - Resíduos'!$G$3:$AW$1048576,$G137,)","v":0},{"$f":"HLOOKUP(J$2,'Base de Dados - Resíduos'!$G$3:$AW$1048576,$G137,)","v":0},{"$f":"HLOOKUP(K$2,'Base de Dados - Resíduos'!$G$3:$AW$1048576,$G137,)","v":0},{"$f":"HLOOKUP(L$2,'Base de Dados - Resíduos'!$G$3:$AW$1048576,$G137,)","v":0}]
[null,null,null,null,null,null,137,{"$f":"HLOOKUP(H$2,'Base de Dados - Resíduos'!$G$3:$AW$1048576,$G138,)","v":0},{"$f":"HLOOKUP(I$2,'Base de Dados - Resíduos'!$G$3:$AW$1048576,$G138,)","v":0},{"$f":"HLOOKUP(J$2,'Base de Dados - Resíduos'!$G$3:$AW$1048576,$G138,)","v":0},{"$f":"HLOOKUP(K$2,'Base de Dados - Resíduos'!$G$3:$AW$1048576,$G138,)","v":0},{"$f":"HLOOKUP(L$2,'Base de Dados - Resíduos'!$G$3:$AW$1048576,$G138,)","v":0}]
[null,null,null,null,null,null,138,{"$f":"HLOOKUP(H$2,'Base de Dados - Resíduos'!$G$3:$AW$1048576,$G139,)","v":0},{"$f":"HLOOKUP(I$2,'Base de Dados - Resíduos'!$G$3:$AW$1048576,$G139,)","v":0},{"$f":"HLOOKUP(J$2,'Base de Dados - Resíduos'!$G$3:$AW$1048576,$G139,)","v":0},{"$f":"HLOOKUP(K$2,'Base de Dados - Resíduos'!$G$3:$AW$1048576,$G139,)","v":0},{"$f":"HLOOKUP(L$2,'Base de Dados - Resíduos'!$G$3:$AW$1048576,$G139,)","v":0}]
[null,null,null,null,null,null,139,{"$f":"HLOOKUP(H$2,'Base de Dados - Resíduos'!$G$3:$AW$1048576,$G140,)","v":0},{"$f":"HLOOKUP(I$2,'Base de Dados - Resíduos'!$G$3:$AW$1048576,$G140,)","v":0},{"$f":"HLOOKUP(J$2,'Base de Dados - Resíduos'!$G$3:$AW$1048576,$G140,)","v":0},{"$f":"HLOOKUP(K$2,'Base de Dados - Resíduos'!$G$3:$AW$1048576,$G140,)","v":0},{"$f":"HLOOKUP(L$2,'Base de Dados - Resíduos'!$G$3:$AW$1048576,$G140,)","v":0}]
[null,null,null,null,null,null,140,{"$f":"HLOOKUP(H$2,'Base de Dados - Resíduos'!$G$3:$AW$1048576,$G141,)","v":0},{"$f":"HLOOKUP(I$2,'Base de Dados - Resíduos'!$G$3:$AW$1048576,$G141,)","v":0},{"$f":"HLOOKUP(J$2,'Base de Dados - Resíduos'!$G$3:$AW$1048576,$G141,)","v":0},{"$f":"HLOOKUP(K$2,'Base de Dados - Resíduos'!$G$3:$AW$1048576,$G141,)","v":0},{"$f":"HLOOKUP(L$2,'Base de Dados - Resíduos'!$G$3:$AW$1048576,$G141,)","v":0}]
[null,null,null,null,null,null,141,{"$f":"HLOOKUP(H$2,'Base de Dados - Resíduos'!$G$3:$AW$1048576,$G142,)","v":0},{"$f":"HLOOKUP(I$2,'Base de Dados - Resíduos'!$G$3:$AW$1048576,$G142,)","v":0},{"$f":"HLOOKUP(J$2,'Base de Dados - Resíduos'!$G$3:$AW$1048576,$G142,)","v":0},{"$f":"HLOOKUP(K$2,'Base de Dados - Resíduos'!$G$3:$AW$1048576,$G142,)","v":0},{"$f":"HLOOKUP(L$2,'Base de Dados - Resíduos'!$G$3:$AW$1048576,$G142,)","v":0}]
[null,null,null,null,null,null,142,{"$f":"HLOOKUP(H$2,'Base de Dados - Resíduos'!$G$3:$AW$1048576,$G143,)","v":0},{"$f":"HLOOKUP(I$2,'Base de Dados - Resíduos'!$G$3:$AW$1048576,$G143,)","v":0},{"$f":"HLOOKUP(J$2,'Base de Dados - Resíduos'!$G$3:$AW$1048576,$G143,)","v":0},{"$f":"HLOOKUP(K$2,'Base de Dados - Resíduos'!$G$3:$AW$1048576,$G143,)","v":0},{"$f":"HLOOKUP(L$2,'Base de Dados - Resíduos'!$G$3:$AW$1048576,$G143,)","v":0}]
[null,null,null,null,null,null,143,{"$f":"HLOOKUP(H$2,'Base de Dados - Resíduos'!$G$3:$AW$1048576,$G144,)","v":0},{"$f":"HLOOKUP(I$2,'Base de Dados - Resíduos'!$G$3:$AW$1048576,$G144,)","v":0},{"$f":"HLOOKUP(J$2,'Base de Dados - Resíduos'!$G$3:$AW$1048576,$G144,)","v":0},{"$f":"HLOOKUP(K$2,'Base de Dados - Resíduos'!$G$3:$AW$1048576,$G144,)","v":0},{"$f":"HLOOKUP(L$2,'Base de Dados - Resíduos'!$G$3:$AW$1048576,$G144,)","v":0}]
[null,null,null,null,null,null,144,{"$f":"HLOOKUP(H$2,'Base de Dados - Resíduos'!$G$3:$AW$1048576,$G145,)","v":0},{"$f":"HLOOKUP(I$2,'Base de Dados - Resíduos'!$G$3:$AW$1048576,$G145,)","v":0},{"$f":"HLOOKUP(J$2,'Base de Dados - Resíduos'!$G$3:$AW$1048576,$G145,)","v":0},{"$f":"HLOOKUP(K$2,'Base de Dados - Resíduos'!$G$3:$AW$1048576,$G145,)","v":0},{"$f":"HLOOKUP(L$2,'Base de Dados - Resíduos'!$G$3:$AW$1048576,$G145,)","v":0}]
[null,null,null,null,null,null,145,{"$f":"HLOOKUP(H$2,'Base de Dados - Resíduos'!$G$3:$AW$1048576,$G146,)","v":0},{"$f":"HLOOKUP(I$2,'Base de Dados - Resíduos'!$G$3:$AW$1048576,$G146,)","v":0},{"$f":"HLOOKUP(J$2,'Base de Dados - Resíduos'!$G$3:$AW$1048576,$G146,)","v":0},{"$f":"HLOOKUP(K$2,'Base de Dados - Resíduos'!$G$3:$AW$1048576,$G146,)","v":0},{"$f":"HLOOKUP(L$2,'Base de Dados - Resíduos'!$G$3:$AW$1048576,$G146,)","v":0}]
[null,null,null,null,null,null,146,{"$f":"HLOOKUP(H$2,'Base de Dados - Resíduos'!$G$3:$AW$1048576,$G147,)","v":0},{"$f":"HLOOKUP(I$2,'Base de Dados - Resíduos'!$G$3:$AW$1048576,$G147,)","v":0},{"$f":"HLOOKUP(J$2,'Base de Dados - Resíduos'!$G$3:$AW$1048576,$G147,)","v":0},{"$f":"HLOOKUP(K$2,'Base de Dados - Resíduos'!$G$3:$AW$1048576,$G147,)","v":0},{"$f":"HLOOKUP(L$2,'Base de Dados - Resíduos'!$G$3:$AW$1048576,$G147,)","v":0}]
[null,null,null,null,null,null,147,{"$f":"HLOOKUP(H$2,'Base de Dados - Resíduos'!$G$3:$AW$1048576,$G148,)","v":0},{"$f":"HLOOKUP(I$2,'Base de Dados - Resíduos'!$G$3:$AW$1048576,$G148,)","v":0},{"$f":"HLOOKUP(J$2,'Base de Dados - Resíduos'!$G$3:$AW$1048576,$G148,)","v":0},{"$f":"HLOOKUP(K$2,'Base de Dados - Resíduos'!$G$3:$AW$1048576,$G148,)","v":0},{"$f":"HLOOKUP(L$2,'Base de Dados - Resíduos'!$G$3:$AW$1048576,$G148,)","v":0}]
[null,null,null,null,null,null,148,{"$f":"HLOOKUP(H$2,'Base de Dados - Resíduos'!$G$3:$AW$1048576,$G149,)","v":0},{"$f":"HLOOKUP(I$2,'Base de Dados - Resíduos'!$G$3:$AW$1048576,$G149,)","v":0},{"$f":"HLOOKUP(J$2,'Base de Dados - Resíduos'!$G$3:$AW$1048576,$G149,)","v":0},{"$f":"HLOOKUP(K$2,'Base de Dados - Resíduos'!$G$3:$AW$1048576,$G149,)","v":0},{"$f":"HLOOKUP(L$2,'Base de Dados - Resíduos'!$G$3:$AW$1048576,$G149,)","v":0}]
[null,null,null,null,null,null,149,{"$f":"HLOOKUP(H$2,'Base de Dados - Resíduos'!$G$3:$AW$1048576,$G150,)","v":0},{"$f":"HLOOKUP(I$2,'Base de Dados - Resíduos'!$G$3:$AW$1048576,$G150,)","v":0},{"$f":"HLOOKUP(J$2,'Base de Dados - Resíduos'!$G$3:$AW$1048576,$G150,)","v":0},{"$f":"HLOOKUP(K$2,'Base de Dados - Resíduos'!$G$3:$AW$1048576,$G150,)","v":0},{"$f":"HLOOKUP(L$2,'Base de Dados - Resíduos'!$G$3:$AW$1048576,$G150,)","v":0}]
[null,null,null,null,null,null,150,{"$f":"HLOOKUP(H$2,'Base de Dados - Resíduos'!$G$3:$AW$1048576,$G151,)","v":0},{"$f":"HLOOKUP(I$2,'Base de Dados - Resíduos'!$G$3:$AW$1048576,$G151,)","v":0},{"$f":"HLOOKUP(J$2,'Base de Dados - Resíduos'!$G$3:$AW$1048576,$G151,)","v":0},{"$f":"HLOOKUP(K$2,'Base de Dados - Resíduos'!$G$3:$AW$1048576,$G151,)","v":0},{"$f":"HLOOKUP(L$2,'Base de Dados - Resíduos'!$G$3:$AW$1048576,$G151,)","v":0}]
[null,null,null,null,null,null,151,{"$f":"HLOOKUP(H$2,'Base de Dados - Resíduos'!$G$3:$AW$1048576,$G152,)","v":0},{"$f":"HLOOKUP(I$2,'Base de Dados - Resíduos'!$G$3:$AW$1048576,$G152,)","v":0},{"$f":"HLOOKUP(J$2,'Base de Dados - Resíduos'!$G$3:$AW$1048576,$G152,)","v":0},{"$f":"HLOOKUP(K$2,'Base de Dados - Resíduos'!$G$3:$AW$1048576,$G152,)","v":0},{"$f":"HLOOKUP(L$2,'Base de Dados - Resíduos'!$G$3:$AW$1048576,$G152,)","v":0}]
[null,null,null,null,null,null,152,{"$f":"HLOOKUP(H$2,'Base de Dados - Resíduos'!$G$3:$AW$1048576,$G153,)","v":0},{"$f":"HLOOKUP(I$2,'Base de Dados - Resíduos'!$G$3:$AW$1048576,$G153,)","v":0},{"$f":"HLOOKUP(J$2,'Base de Dados - Resíduos'!$G$3:$AW$1048576,$G153,)","v":0},{"$f":"HLOOKUP(K$2,'Base de Dados - Resíduos'!$G$3:$AW$1048576,$G153,)","v":0},{"$f":"HLOOKUP(L$2,'Base de Dados - Resíduos'!$G$3:$AW$1048576,$G153,)","v":0}]
[null,null,null,null,null,null,153,{"$f":"HLOOKUP(H$2,'Base de Dados - Resíduos'!$G$3:$AW$1048576,$G154,)","v":0},{"$f":"HLOOKUP(I$2,'Base de Dados - Resíduos'!$G$3:$AW$1048576,$G154,)","v":0},{"$f":"HLOOKUP(J$2,'Base de Dados - Resíduos'!$G$3:$AW$1048576,$G154,)","v":0},{"$f":"HLOOKUP(K$2,'Base de Dados - Resíduos'!$G$3:$AW$1048576,$G154,)","v":0},{"$f":"HLOOKUP(L$2,'Base de Dados - Resíduos'!$G$3:$AW$1048576,$G154,)","v":0}]
[null,null,null,null,null,null,154,{"$f":"HLOOKUP(H$2,'Base de Dados - Resíduos'!$G$3:$AW$1048576,$G155,)","v":0},{"$f":"HLOOKUP(I$2,'Base de Dados - Resíduos'!$G$3:$AW$1048576,$G155,)","v":0},{"$f":"HLOOKUP(J$2,'Base de Dados - Resíduos'!$G$3:$AW$1048576,$G155,)","v":0},{"$f":"HLOOKUP(K$2,'Base de Dados - Resíduos'!$G$3:$AW$1048576,$G155,)","v":0},{"$f":"HLOOKUP(L$2,'Base de Dados - Resíduos'!$G$3:$AW$1048576,$G155,)","v":0}]
[null,null,null,null,null,null,155,{"$f":"HLOOKUP(H$2,'Base de Dados - Resíduos'!$G$3:$AW$1048576,$G156,)","v":0},{"$f":"HLOOKUP(I$2,'Base de Dados - Resíduos'!$G$3:$AW$1048576,$G156,)","v":0},{"$f":"HLOOKUP(J$2,'Base de Dados - Resíduos'!$G$3:$AW$1048576,$G156,)","v":0},{"$f":"HLOOKUP(K$2,'Base de Dados - Resíduos'!$G$3:$AW$1048576,$G156,)","v":0},{"$f":"HLOOKUP(L$2,'Base de Dados - Resíduos'!$G$3:$AW$1048576,$G156,)","v":0}]
[null,null,null,null,null,null,156,{"$f":"HLOOKUP(H$2,'Base de Dados - Resíduos'!$G$3:$AW$1048576,$G157,)","v":0},{"$f":"HLOOKUP(I$2,'Base de Dados - Resíduos'!$G$3:$AW$1048576,$G157,)","v":0},{"$f":"HLOOKUP(J$2,'Base de Dados - Resíduos'!$G$3:$AW$1048576,$G157,)","v":0},{"$f":"HLOOKUP(K$2,'Base de Dados - Resíduos'!$G$3:$AW$1048576,$G157,)","v":0},{"$f":"HLOOKUP(L$2,'Base de Dados - Resíduos'!$G$3:$AW$1048576,$G157,)","v":0}]
[null,null,null,null,null,null,157,{"$f":"HLOOKUP(H$2,'Base de Dados - Resíduos'!$G$3:$AW$1048576,$G158,)","v":0},{"$f":"HLOOKUP(I$2,'Base de Dados - Resíduos'!$G$3:$AW$1048576,$G158,)","v":0},{"$f":"HLOOKUP(J$2,'Base de Dados - Resíduos'!$G$3:$AW$1048576,$G158,)","v":0},{"$f":"HLOOKUP(K$2,'Base de Dados - Resíduos'!$G$3:$AW$1048576,$G158,)","v":0},{"$f":"HLOOKUP(L$2,'Base de Dados - Resíduos'!$G$3:$AW$1048576,$G158,)","v":0}]
[null,null,null,null,null,null,158,{"$f":"HLOOKUP(H$2,'Base de Dados - Resíduos'!$G$3:$AW$1048576,$G159,)","v":0},{"$f":"HLOOKUP(I$2,'Base de Dados - Resíduos'!$G$3:$AW$1048576,$G159,)","v":0},{"$f":"HLOOKUP(J$2,'Base de Dados - Resíduos'!$G$3:$AW$1048576,$G159,)","v":0},{"$f":"HLOOKUP(K$2,'Base de Dados - Resíduos'!$G$3:$AW$1048576,$G159,)","v":0},{"$f":"HLOOKUP(L$2,'Base de Dados - Resíduos'!$G$3:$AW$1048576,$G159,)","v":0}]
[null,null,null,null,null,null,159,{"$f":"HLOOKUP(H$2,'Base de Dados - Resíduos'!$G$3:$AW$1048576,$G160,)","v":0},{"$f":"HLOOKUP(I$2,'Base de Dados - Resíduos'!$G$3:$AW$1048576,$G160,)","v":0},{"$f":"HLOOKUP(J$2,'Base de Dados - Resíduos'!$G$3:$AW$1048576,$G160,)","v":0},{"$f":"HLOOKUP(K$2,'Base de Dados - Resíduos'!$G$3:$AW$1048576,$G160,)","v":0},{"$f":"HLOOKUP(L$2,'Base de Dados - Resíduos'!$G$3:$AW$1048576,$G160,)","v":0}]
[null,null,null,null,null,null,160,{"$f":"HLOOKUP(H$2,'Base de Dados - Resíduos'!$G$3:$AW$1048576,$G161,)","v":0},{"$f":"HLOOKUP(I$2,'Base de Dados - Resíduos'!$G$3:$AW$1048576,$G161,)","v":0},{"$f":"HLOOKUP(J$2,'Base de Dados - Resíduos'!$G$3:$AW$1048576,$G161,)","v":0},{"$f":"HLOOKUP(K$2,'Base de Dados - Resíduos'!$G$3:$AW$1048576,$G161,)","v":0},{"$f":"HLOOKUP(L$2,'Base de Dados - Resíduos'!$G$3:$AW$1048576,$G161,)","v":0}]
[null,null,null,null,null,null,161,{"$f":"HLOOKUP(H$2,'Base de Dados - Resíduos'!$G$3:$AW$1048576,$G162,)","v":0},{"$f":"HLOOKUP(I$2,'Base de Dados - Resíduos'!$G$3:$AW$1048576,$G162,)","v":0},{"$f":"HLOOKUP(J$2,'Base de Dados - Resíduos'!$G$3:$AW$1048576,$G162,)","v":0},{"$f":"HLOOKUP(K$2,'Base de Dados - Resíduos'!$G$3:$AW$1048576,$G162,)","v":0},{"$f":"HLOOKUP(L$2,'Base de Dados - Resíduos'!$G$3:$AW$1048576,$G162,)","v":0}]
[null,null,null,null,null,null,162,{"$f":"HLOOKUP(H$2,'Base de Dados - Resíduos'!$G$3:$AW$1048576,$G163,)","v":0},{"$f":"HLOOKUP(I$2,'Base de Dados - Resíduos'!$G$3:$AW$1048576,$G163,)","v":0},{"$f":"HLOOKUP(J$2,'Base de Dados - Resíduos'!$G$3:$AW$1048576,$G163,)","v":0},{"$f":"HLOOKUP(K$2,'Base de Dados - Resíduos'!$G$3:$AW$1048576,$G163,)","v":0},{"$f":"HLOOKUP(L$2,'Base de Dados - Resíduos'!$G$3:$AW$1048576,$G163,)","v":0}]
[null,null,null,null,null,null,163,{"$f":"HLOOKUP(H$2,'Base de Dados - Resíduos'!$G$3:$AW$1048576,$G164,)","v":0},{"$f":"HLOOKUP(I$2,'Base de Dados - Resíduos'!$G$3:$AW$1048576,$G164,)","v":0},{"$f":"HLOOKUP(J$2,'Base de Dados - Resíduos'!$G$3:$AW$1048576,$G164,)","v":0},{"$f":"HLOOKUP(K$2,'Base de Dados - Resíduos'!$G$3:$AW$1048576,$G164,)","v":0},{"$f":"HLOOKUP(L$2,'Base de Dados - Resíduos'!$G$3:$AW$1048576,$G164,)","v":0}]
[null,null,null,null,null,null,164,{"$f":"HLOOKUP(H$2,'Base de Dados - Resíduos'!$G$3:$AW$1048576,$G165,)","v":0},{"$f":"HLOOKUP(I$2,'Base de Dados - Resíduos'!$G$3:$AW$1048576,$G165,)","v":0},{"$f":"HLOOKUP(J$2,'Base de Dados - Resíduos'!$G$3:$AW$1048576,$G165,)","v":0},{"$f":"HLOOKUP(K$2,'Base de Dados - Resíduos'!$G$3:$AW$1048576,$G165,)","v":0},{"$f":"HLOOKUP(L$2,'Base de Dados - Resíduos'!$G$3:$AW$1048576,$G165,)","v":0}]
[null,null,null,null,null,null,165,{"$f":"HLOOKUP(H$2,'Base de Dados - Resíduos'!$G$3:$AW$1048576,$G166,)","v":0},{"$f":"HLOOKUP(I$2,'Base de Dados - Resíduos'!$G$3:$AW$1048576,$G166,)","v":0},{"$f":"HLOOKUP(J$2,'Base de Dados - Resíduos'!$G$3:$AW$1048576,$G166,)","v":0},{"$f":"HLOOKUP(K$2,'Base de Dados - Resíduos'!$G$3:$AW$1048576,$G166,)","v":0},{"$f":"HLOOKUP(L$2,'Base de Dados - Resíduos'!$G$3:$AW$1048576,$G166,)","v":0}]
[null,null,null,null,null,null,166,{"$f":"HLOOKUP(H$2,'Base de Dados - Resíduos'!$G$3:$AW$1048576,$G167,)","v":0},{"$f":"HLOOKUP(I$2,'Base de Dados - Resíduos'!$G$3:$AW$1048576,$G167,)","v":0},{"$f":"HLOOKUP(J$2,'Base de Dados - Resíduos'!$G$3:$AW$1048576,$G167,)","v":0},{"$f":"HLOOKUP(K$2,'Base de Dados - Resíduos'!$G$3:$AW$1048576,$G167,)","v":0},{"$f":"HLOOKUP(L$2,'Base de Dados - Resíduos'!$G$3:$AW$1048576,$G167,)","v":0}]
[null,null,null,null,null,null,167,{"$f":"HLOOKUP(H$2,'Base de Dados - Resíduos'!$G$3:$AW$1048576,$G168,)","v":0},{"$f":"HLOOKUP(I$2,'Base de Dados - Resíduos'!$G$3:$AW$1048576,$G168,)","v":0},{"$f":"HLOOKUP(J$2,'Base de Dados - Resíduos'!$G$3:$AW$1048576,$G168,)","v":0},{"$f":"HLOOKUP(K$2,'Base de Dados - Resíduos'!$G$3:$AW$1048576,$G168,)","v":0},{"$f":"HLOOKUP(L$2,'Base de Dados - Resíduos'!$G$3:$AW$1048576,$G168,)","v":0}]
[null,null,null,null,null,null,168,{"$f":"HLOOKUP(H$2,'Base de Dados - Resíduos'!$G$3:$AW$1048576,$G169,)","v":0},{"$f":"HLOOKUP(I$2,'Base de Dados - Resíduos'!$G$3:$AW$1048576,$G169,)","v":0},{"$f":"HLOOKUP(J$2,'Base de Dados - Resíduos'!$G$3:$AW$1048576,$G169,)","v":0},{"$f":"HLOOKUP(K$2,'Base de Dados - Resíduos'!$G$3:$AW$1048576,$G169,)","v":0},{"$f":"HLOOKUP(L$2,'Base de Dados - Resíduos'!$G$3:$AW$1048576,$G169,)","v":0}]
[null,null,null,null,null,null,169,{"$f":"HLOOKUP(H$2,'Base de Dados - Resíduos'!$G$3:$AW$1048576,$G170,)","v":0},{"$f":"HLOOKUP(I$2,'Base de Dados - Resíduos'!$G$3:$AW$1048576,$G170,)","v":0},{"$f":"HLOOKUP(J$2,'Base de Dados - Resíduos'!$G$3:$AW$1048576,$G170,)","v":0},{"$f":"HLOOKUP(K$2,'Base de Dados - Resíduos'!$G$3:$AW$1048576,$G170,)","v":0},{"$f":"HLOOKUP(L$2,'Base de Dados - Resíduos'!$G$3:$AW$1048576,$G170,)","v":0}]
[null,null,null,null,null,null,170,{"$f":"HLOOKUP(H$2,'Base de Dados - Resíduos'!$G$3:$AW$1048576,$G171,)","v":0},{"$f":"HLOOKUP(I$2,'Base de Dados - Resíduos'!$G$3:$AW$1048576,$G171,)","v":0},{"$f":"HLOOKUP(J$2,'Base de Dados - Resíduos'!$G$3:$AW$1048576,$G171,)","v":0},{"$f":"HLOOKUP(K$2,'Base de Dados - Resíduos'!$G$3:$AW$1048576,$G171,)","v":0},{"$f":"HLOOKUP(L$2,'Base de Dados - Resíduos'!$G$3:$AW$1048576,$G171,)","v":0}]
[null,null,null,null,null,null,171,{"$f":"HLOOKUP(H$2,'Base de Dados - Resíduos'!$G$3:$AW$1048576,$G172,)","v":0},{"$f":"HLOOKUP(I$2,'Base de Dados - Resíduos'!$G$3:$AW$1048576,$G172,)","v":0},{"$f":"HLOOKUP(J$2,'Base de Dados - Resíduos'!$G$3:$AW$1048576,$G172,)","v":0},{"$f":"HLOOKUP(K$2,'Base de Dados - Resíduos'!$G$3:$AW$1048576,$G172,)","v":0},{"$f":"HLOOKUP(L$2,'Base de Dados - Resíduos'!$G$3:$AW$1048576,$G172,)","v":0}]
[null,null,null,null,null,null,172,{"$f":"HLOOKUP(H$2,'Base de Dados - Resíduos'!$G$3:$AW$1048576,$G173,)","v":0},{"$f":"HLOOKUP(I$2,'Base de Dados - Resíduos'!$G$3:$AW$1048576,$G173,)","v":0},{"$f":"HLOOKUP(J$2,'Base de Dados - Resíduos'!$G$3:$AW$1048576,$G173,)","v":0},{"$f":"HLOOKUP(K$2,'Base de Dados - Resíduos'!$G$3:$AW$1048576,$G173,)","v":0},{"$f":"HLOOKUP(L$2,'Base de Dados - Resíduos'!$G$3:$AW$1048576,$G173,)","v":0}]
[null,null,null,null,null,null,173,{"$f":"HLOOKUP(H$2,'Base de Dados - Resíduos'!$G$3:$AW$1048576,$G174,)","v":0},{"$f":"HLOOKUP(I$2,'Base de Dados - Resíduos'!$G$3:$AW$1048576,$G174,)","v":0},{"$f":"HLOOKUP(J$2,'Base de Dados - Resíduos'!$G$3:$AW$1048576,$G174,)","v":0},{"$f":"HLOOKUP(K$2,'Base de Dados - Resíduos'!$G$3:$AW$1048576,$G174,)","v":0},{"$f":"HLOOKUP(L$2,'Base de Dados - Resíduos'!$G$3:$AW$1048576,$G174,)","v":0}]
[null,null,null,null,null,null,174,{"$f":"HLOOKUP(H$2,'Base de Dados - Resíduos'!$G$3:$AW$1048576,$G175,)","v":0},{"$f":"HLOOKUP(I$2,'Base de Dados - Resíduos'!$G$3:$AW$1048576,$G175,)","v":0},{"$f":"HLOOKUP(J$2,'Base de Dados - Resíduos'!$G$3:$AW$1048576,$G175,)","v":0},{"$f":"HLOOKUP(K$2,'Base de Dados - Resíduos'!$G$3:$AW$1048576,$G175,)","v":0},{"$f":"HLOOKUP(L$2,'Base de Dados - Resíduos'!$G$3:$AW$1048576,$G175,)","v":0}]
[null,null,null,null,null,null,175,{"$f":"HLOOKUP(H$2,'Base de Dados - Resíduos'!$G$3:$AW$1048576,$G176,)","v":0},{"$f":"HLOOKUP(I$2,'Base de Dados - Resíduos'!$G$3:$AW$1048576,$G176,)","v":0},{"$f":"HLOOKUP(J$2,'Base de Dados - Resíduos'!$G$3:$AW$1048576,$G176,)","v":0},{"$f":"HLOOKUP(K$2,'Base de Dados - Resíduos'!$G$3:$AW$1048576,$G176,)","v":0},{"$f":"HLOOKUP(L$2,'Base de Dados - Resíduos'!$G$3:$AW$1048576,$G176,)","v":0}]
[null,null,null,null,null,null,176,{"$f":"HLOOKUP(H$2,'Base de Dados - Resíduos'!$G$3:$AW$1048576,$G177,)","v":0},{"$f":"HLOOKUP(I$2,'Base de Dados - Resíduos'!$G$3:$AW$1048576,$G177,)","v":0},{"$f":"HLOOKUP(J$2,'Base de Dados - Resíduos'!$G$3:$AW$1048576,$G177,)","v":0},{"$f":"HLOOKUP(K$2,'Base de Dados - Resíduos'!$G$3:$AW$1048576,$G177,)","v":0},{"$f":"HLOOKUP(L$2,'Base de Dados - Resíduos'!$G$3:$AW$1048576,$G177,)","v":0}]
[null,null,null,null,null,null,177,{"$f":"HLOOKUP(H$2,'Base de Dados - Resíduos'!$G$3:$AW$1048576,$G178,)","v":0},{"$f":"HLOOKUP(I$2,'Base de Dados - Resíduos'!$G$3:$AW$1048576,$G178,)","v":0},{"$f":"HLOOKUP(J$2,'Base de Dados - Resíduos'!$G$3:$AW$1048576,$G178,)","v":0},{"$f":"HLOOKUP(K$2,'Base de Dados - Resíduos'!$G$3:$AW$1048576,$G178,)","v":0},{"$f":"HLOOKUP(L$2,'Base de Dados - Resíduos'!$G$3:$AW$1048576,$G178,)","v":0}]
[null,null,null,null,null,null,178,{"$f":"HLOOKUP(H$2,'Base de Dados - Resíduos'!$G$3:$AW$1048576,$G179,)","v":0},{"$f":"HLOOKUP(I$2,'Base de Dados - Resíduos'!$G$3:$AW$1048576,$G179,)","v":0},{"$f":"HLOOKUP(J$2,'Base de Dados - Resíduos'!$G$3:$AW$1048576,$G179,)","v":0},{"$f":"HLOOKUP(K$2,'Base de Dados - Resíduos'!$G$3:$AW$1048576,$G179,)","v":0},{"$f":"HLOOKUP(L$2,'Base de Dados - Resíduos'!$G$3:$AW$1048576,$G179,)","v":0}]
[null,null,null,null,null,null,179,{"$f":"HLOOKUP(H$2,'Base de Dados - Resíduos'!$G$3:$AW$1048576,$G180,)","v":0},{"$f":"HLOOKUP(I$2,'Base de Dados - Resíduos'!$G$3:$AW$1048576,$G180,)","v":0},{"$f":"HLOOKUP(J$2,'Base de Dados - Resíduos'!$G$3:$AW$1048576,$G180,)","v":0},{"$f":"HLOOKUP(K$2,'Base de Dados - Resíduos'!$G$3:$AW$1048576,$G180,)","v":0},{"$f":"HLOOKUP(L$2,'Base de Dados - Resíduos'!$G$3:$AW$1048576,$G180,)","v":0}]
[null,null,null,null,null,null,180,{"$f":"HLOOKUP(H$2,'Base de Dados - Resíduos'!$G$3:$AW$1048576,$G181,)","v":0},{"$f":"HLOOKUP(I$2,'Base de Dados - Resíduos'!$G$3:$AW$1048576,$G181,)","v":0},{"$f":"HLOOKUP(J$2,'Base de Dados - Resíduos'!$G$3:$AW$1048576,$G181,)","v":0},{"$f":"HLOOKUP(K$2,'Base de Dados - Resíduos'!$G$3:$AW$1048576,$G181,)","v":0},{"$f":"HLOOKUP(L$2,'Base de Dados - Resíduos'!$G$3:$AW$1048576,$G181,)","v":0}]
[null,null,null,null,null,null,181,{"$f":"HLOOKUP(H$2,'Base de Dados - Resíduos'!$G$3:$AW$1048576,$G182,)","v":0},{"$f":"HLOOKUP(I$2,'Base de Dados - Resíduos'!$G$3:$AW$1048576,$G182,)","v":0},{"$f":"HLOOKUP(J$2,'Base de Dados - Resíduos'!$G$3:$AW$1048576,$G182,)","v":0},{"$f":"HLOOKUP(K$2,'Base de Dados - Resíduos'!$G$3:$AW$1048576,$G182,)","v":0},{"$f":"HLOOKUP(L$2,'Base de Dados - Resíduos'!$G$3:$AW$1048576,$G182,)","v":0}]
[null,null,null,null,null,null,182,{"$f":"HLOOKUP(H$2,'Base de Dados - Resíduos'!$G$3:$AW$1048576,$G183,)","v":0},{"$f":"HLOOKUP(I$2,'Base de Dados - Resíduos'!$G$3:$AW$1048576,$G183,)","v":0},{"$f":"HLOOKUP(J$2,'Base de Dados - Resíduos'!$G$3:$AW$1048576,$G183,)","v":0},{"$f":"HLOOKUP(K$2,'Base de Dados - Resíduos'!$G$3:$AW$1048576,$G183,)","v":0},{"$f":"HLOOKUP(L$2,'Base de Dados - Resíduos'!$G$3:$AW$1048576,$G183,)","v":0}]
[null,null,null,null,null,null,183,{"$f":"HLOOKUP(H$2,'Base de Dados - Resíduos'!$G$3:$AW$1048576,$G184,)","v":0},{"$f":"HLOOKUP(I$2,'Base de Dados - Resíduos'!$G$3:$AW$1048576,$G184,)","v":0},{"$f":"HLOOKUP(J$2,'Base de Dados - Resíduos'!$G$3:$AW$1048576,$G184,)","v":0},{"$f":"HLOOKUP(K$2,'Base de Dados - Resíduos'!$G$3:$AW$1048576,$G184,)","v":0},{"$f":"HLOOKUP(L$2,'Base de Dados - Resíduos'!$G$3:$AW$1048576,$G184,)","v":0}]
[null,null,null,null,null,null,184,{"$f":"HLOOKUP(H$2,'Base de Dados - Resíduos'!$G$3:$AW$1048576,$G185,)","v":0},{"$f":"HLOOKUP(I$2,'Base de Dados - Resíduos'!$G$3:$AW$1048576,$G185,)","v":0},{"$f":"HLOOKUP(J$2,'Base de Dados - Resíduos'!$G$3:$AW$1048576,$G185,)","v":0},{"$f":"HLOOKUP(K$2,'Base de Dados - Resíduos'!$G$3:$AW$1048576,$G185,)","v":0},{"$f":"HLOOKUP(L$2,'Base de Dados - Resíduos'!$G$3:$AW$1048576,$G185,)","v":0}]
[null,null,null,null,null,null,185,{"$f":"HLOOKUP(H$2,'Base de Dados - Resíduos'!$G$3:$AW$1048576,$G186,)","v":0},{"$f":"HLOOKUP(I$2,'Base de Dados - Resíduos'!$G$3:$AW$1048576,$G186,)","v":0},{"$f":"HLOOKUP(J$2,'Base de Dados - Resíduos'!$G$3:$AW$1048576,$G186,)","v":0},{"$f":"HLOOKUP(K$2,'Base de Dados - Resíduos'!$G$3:$AW$1048576,$G186,)","v":0},{"$f":"HLOOKUP(L$2,'Base de Dados - Resíduos'!$G$3:$AW$1048576,$G186,)","v":0}]
[null,null,null,null,null,null,186,{"$f":"HLOOKUP(H$2,'Base de Dados - Resíduos'!$G$3:$AW$1048576,$G187,)","v":0},{"$f":"HLOOKUP(I$2,'Base de Dados - Resíduos'!$G$3:$AW$1048576,$G187,)","v":0},{"$f":"HLOOKUP(J$2,'Base de Dados - Resíduos'!$G$3:$AW$1048576,$G187,)","v":0},{"$f":"HLOOKUP(K$2,'Base de Dados - Resíduos'!$G$3:$AW$1048576,$G187,)","v":0},{"$f":"HLOOKUP(L$2,'Base de Dados - Resíduos'!$G$3:$AW$1048576,$G187,)","v":0}]
[null,null,null,null,null,null,187,{"$f":"HLOOKUP(H$2,'Base de Dados - Resíduos'!$G$3:$AW$1048576,$G188,)","v":0},{"$f":"HLOOKUP(I$2,'Base de Dados - Resíduos'!$G$3:$AW$1048576,$G188,)","v":0},{"$f":"HLOOKUP(J$2,'Base de Dados - Resíduos'!$G$3:$AW$1048576,$G188,)","v":0},{"$f":"HLOOKUP(K$2,'Base de Dados - Resíduos'!$G$3:$AW$1048576,$G188,)","v":0},{"$f":"HLOOKUP(L$2,'Base de Dados - Resíduos'!$G$3:$AW$1048576,$G188,)","v":0}]
[null,null,null,null,null,null,188,{"$f":"HLOOKUP(H$2,'Base de Dados - Resíduos'!$G$3:$AW$1048576,$G189,)","v":0},{"$f":"HLOOKUP(I$2,'Base de Dados - Resíduos'!$G$3:$AW$1048576,$G189,)","v":0},{"$f":"HLOOKUP(J$2,'Base de Dados - Resíduos'!$G$3:$AW$1048576,$G189,)","v":0},{"$f":"HLOOKUP(K$2,'Base de Dados - Resíduos'!$G$3:$AW$1048576,$G189,)","v":0},{"$f":"HLOOKUP(L$2,'Base de Dados - Resíduos'!$G$3:$AW$1048576,$G189,)","v":0}]
[null,null,null,null,null,null,189,{"$f":"HLOOKUP(H$2,'Base de Dados - Resíduos'!$G$3:$AW$1048576,$G190,)","v":0},{"$f":"HLOOKUP(I$2,'Base de Dados - Resíduos'!$G$3:$AW$1048576,$G190,)","v":0},{"$f":"HLOOKUP(J$2,'Base de Dados - Resíduos'!$G$3:$AW$1048576,$G190,)","v":0},{"$f":"HLOOKUP(K$2,'Base de Dados - Resíduos'!$G$3:$AW$1048576,$G190,)","v":0},{"$f":"HLOOKUP(L$2,'Base de Dados - Resíduos'!$G$3:$AW$1048576,$G190,)","v":0}]
[null,null,null,null,null,null,190,{"$f":"HLOOKUP(H$2,'Base de Dados - Resíduos'!$G$3:$AW$1048576,$G191,)","v":0},{"$f":"HLOOKUP(I$2,'Base de Dados - Resíduos'!$G$3:$AW$1048576,$G191,)","v":0},{"$f":"HLOOKUP(J$2,'Base de Dados - Resíduos'!$G$3:$AW$1048576,$G191,)","v":0},{"$f":"HLOOKUP(K$2,'Base de Dados - Resíduos'!$G$3:$AW$1048576,$G191,)","v":0},{"$f":"HLOOKUP(L$2,'Base de Dados - Resíduos'!$G$3:$AW$1048576,$G191,)","v":0}]
[null,null,null,null,null,null,191,{"$f":"HLOOKUP(H$2,'Base de Dados - Resíduos'!$G$3:$AW$1048576,$G192,)","v":0},{"$f":"HLOOKUP(I$2,'Base de Dados - Resíduos'!$G$3:$AW$1048576,$G192,)","v":0},{"$f":"HLOOKUP(J$2,'Base de Dados - Resíduos'!$G$3:$AW$1048576,$G192,)","v":0},{"$f":"HLOOKUP(K$2,'Base de Dados - Resíduos'!$G$3:$AW$1048576,$G192,)","v":0},{"$f":"HLOOKUP(L$2,'Base de Dados - Resíduos'!$G$3:$AW$1048576,$G192,)","v":0}]
[null,null,null,null,null,null,192,{"$f":"HLOOKUP(H$2,'Base de Dados - Resíduos'!$G$3:$AW$1048576,$G193,)","v":0},{"$f":"HLOOKUP(I$2,'Base de Dados - Resíduos'!$G$3:$AW$1048576,$G193,)","v":0},{"$f":"HLOOKUP(J$2,'Base de Dados - Resíduos'!$G$3:$AW$1048576,$G193,)","v":0},{"$f":"HLOOKUP(K$2,'Base de Dados - Resíduos'!$G$3:$AW$1048576,$G193,)","v":0},{"$f":"HLOOKUP(L$2,'Base de Dados - Resíduos'!$G$3:$AW$1048576,$G193,)","v":0}]
[null,null,null,null,null,null,193,{"$f":"HLOOKUP(H$2,'Base de Dados - Resíduos'!$G$3:$AW$1048576,$G194,)","v":0},{"$f":"HLOOKUP(I$2,'Base de Dados - Resíduos'!$G$3:$AW$1048576,$G194,)","v":0},{"$f":"HLOOKUP(J$2,'Base de Dados - Resíduos'!$G$3:$AW$1048576,$G194,)","v":0},{"$f":"HLOOKUP(K$2,'Base de Dados - Resíduos'!$G$3:$AW$1048576,$G194,)","v":0},{"$f":"HLOOKUP(L$2,'Base de Dados - Resíduos'!$G$3:$AW$1048576,$G194,)","v":0}]
[null,null,null,null,null,null,194,{"$f":"HLOOKUP(H$2,'Base de Dados - Resíduos'!$G$3:$AW$1048576,$G195,)","v":0},{"$f":"HLOOKUP(I$2,'Base de Dados - Resíduos'!$G$3:$AW$1048576,$G195,)","v":0},{"$f":"HLOOKUP(J$2,'Base de Dados - Resíduos'!$G$3:$AW$1048576,$G195,)","v":0},{"$f":"HLOOKUP(K$2,'Base de Dados - Resíduos'!$G$3:$AW$1048576,$G195,)","v":0},{"$f":"HLOOKUP(L$2,'Base de Dados - Resíduos'!$G$3:$AW$1048576,$G195,)","v":0}]
[null,null,null,null,null,null,195,{"$f":"HLOOKUP(H$2,'Base de Dados - Resíduos'!$G$3:$AW$1048576,$G196,)","v":0},{"$f":"HLOOKUP(I$2,'Base de Dados - Resíduos'!$G$3:$AW$1048576,$G196,)","v":0},{"$f":"HLOOKUP(J$2,'Base de Dados - Resíduos'!$G$3:$AW$1048576,$G196,)","v":0},{"$f":"HLOOKUP(K$2,'Base de Dados - Resíduos'!$G$3:$AW$1048576,$G196,)","v":0},{"$f":"HLOOKUP(L$2,'Base de Dados - Resíduos'!$G$3:$AW$1048576,$G196,)","v":0}]
[null,null,null,null,null,null,196,{"$f":"HLOOKUP(H$2,'Base de Dados - Resíduos'!$G$3:$AW$1048576,$G197,)","v":0},{"$f":"HLOOKUP(I$2,'Base de Dados - Resíduos'!$G$3:$AW$1048576,$G197,)","v":0},{"$f":"HLOOKUP(J$2,'Base de Dados - Resíduos'!$G$3:$AW$1048576,$G197,)","v":0},{"$f":"HLOOKUP(K$2,'Base de Dados - Resíduos'!$G$3:$AW$1048576,$G197,)","v":0},{"$f":"HLOOKUP(L$2,'Base de Dados - Resíduos'!$G$3:$AW$1048576,$G197,)","v":0}]
[null,null,null,null,null,null,197,{"$f":"HLOOKUP(H$2,'Base de Dados - Resíduos'!$G$3:$AW$1048576,$G198,)","v":0},{"$f":"HLOOKUP(I$2,'Base de Dados - Resíduos'!$G$3:$AW$1048576,$G198,)","v":0},{"$f":"HLOOKUP(J$2,'Base de Dados - Resíduos'!$G$3:$AW$1048576,$G198,)","v":0},{"$f":"HLOOKUP(K$2,'Base de Dados - Resíduos'!$G$3:$AW$1048576,$G198,)","v":0},{"$f":"HLOOKUP(L$2,'Base de Dados - Resíduos'!$G$3:$AW$1048576,$G198,)","v":0}]
[null,null,null,null,null,null,198,{"$f":"HLOOKUP(H$2,'Base de Dados - Resíduos'!$G$3:$AW$1048576,$G199,)","v":0},{"$f":"HLOOKUP(I$2,'Base de Dados - Resíduos'!$G$3:$AW$1048576,$G199,)","v":0},{"$f":"HLOOKUP(J$2,'Base de Dados - Resíduos'!$G$3:$AW$1048576,$G199,)","v":0},{"$f":"HLOOKUP(K$2,'Base de Dados - Resíduos'!$G$3:$AW$1048576,$G199,)","v":0},{"$f":"HLOOKUP(L$2,'Base de Dados - Resíduos'!$G$3:$AW$1048576,$G199,)","v":0}]
[null,null,null,null,null,null,199,{"$f":"HLOOKUP(H$2,'Base de Dados - Resíduos'!$G$3:$AW$1048576,$G200,)","v":0},{"$f":"HLOOKUP(I$2,'Base de Dados - Resíduos'!$G$3:$AW$1048576,$G200,)","v":0},{"$f":"HLOOKUP(J$2,'Base de Dados - Resíduos'!$G$3:$AW$1048576,$G200,)","v":0},{"$f":"HLOOKUP(K$2,'Base de Dados - Resíduos'!$G$3:$AW$1048576,$G200,)","v":0},{"$f":"HLOOKUP(L$2,'Base de Dados - Resíduos'!$G$3:$AW$1048576,$G200,)","v":0}]
[null,null,null,null,null,null,200,{"$f":"HLOOKUP(H$2,'Base de Dados - Resíduos'!$G$3:$AW$1048576,$G201,)","v":0},{"$f":"HLOOKUP(I$2,'Base de Dados - Resíduos'!$G$3:$AW$1048576,$G201,)","v":0},{"$f":"HLOOKUP(J$2,'Base de Dados - Resíduos'!$G$3:$AW$1048576,$G201,)","v":0},{"$f":"HLOOKUP(K$2,'Base de Dados - Resíduos'!$G$3:$AW$1048576,$G201,)","v":0},{"$f":"HLOOKUP(L$2,'Base de Dados - Resíduos'!$G$3:$AW$1048576,$G201,)","v":0}]
[null,null,null,null,null,null,201,{"$f":"HLOOKUP(H$2,'Base de Dados - Resíduos'!$G$3:$AW$1048576,$G202,)","v":0},{"$f":"HLOOKUP(I$2,'Base de Dados - Resíduos'!$G$3:$AW$1048576,$G202,)","v":0},{"$f":"HLOOKUP(J$2,'Base de Dados - Resíduos'!$G$3:$AW$1048576,$G202,)","v":0},{"$f":"HLOOKUP(K$2,'Base de Dados - Resíduos'!$G$3:$AW$1048576,$G202,)","v":0},{"$f":"HLOOKUP(L$2,'Base de Dados - Resíduos'!$G$3:$AW$1048576,$G202,)","v":0}]
[null,null,null,null,null,null,202,{"$f":"HLOOKUP(H$2,'Base de Dados - Resíduos'!$G$3:$AW$1048576,$G203,)","v":0},{"$f":"HLOOKUP(I$2,'Base de Dados - Resíduos'!$G$3:$AW$1048576,$G203,)","v":0},{"$f":"HLOOKUP(J$2,'Base de Dados - Resíduos'!$G$3:$AW$1048576,$G203,)","v":0},{"$f":"HLOOKUP(K$2,'Base de Dados - Resíduos'!$G$3:$AW$1048576,$G203,)","v":0},{"$f":"HLOOKUP(L$2,'Base de Dados - Resíduos'!$G$3:$AW$1048576,$G203,)","v":0}]
[null,null,null,null,null,null,203,{"$f":"HLOOKUP(H$2,'Base de Dados - Resíduos'!$G$3:$AW$1048576,$G204,)","v":0},{"$f":"HLOOKUP(I$2,'Base de Dados - Resíduos'!$G$3:$AW$1048576,$G204,)","v":0},{"$f":"HLOOKUP(J$2,'Base de Dados - Resíduos'!$G$3:$AW$1048576,$G204,)","v":0},{"$f":"HLOOKUP(K$2,'Base de Dados - Resíduos'!$G$3:$AW$1048576,$G204,)","v":0},{"$f":"HLOOKUP(L$2,'Base de Dados - Resíduos'!$G$3:$AW$1048576,$G204,)","v":0}]
[null,null,null,null,null,null,204,{"$f":"HLOOKUP(H$2,'Base de Dados - Resíduos'!$G$3:$AW$1048576,$G205,)","v":0},{"$f":"HLOOKUP(I$2,'Base de Dados - Resíduos'!$G$3:$AW$1048576,$G205,)","v":0},{"$f":"HLOOKUP(J$2,'Base de Dados - Resíduos'!$G$3:$AW$1048576,$G205,)","v":0},{"$f":"HLOOKUP(K$2,'Base de Dados - Resíduos'!$G$3:$AW$1048576,$G205,)","v":0},{"$f":"HLOOKUP(L$2,'Base de Dados - Resíduos'!$G$3:$AW$1048576,$G205,)","v":0}]
[null,null,null,null,null,null,205,{"$f":"HLOOKUP(H$2,'Base de Dados - Resíduos'!$G$3:$AW$1048576,$G206,)","v":0},{"$f":"HLOOKUP(I$2,'Base de Dados - Resíduos'!$G$3:$AW$1048576,$G206,)","v":0},{"$f":"HLOOKUP(J$2,'Base de Dados - Resíduos'!$G$3:$AW$1048576,$G206,)","v":0},{"$f":"HLOOKUP(K$2,'Base de Dados - Resíduos'!$G$3:$AW$1048576,$G206,)","v":0},{"$f":"HLOOKUP(L$2,'Base de Dados - Resíduos'!$G$3:$AW$1048576,$G206,)","v":0}]
[null,null,null,null,null,null,206,{"$f":"HLOOKUP(H$2,'Base de Dados - Resíduos'!$G$3:$AW$1048576,$G207,)","v":0},{"$f":"HLOOKUP(I$2,'Base de Dados - Resíduos'!$G$3:$AW$1048576,$G207,)","v":0},{"$f":"HLOOKUP(J$2,'Base de Dados - Resíduos'!$G$3:$AW$1048576,$G207,)","v":0},{"$f":"HLOOKUP(K$2,'Base de Dados - Resíduos'!$G$3:$AW$1048576,$G207,)","v":0},{"$f":"HLOOKUP(L$2,'Base de Dados - Resíduos'!$G$3:$AW$1048576,$G207,)","v":0}]
[null,null,null,null,null,null,207,{"$f":"HLOOKUP(H$2,'Base de Dados - Resíduos'!$G$3:$AW$1048576,$G208,)","v":0},{"$f":"HLOOKUP(I$2,'Base de Dados - Resíduos'!$G$3:$AW$1048576,$G208,)","v":0},{"$f":"HLOOKUP(J$2,'Base de Dados - Resíduos'!$G$3:$AW$1048576,$G208,)","v":0},{"$f":"HLOOKUP(K$2,'Base de Dados - Resíduos'!$G$3:$AW$1048576,$G208,)","v":0},{"$f":"HLOOKUP(L$2,'Base de Dados - Resíduos'!$G$3:$AW$1048576,$G208,)","v":0}]
[null,null,null,null,null,null,208,{"$f":"HLOOKUP(H$2,'Base de Dados - Resíduos'!$G$3:$AW$1048576,$G209,)","v":0},{"$f":"HLOOKUP(I$2,'Base de Dados - Resíduos'!$G$3:$AW$1048576,$G209,)","v":0},{"$f":"HLOOKUP(J$2,'Base de Dados - Resíduos'!$G$3:$AW$1048576,$G209,)","v":0},{"$f":"HLOOKUP(K$2,'Base de Dados - Resíduos'!$G$3:$AW$1048576,$G209,)","v":0},{"$f":"HLOOKUP(L$2,'Base de Dados - Resíduos'!$G$3:$AW$1048576,$G209,)","v":0}]
[null,null,null,null,null,null,209,{"$f":"HLOOKUP(H$2,'Base de Dados - Resíduos'!$G$3:$AW$1048576,$G210,)","v":0},{"$f":"HLOOKUP(I$2,'Base de Dados - Resíduos'!$G$3:$AW$1048576,$G210,)","v":0},{"$f":"HLOOKUP(J$2,'Base de Dados - Resíduos'!$G$3:$AW$1048576,$G210,)","v":0},{"$f":"HLOOKUP(K$2,'Base de Dados - Resíduos'!$G$3:$AW$1048576,$G210,)","v":0},{"$f":"HLOOKUP(L$2,'Base de Dados - Resíduos'!$G$3:$AW$1048576,$G210,)","v":0}]
[null,null,null,null,null,null,210,{"$f":"HLOOKUP(H$2,'Base de Dados - Resíduos'!$G$3:$AW$1048576,$G211,)","v":0},{"$f":"HLOOKUP(I$2,'Base de Dados - Resíduos'!$G$3:$AW$1048576,$G211,)","v":0},{"$f":"HLOOKUP(J$2,'Base de Dados - Resíduos'!$G$3:$AW$1048576,$G211,)","v":0},{"$f":"HLOOKUP(K$2,'Base de Dados - Resíduos'!$G$3:$AW$1048576,$G211,)","v":0},{"$f":"HLOOKUP(L$2,'Base de Dados - Resíduos'!$G$3:$AW$1048576,$G211,)","v":0}]
[null,null,null,null,null,null,211,{"$f":"HLOOKUP(H$2,'Base de Dados - Resíduos'!$G$3:$AW$1048576,$G212,)","v":0},{"$f":"HLOOKUP(I$2,'Base de Dados - Resíduos'!$G$3:$AW$1048576,$G212,)","v":0},{"$f":"HLOOKUP(J$2,'Base de Dados - Resíduos'!$G$3:$AW$1048576,$G212,)","v":0},{"$f":"HLOOKUP(K$2,'Base de Dados - Resíduos'!$G$3:$AW$1048576,$G212,)","v":0},{"$f":"HLOOKUP(L$2,'Base de Dados - Resíduos'!$G$3:$AW$1048576,$G212,)","v":0}]
[null,null,null,null,null,null,212,{"$f":"HLOOKUP(H$2,'Base de Dados - Resíduos'!$G$3:$AW$1048576,$G213,)","v":0},{"$f":"HLOOKUP(I$2,'Base de Dados - Resíduos'!$G$3:$AW$1048576,$G213,)","v":0},{"$f":"HLOOKUP(J$2,'Base de Dados - Resíduos'!$G$3:$AW$1048576,$G213,)","v":0},{"$f":"HLOOKUP(K$2,'Base de Dados - Resíduos'!$G$3:$AW$1048576,$G213,)","v":0},{"$f":"HLOOKUP(L$2,'Base de Dados - Resíduos'!$G$3:$AW$1048576,$G213,)","v":0}]
[null,null,null,null,null,null,213,{"$f":"HLOOKUP(H$2,'Base de Dados - Resíduos'!$G$3:$AW$1048576,$G214,)","v":0},{"$f":"HLOOKUP(I$2,'Base de Dados - Resíduos'!$G$3:$AW$1048576,$G214,)","v":0},{"$f":"HLOOKUP(J$2,'Base de Dados - Resíduos'!$G$3:$AW$1048576,$G214,)","v":0},{"$f":"HLOOKUP(K$2,'Base de Dados - Resíduos'!$G$3:$AW$1048576,$G214,)","v":0},{"$f":"HLOOKUP(L$2,'Base de Dados - Resíduos'!$G$3:$AW$1048576,$G214,)","v":0}]
[null,null,null,null,null,null,214,{"$f":"HLOOKUP(H$2,'Base de Dados - Resíduos'!$G$3:$AW$1048576,$G215,)","v":0},{"$f":"HLOOKUP(I$2,'Base de Dados - Resíduos'!$G$3:$AW$1048576,$G215,)","v":0},{"$f":"HLOOKUP(J$2,'Base de Dados - Resíduos'!$G$3:$AW$1048576,$G215,)","v":0},{"$f":"HLOOKUP(K$2,'Base de Dados - Resíduos'!$G$3:$AW$1048576,$G215,)","v":0},{"$f":"HLOOKUP(L$2,'Base de Dados - Resíduos'!$G$3:$AW$1048576,$G215,)","v":0}]
[null,null,null,null,null,null,215,{"$f":"HLOOKUP(H$2,'Base de Dados - Resíduos'!$G$3:$AW$1048576,$G216,)","v":0},{"$f":"HLOOKUP(I$2,'Base de Dados - Resíduos'!$G$3:$AW$1048576,$G216,)","v":0},{"$f":"HLOOKUP(J$2,'Base de Dados - Resíduos'!$G$3:$AW$1048576,$G216,)","v":0},{"$f":"HLOOKUP(K$2,'Base de Dados - Resíduos'!$G$3:$AW$1048576,$G216,)","v":0},{"$f":"HLOOKUP(L$2,'Base de Dados - Resíduos'!$G$3:$AW$1048576,$G216,)","v":0}]
[null,null,null,null,null,null,216,{"$f":"HLOOKUP(H$2,'Base de Dados - Resíduos'!$G$3:$AW$1048576,$G217,)","v":0},{"$f":"HLOOKUP(I$2,'Base de Dados - Resíduos'!$G$3:$AW$1048576,$G217,)","v":0},{"$f":"HLOOKUP(J$2,'Base de Dados - Resíduos'!$G$3:$AW$1048576,$G217,)","v":0},{"$f":"HLOOKUP(K$2,'Base de Dados - Resíduos'!$G$3:$AW$1048576,$G217,)","v":0},{"$f":"HLOOKUP(L$2,'Base de Dados - Resíduos'!$G$3:$AW$1048576,$G217,)","v":0}]
[null,null,null,null,null,null,217,{"$f":"HLOOKUP(H$2,'Base de Dados - Resíduos'!$G$3:$AW$1048576,$G218,)","v":0},{"$f":"HLOOKUP(I$2,'Base de Dados - Resíduos'!$G$3:$AW$1048576,$G218,)","v":0},{"$f":"HLOOKUP(J$2,'Base de Dados - Resíduos'!$G$3:$AW$1048576,$G218,)","v":0},{"$f":"HLOOKUP(K$2,'Base de Dados - Resíduos'!$G$3:$AW$1048576,$G218,)","v":0},{"$f":"HLOOKUP(L$2,'Base de Dados - Resíduos'!$G$3:$AW$1048576,$G218,)","v":0}]
[null,null,null,null,null,null,218,{"$f":"HLOOKUP(H$2,'Base de Dados - Resíduos'!$G$3:$AW$1048576,$G219,)","v":0},{"$f":"HLOOKUP(I$2,'Base de Dados - Resíduos'!$G$3:$AW$1048576,$G219,)","v":0},{"$f":"HLOOKUP(J$2,'Base de Dados - Resíduos'!$G$3:$AW$1048576,$G219,)","v":0},{"$f":"HLOOKUP(K$2,'Base de Dados - Resíduos'!$G$3:$AW$1048576,$G219,)","v":0},{"$f":"HLOOKUP(L$2,'Base de Dados - Resíduos'!$G$3:$AW$1048576,$G219,)","v":0}]
[null,null,null,null,null,null,219,{"$f":"HLOOKUP(H$2,'Base de Dados - Resíduos'!$G$3:$AW$1048576,$G220,)","v":0},{"$f":"HLOOKUP(I$2,'Base de Dados - Resíduos'!$G$3:$AW$1048576,$G220,)","v":0},{"$f":"HLOOKUP(J$2,'Base de Dados - Resíduos'!$G$3:$AW$1048576,$G220,)","v":0},{"$f":"HLOOKUP(K$2,'Base de Dados - Resíduos'!$G$3:$AW$1048576,$G220,)","v":0},{"$f":"HLOOKUP(L$2,'Base de Dados - Resíduos'!$G$3:$AW$1048576,$G220,)","v":0}]
[null,null,null,null,null,null,220,{"$f":"HLOOKUP(H$2,'Base de Dados - Resíduos'!$G$3:$AW$1048576,$G221,)","v":0},{"$f":"HLOOKUP(I$2,'Base de Dados - Resíduos'!$G$3:$AW$1048576,$G221,)","v":0},{"$f":"HLOOKUP(J$2,'Base de Dados - Resíduos'!$G$3:$AW$1048576,$G221,)","v":0},{"$f":"HLOOKUP(K$2,'Base de Dados - Resíduos'!$G$3:$AW$1048576,$G221,)","v":0},{"$f":"HLOOKUP(L$2,'Base de Dados - Resíduos'!$G$3:$AW$1048576,$G221,)","v":0}]
[null,null,null,null,null,null,221,{"$f":"HLOOKUP(H$2,'Base de Dados - Resíduos'!$G$3:$AW$1048576,$G222,)","v":0},{"$f":"HLOOKUP(I$2,'Base de Dados - Resíduos'!$G$3:$AW$1048576,$G222,)","v":0},{"$f":"HLOOKUP(J$2,'Base de Dados - Resíduos'!$G$3:$AW$1048576,$G222,)","v":0},{"$f":"HLOOKUP(K$2,'Base de Dados - Resíduos'!$G$3:$AW$1048576,$G222,)","v":0},{"$f":"HLOOKUP(L$2,'Base de Dados - Resíduos'!$G$3:$AW$1048576,$G222,)","v":0}]
[null,null,null,null,null,null,222,{"$f":"HLOOKUP(H$2,'Base de Dados - Resíduos'!$G$3:$AW$1048576,$G223,)","v":0},{"$f":"HLOOKUP(I$2,'Base de Dados - Resíduos'!$G$3:$AW$1048576,$G223,)","v":0},{"$f":"HLOOKUP(J$2,'Base de Dados - Resíduos'!$G$3:$AW$1048576,$G223,)","v":0},{"$f":"HLOOKUP(K$2,'Base de Dados - Resíduos'!$G$3:$AW$1048576,$G223,)","v":0},{"$f":"HLOOKUP(L$2,'Base de Dados - Resíduos'!$G$3:$AW$1048576,$G223,)","v":0}]
[null,null,null,null,null,null,223,{"$f":"HLOOKUP(H$2,'Base de Dados - Resíduos'!$G$3:$AW$1048576,$G224,)","v":0},{"$f":"HLOOKUP(I$2,'Base de Dados - Resíduos'!$G$3:$AW$1048576,$G224,)","v":0},{"$f":"HLOOKUP(J$2,'Base de Dados - Resíduos'!$G$3:$AW$1048576,$G224,)","v":0},{"$f":"HLOOKUP(K$2,'Base de Dados - Resíduos'!$G$3:$AW$1048576,$G224,)","v":0},{"$f":"HLOOKUP(L$2,'Base de Dados - Resíduos'!$G$3:$AW$1048576,$G224,)","v":0}]
[null,null,null,null,null,null,224,{"$f":"HLOOKUP(H$2,'Base de Dados - Resíduos'!$G$3:$AW$1048576,$G225,)","v":0},{"$f":"HLOOKUP(I$2,'Base de Dados - Resíduos'!$G$3:$AW$1048576,$G225,)","v":0},{"$f":"HLOOKUP(J$2,'Base de Dados - Resíduos'!$G$3:$AW$1048576,$G225,)","v":0},{"$f":"HLOOKUP(K$2,'Base de Dados - Resíduos'!$G$3:$AW$1048576,$G225,)","v":0},{"$f":"HLOOKUP(L$2,'Base de Dados - Resíduos'!$G$3:$AW$1048576,$G225,)","v":0}]
[null,null,null,null,null,null,225,{"$f":"HLOOKUP(H$2,'Base de Dados - Resíduos'!$G$3:$AW$1048576,$G226,)","v":0},{"$f":"HLOOKUP(I$2,'Base de Dados - Resíduos'!$G$3:$AW$1048576,$G226,)","v":0},{"$f":"HLOOKUP(J$2,'Base de Dados - Resíduos'!$G$3:$AW$1048576,$G226,)","v":0},{"$f":"HLOOKUP(K$2,'Base de Dados - Resíduos'!$G$3:$AW$1048576,$G226,)","v":0},{"$f":"HLOOKUP(L$2,'Base de Dados - Resíduos'!$G$3:$AW$1048576,$G226,)","v":0}]
[null,null,null,null,null,null,226,{"$f":"HLOOKUP(H$2,'Base de Dados - Resíduos'!$G$3:$AW$1048576,$G227,)","v":0},{"$f":"HLOOKUP(I$2,'Base de Dados - Resíduos'!$G$3:$AW$1048576,$G227,)","v":0},{"$f":"HLOOKUP(J$2,'Base de Dados - Resíduos'!$G$3:$AW$1048576,$G227,)","v":0},{"$f":"HLOOKUP(K$2,'Base de Dados - Resíduos'!$G$3:$AW$1048576,$G227,)","v":0},{"$f":"HLOOKUP(L$2,'Base de Dados - Resíduos'!$G$3:$AW$1048576,$G227,)","v":0}]
[null,null,null,null,null,null,227,{"$f":"HLOOKUP(H$2,'Base de Dados - Resíduos'!$G$3:$AW$1048576,$G228,)","v":0},{"$f":"HLOOKUP(I$2,'Base de Dados - Resíduos'!$G$3:$AW$1048576,$G228,)","v":0},{"$f":"HLOOKUP(J$2,'Base de Dados - Resíduos'!$G$3:$AW$1048576,$G228,)","v":0},{"$f":"HLOOKUP(K$2,'Base de Dados - Resíduos'!$G$3:$AW$1048576,$G228,)","v":0},{"$f":"HLOOKUP(L$2,'Base de Dados - Resíduos'!$G$3:$AW$1048576,$G228,)","v":0}]
[null,null,null,null,null,null,228,{"$f":"HLOOKUP(H$2,'Base de Dados - Resíduos'!$G$3:$AW$1048576,$G229,)","v":0},{"$f":"HLOOKUP(I$2,'Base de Dados - Resíduos'!$G$3:$AW$1048576,$G229,)","v":0},{"$f":"HLOOKUP(J$2,'Base de Dados - Resíduos'!$G$3:$AW$1048576,$G229,)","v":0},{"$f":"HLOOKUP(K$2,'Base de Dados - Resíduos'!$G$3:$AW$1048576,$G229,)","v":0},{"$f":"HLOOKUP(L$2,'Base de Dados - Resíduos'!$G$3:$AW$1048576,$G229,)","v":0}]
[null,null,null,null,null,null,229,{"$f":"HLOOKUP(H$2,'Base de Dados - Resíduos'!$G$3:$AW$1048576,$G230,)","v":0},{"$f":"HLOOKUP(I$2,'Base de Dados - Resíduos'!$G$3:$AW$1048576,$G230,)","v":0},{"$f":"HLOOKUP(J$2,'Base de Dados - Resíduos'!$G$3:$AW$1048576,$G230,)","v":0},{"$f":"HLOOKUP(K$2,'Base de Dados - Resíduos'!$G$3:$AW$1048576,$G230,)","v":0},{"$f":"HLOOKUP(L$2,'Base de Dados - Resíduos'!$G$3:$AW$1048576,$G230,)","v":0}]
[null,null,null,null,null,null,230,{"$f":"HLOOKUP(H$2,'Base de Dados - Resíduos'!$G$3:$AW$1048576,$G231,)","v":0},{"$f":"HLOOKUP(I$2,'Base de Dados - Resíduos'!$G$3:$AW$1048576,$G231,)","v":0},{"$f":"HLOOKUP(J$2,'Base de Dados - Resíduos'!$G$3:$AW$1048576,$G231,)","v":0},{"$f":"HLOOKUP(K$2,'Base de Dados - Resíduos'!$G$3:$AW$1048576,$G231,)","v":0},{"$f":"HLOOKUP(L$2,'Base de Dados - Resíduos'!$G$3:$AW$1048576,$G231,)","v":0}]
[null,null,null,null,null,null,231,{"$f":"HLOOKUP(H$2,'Base de Dados - Resíduos'!$G$3:$AW$1048576,$G232,)","v":0},{"$f":"HLOOKUP(I$2,'Base de Dados - Resíduos'!$G$3:$AW$1048576,$G232,)","v":0},{"$f":"HLOOKUP(J$2,'Base de Dados - Resíduos'!$G$3:$AW$1048576,$G232,)","v":0},{"$f":"HLOOKUP(K$2,'Base de Dados - Resíduos'!$G$3:$AW$1048576,$G232,)","v":0},{"$f":"HLOOKUP(L$2,'Base de Dados - Resíduos'!$G$3:$AW$1048576,$G232,)","v":0}]
[null,null,null,null,null,null,232,{"$f":"HLOOKUP(H$2,'Base de Dados - Resíduos'!$G$3:$AW$1048576,$G233,)","v":0},{"$f":"HLOOKUP(I$2,'Base de Dados - Resíduos'!$G$3:$AW$1048576,$G233,)","v":0},{"$f":"HLOOKUP(J$2,'Base de Dados - Resíduos'!$G$3:$AW$1048576,$G233,)","v":0},{"$f":"HLOOKUP(K$2,'Base de Dados - Resíduos'!$G$3:$AW$1048576,$G233,)","v":0},{"$f":"HLOOKUP(L$2,'Base de Dados - Resíduos'!$G$3:$AW$1048576,$G233,)","v":0}]
[null,null,null,null,null,null,233,{"$f":"HLOOKUP(H$2,'Base de Dados - Resíduos'!$G$3:$AW$1048576,$G234,)","v":0},{"$f":"HLOOKUP(I$2,'Base de Dados - Resíduos'!$G$3:$AW$1048576,$G234,)","v":0},{"$f":"HLOOKUP(J$2,'Base de Dados - Resíduos'!$G$3:$AW$1048576,$G234,)","v":0},{"$f":"HLOOKUP(K$2,'Base de Dados - Resíduos'!$G$3:$AW$1048576,$G234,)","v":0},{"$f":"HLOOKUP(L$2,'Base de Dados - Resíduos'!$G$3:$AW$1048576,$G234,)","v":0}]
[null,null,null,null,null,null,234,{"$f":"HLOOKUP(H$2,'Base de Dados - Resíduos'!$G$3:$AW$1048576,$G235,)","v":0},{"$f":"HLOOKUP(I$2,'Base de Dados - Resíduos'!$G$3:$AW$1048576,$G235,)","v":0},{"$f":"HLOOKUP(J$2,'Base de Dados - Resíduos'!$G$3:$AW$1048576,$G235,)","v":0},{"$f":"HLOOKUP(K$2,'Base de Dados - Resíduos'!$G$3:$AW$1048576,$G235,)","v":0},{"$f":"HLOOKUP(L$2,'Base de Dados - Resíduos'!$G$3:$AW$1048576,$G235,)","v":0}]
[null,null,null,null,null,null,235,{"$f":"HLOOKUP(H$2,'Base de Dados - Resíduos'!$G$3:$AW$1048576,$G236,)","v":0},{"$f":"HLOOKUP(I$2,'Base de Dados - Resíduos'!$G$3:$AW$1048576,$G236,)","v":0},{"$f":"HLOOKUP(J$2,'Base de Dados - Resíduos'!$G$3:$AW$1048576,$G236,)","v":0},{"$f":"HLOOKUP(K$2,'Base de Dados - Resíduos'!$G$3:$AW$1048576,$G236,)","v":0},{"$f":"HLOOKUP(L$2,'Base de Dados - Resíduos'!$G$3:$AW$1048576,$G236,)","v":0}]
[null,null,null,null,null,null,236,{"$f":"HLOOKUP(H$2,'Base de Dados - Resíduos'!$G$3:$AW$1048576,$G237,)","v":0},{"$f":"HLOOKUP(I$2,'Base de Dados - Resíduos'!$G$3:$AW$1048576,$G237,)","v":0},{"$f":"HLOOKUP(J$2,'Base de Dados - Resíduos'!$G$3:$AW$1048576,$G237,)","v":0},{"$f":"HLOOKUP(K$2,'Base de Dados - Resíduos'!$G$3:$AW$1048576,$G237,)","v":0},{"$f":"HLOOKUP(L$2,'Base de Dados - Resíduos'!$G$3:$AW$1048576,$G237,)","v":0}]
[null,null,null,null,null,null,237,{"$f":"HLOOKUP(H$2,'Base de Dados - Resíduos'!$G$3:$AW$1048576,$G238,)","v":0},{"$f":"HLOOKUP(I$2,'Base de Dados - Resíduos'!$G$3:$AW$1048576,$G238,)","v":0},{"$f":"HLOOKUP(J$2,'Base de Dados - Resíduos'!$G$3:$AW$1048576,$G238,)","v":0},{"$f":"HLOOKUP(K$2,'Base de Dados - Resíduos'!$G$3:$AW$1048576,$G238,)","v":0},{"$f":"HLOOKUP(L$2,'Base de Dados - Resíduos'!$G$3:$AW$1048576,$G238,)","v":0}]
[null,null,null,null,null,null,238,{"$f":"HLOOKUP(H$2,'Base de Dados - Resíduos'!$G$3:$AW$1048576,$G239,)","v":0},{"$f":"HLOOKUP(I$2,'Base de Dados - Resíduos'!$G$3:$AW$1048576,$G239,)","v":0},{"$f":"HLOOKUP(J$2,'Base de Dados - Resíduos'!$G$3:$AW$1048576,$G239,)","v":0},{"$f":"HLOOKUP(K$2,'Base de Dados - Resíduos'!$G$3:$AW$1048576,$G239,)","v":0},{"$f":"HLOOKUP(L$2,'Base de Dados - Resíduos'!$G$3:$AW$1048576,$G239,)","v":0}]
[null,null,null,null,null,null,239,{"$f":"HLOOKUP(H$2,'Base de Dados - Resíduos'!$G$3:$AW$1048576,$G240,)","v":0},{"$f":"HLOOKUP(I$2,'Base de Dados - Resíduos'!$G$3:$AW$1048576,$G240,)","v":0},{"$f":"HLOOKUP(J$2,'Base de Dados - Resíduos'!$G$3:$AW$1048576,$G240,)","v":0},{"$f":"HLOOKUP(K$2,'Base de Dados - Resíduos'!$G$3:$AW$1048576,$G240,)","v":0},{"$f":"HLOOKUP(L$2,'Base de Dados - Resíduos'!$G$3:$AW$1048576,$G240,)","v":0}]
[null,null,null,null,null,null,240,{"$f":"HLOOKUP(H$2,'Base de Dados - Resíduos'!$G$3:$AW$1048576,$G241,)","v":0},{"$f":"HLOOKUP(I$2,'Base de Dados - Resíduos'!$G$3:$AW$1048576,$G241,)","v":0},{"$f":"HLOOKUP(J$2,'Base de Dados - Resíduos'!$G$3:$AW$1048576,$G241,)","v":0},{"$f":"HLOOKUP(K$2,'Base de Dados - Resíduos'!$G$3:$AW$1048576,$G241,)","v":0},{"$f":"HLOOKUP(L$2,'Base de Dados - Resíduos'!$G$3:$AW$1048576,$G241,)","v":0}]
[null,null,null,null,null,null,241,{"$f":"HLOOKUP(H$2,'Base de Dados - Resíduos'!$G$3:$AW$1048576,$G242,)","v":0},{"$f":"HLOOKUP(I$2,'Base de Dados - Resíduos'!$G$3:$AW$1048576,$G242,)","v":0},{"$f":"HLOOKUP(J$2,'Base de Dados - Resíduos'!$G$3:$AW$1048576,$G242,)","v":0},{"$f":"HLOOKUP(K$2,'Base de Dados - Resíduos'!$G$3:$AW$1048576,$G242,)","v":0},{"$f":"HLOOKUP(L$2,'Base de Dados - Resíduos'!$G$3:$AW$1048576,$G242,)","v":0}]
[null,null,null,null,null,null,242,{"$f":"HLOOKUP(H$2,'Base de Dados - Resíduos'!$G$3:$AW$1048576,$G243,)","v":0},{"$f":"HLOOKUP(I$2,'Base de Dados - Resíduos'!$G$3:$AW$1048576,$G243,)","v":0},{"$f":"HLOOKUP(J$2,'Base de Dados - Resíduos'!$G$3:$AW$1048576,$G243,)","v":0},{"$f":"HLOOKUP(K$2,'Base de Dados - Resíduos'!$G$3:$AW$1048576,$G243,)","v":0},{"$f":"HLOOKUP(L$2,'Base de Dados - Resíduos'!$G$3:$AW$1048576,$G243,)","v":0}]
[null,null,null,null,null,null,243,{"$f":"HLOOKUP(H$2,'Base de Dados - Resíduos'!$G$3:$AW$1048576,$G244,)","v":0},{"$f":"HLOOKUP(I$2,'Base de Dados - Resíduos'!$G$3:$AW$1048576,$G244,)","v":0},{"$f":"HLOOKUP(J$2,'Base de Dados - Resíduos'!$G$3:$AW$1048576,$G244,)","v":0},{"$f":"HLOOKUP(K$2,'Base de Dados - Resíduos'!$G$3:$AW$1048576,$G244,)","v":0},{"$f":"HLOOKUP(L$2,'Base de Dados - Resíduos'!$G$3:$AW$1048576,$G244,)","v":0}]
[null,null,null,null,null,null,244,{"$f":"HLOOKUP(H$2,'Base de Dados - Resíduos'!$G$3:$AW$1048576,$G245,)","v":0},{"$f":"HLOOKUP(I$2,'Base de Dados - Resíduos'!$G$3:$AW$1048576,$G245,)","v":0},{"$f":"HLOOKUP(J$2,'Base de Dados - Resíduos'!$G$3:$AW$1048576,$G245,)","v":0},{"$f":"HLOOKUP(K$2,'Base de Dados - Resíduos'!$G$3:$AW$1048576,$G245,)","v":0},{"$f":"HLOOKUP(L$2,'Base de Dados - Resíduos'!$G$3:$AW$1048576,$G245,)","v":0}]
[null,null,null,null,null,null,245,{"$f":"HLOOKUP(H$2,'Base de Dados - Resíduos'!$G$3:$AW$1048576,$G246,)","v":0},{"$f":"HLOOKUP(I$2,'Base de Dados - Resíduos'!$G$3:$AW$1048576,$G246,)","v":0},{"$f":"HLOOKUP(J$2,'Base de Dados - Resíduos'!$G$3:$AW$1048576,$G246,)","v":0},{"$f":"HLOOKUP(K$2,'Base de Dados - Resíduos'!$G$3:$AW$1048576,$G246,)","v":0},{"$f":"HLOOKUP(L$2,'Base de Dados - Resíduos'!$G$3:$AW$1048576,$G246,)","v":0}]
[null,null,null,null,null,null,246,{"$f":"HLOOKUP(H$2,'Base de Dados - Resíduos'!$G$3:$AW$1048576,$G247,)","v":0},{"$f":"HLOOKUP(I$2,'Base de Dados - Resíduos'!$G$3:$AW$1048576,$G247,)","v":0},{"$f":"HLOOKUP(J$2,'Base de Dados - Resíduos'!$G$3:$AW$1048576,$G247,)","v":0},{"$f":"HLOOKUP(K$2,'Base de Dados - Resíduos'!$G$3:$AW$1048576,$G247,)","v":0},{"$f":"HLOOKUP(L$2,'Base de Dados - Resíduos'!$G$3:$AW$1048576,$G247,)","v":0}]
[null,null,null,null,null,null,247,{"$f":"HLOOKUP(H$2,'Base de Dados - Resíduos'!$G$3:$AW$1048576,$G248,)","v":0},{"$f":"HLOOKUP(I$2,'Base de Dados - Resíduos'!$G$3:$AW$1048576,$G248,)","v":0},{"$f":"HLOOKUP(J$2,'Base de Dados - Resíduos'!$G$3:$AW$1048576,$G248,)","v":0},{"$f":"HLOOKUP(K$2,'Base de Dados - Resíduos'!$G$3:$AW$1048576,$G248,)","v":0},{"$f":"HLOOKUP(L$2,'Base de Dados - Resíduos'!$G$3:$AW$1048576,$G248,)","v":0}]
[null,null,null,null,null,null,248,{"$f":"HLOOKUP(H$2,'Base de Dados - Resíduos'!$G$3:$AW$1048576,$G249,)","v":0},{"$f":"HLOOKUP(I$2,'Base de Dados - Resíduos'!$G$3:$AW$1048576,$G249,)","v":0},{"$f":"HLOOKUP(J$2,'Base de Dados - Resíduos'!$G$3:$AW$1048576,$G249,)","v":0},{"$f":"HLOOKUP(K$2,'Base de Dados - Resíduos'!$G$3:$AW$1048576,$G249,)","v":0},{"$f":"HLOOKUP(L$2,'Base de Dados - Resíduos'!$G$3:$AW$1048576,$G249,)","v":0}]
[null,null,null,null,null,null,249,{"$f":"HLOOKUP(H$2,'Base de Dados - Resíduos'!$G$3:$AW$1048576,$G250,)","v":0},{"$f":"HLOOKUP(I$2,'Base de Dados - Resíduos'!$G$3:$AW$1048576,$G250,)","v":0},{"$f":"HLOOKUP(J$2,'Base de Dados - Resíduos'!$G$3:$AW$1048576,$G250,)","v":0},{"$f":"HLOOKUP(K$2,'Base de Dados - Resíduos'!$G$3:$AW$1048576,$G250,)","v":0},{"$f":"HLOOKUP(L$2,'Base de Dados - Resíduos'!$G$3:$AW$1048576,$G250,)","v":0}]

{"sheet":"ID","index":10,"n_rows":92,"n_cols":11,"rows_kept":92,"cut":false,"hidden":true,"merged":[]}
[]
[null,null,null,null,null,null,{"$f":"IFERROR('Indicadores - Drenagem'!A2,\"\")","v":2019},{"$f":"G2+1","v":2020},{"$f":"H2+1","v":2021},{"$f":"I2+1","v":2022},{"$f":"J2+1","v":2023}]
[null,"Número de Reclamações",null,null,null,3,{"$f":"IFERROR(HLOOKUP(G$2,'Base de Dados - Drenagem'!$G$2:$AA$64,$F3,),\"\")","v":10},{"$f":"IFERROR(HLOOKUP(H$2,'Base de Dados - Drenagem'!$G$2:$AA$64,$F3,),\"\")","v":2},{"$f":"IFERROR(HLOOKUP(I$2,'Base de Dados - Drenagem'!$G$2:$AA$64,$F3,),\"\")","v":0},{"$f":"IFERROR(HLOOKUP(J$2,'Base de Dados - Drenagem'!$G$2:$AA$64,$F3,),\"\")","v":0},{"$f":"IFERROR(HLOOKUP(K$2,'Base de Dados - Drenagem'!$G$2:$AA$64,$F3,),\"\")","v":0}]
[null,"Extensão de Rede Cadastrada",null,null,null,4,{"$f":"IFERROR(HLOOKUP(G$2,'Base de Dados - Drenagem'!$G$2:$AA$64,$F4,),\"\")","v":5},{"$f":"IFERROR(HLOOKUP(H$2,'Base de Dados - Drenagem'!$G$2:$AA$64,$F4,),\"\")","v":3},{"$f":"IFERROR(HLOOKUP(I$2,'Base de Dados - Drenagem'!$G$2:$AA$64,$F4,),\"\")","v":0},{"$f":"IFERROR(HLOOKUP(J$2,'Base de Dados - Drenagem'!$G$2:$AA$64,$F4,),\"\")","v":0},{"$f":"IFERROR(HLOOKUP(K$2,'Base de Dados - Drenagem'!$G$2:$AA$64,$F4,),\"\")","v":0}]
[null," Extensão de Rede Estimada",null,null,null,5,{"$f":"IFERROR(HLOOKUP(G$2,'Base de Dados - Drenagem'!$G$2:$AA$64,$F5,),\"\")","v":3},{"$f":"IFERROR(HLOOKUP(H$2,'Base de Dados - Drenagem'!$G$2:$AA$64,$F5,),\"\")","v":4},{"$f":"IFERROR(HLOOKUP(I$2,'Base de Dados - Drenagem'!$G$2:$AA$64,$F5,),\"\")","v":0},{"$f":"IFERROR(HLOOKUP(J$2,'Base de Dados - Drenagem'!$G$2:$AA$64,$F5,),\"\")","v":0},{"$f":"IFERROR(HLOOKUP(K$2,'Base de Dados - Drenagem'!$G$2:$AA$64,$F5,),\"\")","v":0}]
[null,"Extensão Beneficiada com Sistema de Drenagem Superficial",null,null,null,6,{"$f":"IFERROR(HLOOKUP(G$2,'Base de Dados - Drenagem'!$G$2:$AA$64,$F6,),\"\")","v":0},{"$f":"IFERROR(HLOOKUP(H$2,'Base de Dados - Drenagem'!$G$2:$AA$64,$F6,),\"\")","v":0},{"$f":"IFERROR(HLOOKUP(I$2,'Base de Dados - Drenagem'!$G$2:$AA$64,$F6,),\"\")","v":0},{"$f":"IFERROR(HLOOKUP(J$2,'Base de Dados - Drenagem'!$G$2:$AA$64,$F6,),\"\")","v":0},{"$f":"IFERROR(HLOOKUP(K$2,'Base de Dados - Drenagem'!$G$2:$AA$64,$F6,),\"\")","v":0}]
[null,"Extensão Total de Vias",null,null,null,7,{"$f":"IFERROR(HLOOKUP(G$2,'Base de Dados - Drenagem'!$G$2:$AA$64,$F7,),\"\")","v":0},{"$f":"IFERROR(HLOOKUP(H$2,'Base de Dados - Drenagem'!$G$2:$AA$64,$F7,),\"\")","v":0},{"$f":"IFERROR(HLOOKUP(I$2,'Base de Dados - Drenagem'!$G$2:$AA$64,$F7,),\"\")","v":0},{"$f":"IFERROR(HLOOKUP(J$2,'Base de Dados - Drenagem'!$G$2:$AA$64,$F7,),\"\")","v":0},{"$f":"IFERROR(HLOOKUP(K$2,'Base de Dados - Drenagem'!$G$2:$AA$64,$F7,),\"\")","v":0}]
[null,"Extensão Beneficiada com Sistema de Drenagem Subterrênea",null,null,null,8,{"$f":"IFERROR(HLOOKUP(G$2,'Base de Dados - Drenagem'!$G$2:$AA$64,$F8,),\"\")","v":0},{"$f":"IFERROR(HLOOKUP(H$2,'Base de Dados - Drenagem'!$G$2:$AA$64,$F8,),\"\")","v":0},{"$f":"IFERROR(HLOOKUP(I$2,'Base de Dados - Drenagem'!$G$2:$AA$64,$F8,),\"\")","v":0},{"$f":"IFERROR(HLOOKUP(J$2,'Base de Dados - Drenagem'!$G$2:$AA$64,$F8,),\"\")","v":0},{"$f":"IFERROR(HLOOKUP(K$2,'Base de Dados - Drenagem'!$G$2:$AA$64,$F8,),\"\")","v":0}]
[null," Extensão Total de Vias",null,null,null,9,{"$f":"IFERROR(HLOOKUP(G$2,'Base de Dados - Drenagem'!$G$2:$AA$64,$F9,),\"\")","v":0},{"$f":"IFERROR(HLOOKUP(H$2,'Base de Dados - Drenagem'!$G$2:$AA$64,$F9,),\"\")","v":0},{"$f":"IFERROR(HLOOKUP(I$2,'Base de Dados - Drenagem'!$G$2:$AA$64,$F9,),\"\")","v":0},{"$f":"IFERROR(HLOOKUP(J$2,'Base de Dados - Drenagem'!$G$2:$AA$64,$F9,),\"\")","v":0},{"$f":"IFERROR(HLOOKUP(K$2,'Base de Dados - Drenagem'!$G$2:$AA$64,$F9,),\"\")","v":0}]
[null,"Número de Bocas de Lobo Inspecionadas",null,null,null,10,{"$f":"IFERROR(HLOOKUP(G$2,'Base de Dados - Drenagem'!$G$2:$AA$64,$F10,),\"\")","v":0},{"$f":"IFERROR(HLOOKUP(H$2,'Base de Dados - Drenagem'!$G$2:$AA$64,$F10,),\"\")","v":0},{"$f":"IFERROR(HLOOKUP(I$2,'Base de Dados - Drenagem'!$G$2:$AA$64,$F10,),\"\")","v":0},{"$f":"IFERROR(HLOOKUP(J$2,'Base de Dados - Drenagem'!$G$2:$AA$64,$F10,),\"\")","v":0},{"$f":"IFERROR(HLOOKUP(K$2,'Base de Dados - Drenagem'!$G$2:$AA$64,$F10,),\"\")","v":0}]
[null," Número de Bocas de Lobo Existentes",null,null,null,11,{"$f":"IFERROR(HLOOKUP(G$2,'Base de Dados - Drenagem'!$G$2:$AA$64,$F11,),\"\")","v":0},{"$f":"IFERROR(HLOOKUP(H$2,'Base de Dados - Drenagem'!$G$2:$AA$64,$F11,),\"\")","v":0},{"$f":"IFERROR(HLOOKUP(I$2,'Base de Dados - Drenagem'!$G$2:$AA$64,$F11,),\"\")","v":0},{"$f":"IFERROR(HLOOKUP(J$2,'Base de Dados - Drenagem'!$G$2:$AA$64,$F11,),\"\")","v":0},{"$f":"IFERROR(HLOOKUP(K$2,'Base de Dados - Drenagem'!$G$2:$AA$64,$F11,),\"\")","v":0}]
[null,"Número de Bocas de Lobo Limpas",null,null,null,12,{"$f":"IFERROR(HLOOKUP(G$2,'Base de Dados - Drenagem'!$G$2:$AA$64,$F12,),\"\")","v":0},{"$f":"IFERROR(HLOOKUP(H$2,'Base de Dados - Drenagem'!$G$2:$AA$64,$F12,),\"\")","v":0},{"$f":"IFERROR(HLOOKUP(I$2,'Base de Dados - Drenagem'!$G$2:$AA$64,$F12,),\"\")","v":0},{"$f":"IFERROR(HLOOKUP(J$2,'Base de Dados - Drenagem'!$G$2:$AA$64,$F12,),\"\")","v":0},{"$f":"IFERROR(HLOOKUP(K$2,'Base de Dados - Drenagem'!$G$2:$AA$64,$F12,),\"\")","v":0}]
[null,"Número de Bocas de Lobo Existentes",null,null,null,13,{"$f":"IFERROR(HLOOKUP(G$2,'Base de Dados - Drenagem'!$G$2:$AA$64,$F13,),\"\")","v":0},{"$f":"IFERROR(HLOOKUP(H$2,'Base de Dados - Drenagem'!$G$2:$AA$64,$F13,),\"\")","v":0},{"$f":"IFERROR(HLOOKUP(I$2,'Base de Dados - Drenagem'!$G$2:$AA$64,$F13,),\"\")","v":0},{"$f":"IFERROR(HLOOKUP(J$2,'Base de Dados - Drenagem'!$G$2:$AA$64,$F13,),\"\")","v":0},{"$f":"IFERROR(HLOOKUP(K$2,'Base de Dados - Drenagem'!$G$2:$AA$64,$F13,),\"\")","v":0}]
[null,"Número de Bocas de Lobo com Manutenção",null,null,null,14,{"$f":"IFERROR(HLOOKUP(G$2,'Base de Dados - Drenagem'!$G$2:$AA$64,$F14,),\"\")","v":0},{"$f":"IFERROR(HLOOKUP(H$2,'Base de Dados - Drenagem'!$G$2:$AA$64,$F14,),\"\")","v":0},{"$f":"IFERROR(HLOOKUP(I$2,'Base de Dados - Drenagem'!$G$2:$AA$64,$F14,),\"\")","v":0},{"$f":"IFERROR(HLOOKUP(J$2,'Base de Dados - Drenagem'!$G$2:$AA$64,$F14,),\"\")","v":0},{"$f":"IFERROR(HLOOKUP(K$2,'Base de Dados - Drenagem'!$G$2:$AA$64,$F14,),\"\")","v":0}]
[null,"Número de Bocas de Lobo Existentes",null,null,null,15,{"$f":"IFERROR(HLOOKUP(G$2,'Base de Dados - Drenagem'!$G$2:$AA$64,$F15,),\"\")","v":0},{"$f":"IFERROR(HLOOKUP(H$2,'Base de Dados - Drenagem'!$G$2:$AA$64,$F15,),\"\")","v":0},{"$f":"IFERROR(HLOOKUP(I$2,'Base de Dados - Drenagem'!$G$2:$AA$64,$F15,),\"\")","v":0},{"$f":"IFERROR(HLOOKUP(J$2,'Base de Dados - Drenagem'!$G$2:$AA$64,$F15,),\"\")","v":0},{"$f":"IFERROR(HLOOKUP(K$2,'Base de Dados - Drenagem'!$G$2:$AA$64,$F15,),\"\")","v":0}]
[null,"Quilômetros de Galerias Inspecionadas",null,null,null,16,{"$f":"IFERROR(HLOOKUP(G$2,'Base de Dados - Drenagem'!$G$2:$AA$64,$F16,),\"\")","v":0},{"$f":"IFERROR(HLOOKUP(H$2,'Base de Dados - Drenagem'!$G$2:$AA$64,$F16,),\"\")","v":0},{"$f":"IFERROR(HLOOKUP(I$2,'Base de Dados - Drenagem'!$G$2:$AA$64,$F16,),\"\")","v":0},{"$f":"IFERROR(HLOOKUP(J$2,'Base de Dados - Drenagem'!$G$2:$AA$64,$F16,),\"\")","v":0},{"$f":"IFERROR(HLOOKUP(K$2,'Base de Dados - Drenagem'!$G$2:$AA$64,$F16,),\"\")","v":0}]
[null," Quilômetros de Galerias Existentes",null,null,null,17,{"$f":"IFERROR(HLOOKUP(G$2,'Base de Dados - Drenagem'!$G$2:$AA$64,$F17,),\"\")","v":0},{"$f":"IFERROR(HLOOKUP(H$2,'Base de Dados - Drenagem'!$G$2:$AA$64,$F17,),\"\")","v":0},{"$f":"IFERROR(HLOOKUP(I$2,'Base de Dados - Drenagem'!$G$2:$AA$64,$F17,),\"\")","v":0},{"$f":"IFERROR(HLOOKUP(J$2,'Base de Dados - Drenagem'!$G$2:$AA$64,$F17,),\"\")","v":0},{"$f":"IFERROR(HLOOKUP(K$2,'Base de Dados - Drenagem'!$G$2:$AA$64,$F17,),\"\")","v":0}]
[null,"Quilômetros de Galerias Limpas",null,null,null,18,{"$f":"IFERROR(HLOOKUP(G$2,'Base de Dados - Drenagem'!$G$2:$AA$64,$F18,),\"\")","v":0},{"$f":"IFERROR(HLOOKUP(H$2,'Base de Dados - Drenagem'!$G$2:$AA$64,$F18,),\"\")","v":0},{"$f":"IFERROR(HLOOKUP(I$2,'Base de Dados - Drenagem'!$G$2:$AA$64,$F18,),\"\")","v":0},{"$f":"IFERROR(HLOOKUP(J$2,'Base de Dados - Drenagem'!$G$2:$AA$64,$F18,),\"\")","v":0},{"$f":"IFERROR(HLOOKUP(K$2,'Base de Dados - Drenagem'!$G$2:$AA$64,$F18,),\"\")","v":0}]
[null,"Quilômetros de Galerias Existentes",null,null,null,19,{"$f":"IFERROR(HLOOKUP(G$2,'Base de Dados - Drenagem'!$G$2:$AA$64,$F19,),\"\")","v":0},{"$f":"IFERROR(HLOOKUP(H$2,'Base de Dados - Drenagem'!$G$2:$AA$64,$F19,),\"\")","v":0},{"$f":"IFERROR(HLOOKUP(I$2,'Base de Dados - Drenagem'!$G$2:$AA$64,$F19,),\"\")","v":0},{"$f":"IFERROR(HLOOKUP(J$2,'Base de Dados - Drenagem'!$G$2:$AA$64,$F19,),\"\")","v":0},{"$f":"IFERROR(HLOOKUP(K$2,'Base de Dados - Drenagem'!$G$2:$AA$64,$F19,),\"\")","v":0}]
[null,"Quilômetros de Galerias com Manutenção",null,null,null,20,{"$f":"IFERROR(HLOOKUP(G$2,'Base de Dados - Drenagem'!$G$2:$AA$64,$F20,),\"\")","v":0},{"$f":"IFERROR(HLOOKUP(H$2,'Base de Dados - Drenagem'!$G$2:$AA$64,$F20,),\"\")","v":0},{"$f":"IFERROR(HLOOKUP(I$2,'Base de Dados - Drenagem'!$G$2:$AA$64,$F20,),\"\")","v":0},{"$f":"IFERROR(HLOOKUP(J$2,'Base de Dados - Drenagem'!$G$2:$AA$64,$F20,),\"\")","v":0},{"$f":"IFERROR(HLOOKUP(K$2,'Base de Dados - Drenagem'!$G$2:$AA$64,$F20,),\"\")","v":0}]
[null,"Quilômetros de Galerias Existentes",null,null,null,21,{"$f":"IFERROR(HLOOKUP(G$2,'Base de Dados - Drenagem'!$G$2:$AA$64,$F21,),\"\")","v":0},{"$f":"IFERROR(HLOOKUP(H$2,'Base de Dados - Drenagem'!$G$2:$AA$64,$F21,),\"\")","v":0},{"$f":"IFERROR(HLOOKUP(I$2,'Base de Dados - Drenagem'!$G$2:$AA$64,$F21,),\"\")","v":0},{"$f":"IFERROR(HLOOKUP(J$2,'Base de Dados - Drenagem'!$G$2:$AA$64,$F21,),\"\")","v":0},{"$f":"IFERROR(HLOOKUP(K$2,'Base de Dados - Drenagem'!$G$2:$AA$64,$F21,),\"\")","v":0}]
[null,"Quilômetros de Canais Inspecionados",null,null,null,22,{"$f":"IFERROR(HLOOKUP(G$2,'Base de Dados - Drenagem'!$G$2:$AA$64,$F22,),\"\")","v":0},{"$f":"IFERROR(HLOOKUP(H$2,'Base de Dados - Drenagem'!$G$2:$AA$64,$F22,),\"\")","v":0},{"$f":"IFERROR(HLOOKUP(I$2,'Base de Dados - Drenagem'!$G$2:$AA$64,$F22,),\"\")","v":0},{"$f":"IFERROR(HLOOKUP(J$2,'Base de Dados - Drenagem'!$G$2:$AA$64,$F22,),\"\")","v":0},{"$f":"IFERROR(HLOOKUP(K$2,'Base de Dados - Drenagem'!$G$2:$AA$64,$F22,),\"\")","v":0}]
[null,"Quilômetros de Canais Existentes",null,null,null,23,{"$f":"IFERROR(HLOOKUP(G$2,'Base de Dados - Drenagem'!$G$2:$AA$64,$F23,),\"\")","v":0},{"$f":"IFERROR(HLOOKUP(H$2,'Base de Dados - Drenagem'!$G$2:$AA$64,$F23,),\"\")","v":0},{"$f":"IFERROR(HLOOKUP(I$2,'Base de Dados - Drenagem'!$G$2:$AA$64,$F23,),\"\")","v":0},{"$f":"IFERROR(HLOOKUP(J$2,'Base de Dados - Drenagem'!$G$2:$AA$64,$F23,),\"\")","v":0},{"$f":"IFERROR(HLOOKUP(K$2,'Base de Dados - Drenagem'!$G$2:$AA$64,$F23,),\"\")","v":0}]
[null,"Quilômetros de Canais Inspecionados",null,null,null,24,{"$f":"IFERROR(HLOOKUP(G$2,'Base de Dados - Drenagem'!$G$2:$AA$64,$F24,),\"\")","v":0},{"$f":"IFERROR(HLOOKUP(H$2,'Base de Dados - Drenagem'!$G$2:$AA$64,$F24,),\"\")","v":0},{"$f":"IFERROR(HLOOKUP(I$2,'Base de Dados - Drenagem'!$G$2:$AA$64,$F24,),\"\")","v":0},{"$f":"IFERROR(HLOOKUP(J$2,'Base de Dados - Drenagem'!$G$2:$AA$64,$F24,),\"\")","v":0},{"$f":"IFERROR(HLOOKUP(K$2,'Base de Dados - Drenagem'!$G$2:$AA$64,$F24,),\"\")","v":0}]
[null,"Quilômetros de Canais Limpos",null,null,null,25,{"$f":"IFERROR(HLOOKUP(G$2,'Base de Dados - Drenagem'!$G$2:$AA$64,$F25,),\"\")","v":0},{"$f":"IFERROR(HLOOKUP(H$2,'Base de Dados - Drenagem'!$G$2:$AA$64,$F25,),\"\")","v":0},{"$f":"IFERROR(HLOOKUP(I$2,'Base de Dados - Drenagem'!$G$2:$AA$64,$F25,),\"\")","v":0},{"$f":"IFERROR(HLOOKUP(J$2,'Base de Dados - Drenagem'!$G$2:$AA$64,$F25,),\"\")","v":0},{"$f":"IFERROR(HLOOKUP(K$2,'Base de Dados - Drenagem'!$G$2:$AA$64,$F25,),\"\")","v":0}]
[null,"Quilômetros de Canais Existentes",null,null,null,26,{"$f":"IFERROR(HLOOKUP(G$2,'Base de Dados - Drenagem'!$G$2:$AA$64,$F26,),\"\")","v":0},{"$f":"IFERROR(HLOOKUP(H$2,'Base de Dados - Drenagem'!$G$2:$AA$64,$F26,),\"\")","v":0},{"$f":"IFERROR(HLOOKUP(I$2,'Base de Dados - Drenagem'!$G$2:$AA$64,$F26,),\"\")","v":0},{"$f":"IFERROR(HLOOKUP(J$2,'Base de Dados - Drenagem'!$G$2:$AA$64,$F26,),\"\")","v":0},{"$f":"IFERROR(HLOOKUP(K$2,'Base de Dados - Drenagem'!$G$2:$AA$64,$F26,),\"\")","v":0}]
[null,"Quilômetros de Canais com Manutenção",null,null,null,27,{"$f":"IFERROR(HLOOKUP(G$2,'Base de Dados - Drenagem'!$G$2:$AA$64,$F27,),\"\")","v":0},{"$f":"IFERROR(HLOOKUP(H$2,'Base de Dados - Drenagem'!$G$2:$AA$64,$F27,),\"\")","v":0},{"$f":"IFERROR(HLOOKUP(I$2,'Base de Dados - Drenagem'!$G$2:$AA$64,$F27,),\"\")","v":0},{"$f":"IFERROR(HLOOKUP(J$2,'Base de Dados - Drenagem'!$G$2:$AA$64,$F27,),\"\")","v":0},{"$f":"IFERROR(HLOOKUP(K$2,'Base de Dados - Drenagem'!$G$2:$AA$64,$F27,),\"\")","v":0}]
[null,"Quilômetros de Canais Existentes",null,null,null,28,{"$f":"IFERROR(HLOOKUP(G$2,'Base de Dados - Drenagem'!$G$2:$AA$64,$F28,),\"\")","v":0},{"$f":"IFERROR(HLOOKUP(H$2,'Base de Dados - Drenagem'!$G$2:$AA$64,$F28,),\"\")","v":0},{"$f":"IFERROR(HLOOKUP(I$2,'Base de Dados - Drenagem'!$G$2:$AA$64,$F28,),\"\")","v":0},{"$f":"IFERROR(HLOOKUP(J$2,'Base de Dados - Drenagem'!$G$2:$AA$64,$F28,),\"\")","v":0},{"$f":"IFERROR(HLOOKUP(K$2,'Base de Dados - Drenagem'!$G$2:$AA$64,$F28,),\"\")","v":0}]
[null,"Número de Pontos Inundados",null,null,null,29,{"$f":"IFERROR(HLOOKUP(G$2,'Base de Dados - Drenagem'!$G$2:$AA$64,$F29,),\"\")","v":0},{"$f":"IFERROR(HLOOKUP(H$2,'Base de Dados - Drenagem'!$G$2:$AA$64,$F29,),\"\")","v":0},{"$f":"IFERROR(HLOOKUP(I$2,'Base de Dados - Drenagem'!$G$2:$AA$64,$F29,),\"\")","v":0},{"$f":"IFERROR(HLOOKUP(J$2,'Base de Dados - Drenagem'!$G$2:$AA$64,$F29,),\"\")","v":0},{"$f":"IFERROR(HLOOKUP(K$2,'Base de Dados - Drenagem'!$G$2:$AA$64,$F29,),\"\")","v":0}]
[null,"Extensão de ruas inundadas ao ano",null,null,null,30,{"$f":"IFERROR(HLOOKUP(G$2,'Base de Dados - Drenagem'!$G$2:$AA$64,$F30,),\"\")","v":0},{"$f":"IFERROR(HLOOKUP(H$2,'Base de Dados - Drenagem'!$G$2:$AA$64,$F30,),\"\")","v":0},{"$f":"IFERROR(HLOOKUP(I$2,'Base de Dados - Drenagem'!$G$2:$AA$64,$F30,),\"\")","v":0},{"$f":"IFERROR(HLOOKUP(J$2,'Base de Dados - Drenagem'!$G$2:$AA$64,$F30,),\"\")","v":0},{"$f":"IFERROR(HLOOKUP(K$2,'Base de Dados - Drenagem'!$G$2:$AA$64,$F30,),\"\")","v":0}]
["GE001","Área territorial total do município (Fonte: IBGE):",null,null,null,31,{"$f":"IFERROR(HLOOKUP(G$2,'Base de Dados - Drenagem'!$G$2:$AA$64,$F31,),\"\")","v":0},{"$f":"IFERROR(HLOOKUP(H$2,'Base de Dados - Drenagem'!$G$2:$AA$64,$F31,),\"\")","v":0},{"$f":"IFERROR(HLOOKUP(I$2,'Base de Dados - Drenagem'!$G$2:$AA$64,$F31,),\"\")","v":0},{"$f":"IFERROR(HLOOKUP(J$2,'Base de Dados - Drenagem'!$G$2:$AA$64,$F31,),\"\")","v":0},{"$f":"IFERROR(HLOOKUP(K$2,'Base de Dados - Drenagem'!$G$2:$AA$64,$F31,),\"\")","v":0}]
["GE002","Área urbana total, incluindo áreas urbanas isoladas: ",null,null,null,32,{"$f":"IFERROR(HLOOKUP(G$2,'Base de Dados - Drenagem'!$G$2:$AA$64,$F32,),\"\")","v":0},{"$f":"IFERROR(HLOOKUP(H$2,'Base de Dados - Drenagem'!$G$2:$AA$64,$F32,),\"\")","v":0},{"$f":"IFERROR(HLOOKUP(I$2,'Base de Dados - Drenagem'!$G$2:$AA$64,$F32,),\"\")","v":0},{"$f":"IFERROR(HLOOKUP(J$2,'Base de Dados - Drenagem'!$G$2:$AA$64,$F32,),\"\")","v":0},{"$f":"IFERROR(HLOOKUP(K$2,'Base de Dados - Drenagem'!$G$2:$AA$64,$F32,),\"\")","v":0}]
["GE006","População urbana residente no município (estimada conforme taxa de urbanização do último\nCenso):",null,null,null,33,{"$f":"IFERROR(HLOOKUP(G$2,'Base de Dados - Drenagem'!$G$2:$AA$64,$F33,),\"\")","v":0},{"$f":"IFERROR(HLOOKUP(H$2,'Base de Dados - Drenagem'!$G$2:$AA$64,$F33,),\"\")","v":0},{"$f":"IFERROR(HLOOKUP(I$2,'Base de Dados - Drenagem'!$G$2:$AA$64,$F33,),\"\")","v":0},{"$f":"IFERROR(HLOOKUP(J$2,'Base de Dados - Drenagem'!$G$2:$AA$64,$F33,),\"\")","v":0},{"$f":"IFERROR(HLOOKUP(K$2,'Base de Dados - Drenagem'!$G$2:$AA$64,$F33,),\"\")","v":0}]
["GE008","Quantidade total de domicílios urbanos existentes no município:",null,null,null,34,{"$f":"IFERROR(HLOOKUP(G$2,'Base de Dados - Drenagem'!$G$2:$AA$64,$F34,),\"\")","v":0},{"$f":"IFERROR(HLOOKUP(H$2,'Base de Dados - Drenagem'!$G$2:$AA$64,$F34,),\"\")","v":0},{"$f":"IFERROR(HLOOKUP(I$2,'Base de Dados - Drenagem'!$G$2:$AA$64,$F34,),\"\")","v":0},{"$f":"IFERROR(HLOOKUP(J$2,'Base de Dados - Drenagem'!$G$2:$AA$64,$F34,),\"\")","v":0},{"$f":"IFERROR(HLOOKUP(K$2,'Base de Dados - Drenagem'!$G$2:$AA$64,$F34,),\"\")","v":0}]
["AD001","Quantidade de pessoal próprio alocado nos serviços de Drenagem e Manejo das Águas\nPluviais Urbanas:",null,null,null,35,{"$f":"IFERROR(HLOOKUP(G$2,'Base de Dados - Drenagem'!$G$2:$AA$64,$F35,),\"\")","v":0},{"$f":"IFERROR(HLOOKUP(H$2,'Base de Dados - Drenagem'!$G$2:$AA$64,$F35,),\"\")","v":0},{"$f":"IFERROR(HLOOKUP(I$2,'Base de Dados - Drenagem'!$G$2:$AA$64,$F35,),\"\")","v":0},{"$f":"IFERROR(HLOOKUP(J$2,'Base de Dados - Drenagem'!$G$2:$AA$64,$F35,),\"\")","v":0},{"$f":"IFERROR(HLOOKUP(K$2,'Base de Dados - Drenagem'!$G$2:$AA$64,$F35,),\"\")","v":0}]
["AD003","Quantidade total de pessoal alocado nos serviços de Drenagem e Manejo das Águas Pluviais\nUrbanas:",null,null,null,36,{"$f":"IFERROR(HLOOKUP(G$2,'Base de Dados - Drenagem'!$G$2:$AA$64,$F36,),\"\")","v":0},{"$f":"IFERROR(HLOOKUP(H$2,'Base de Dados - Drenagem'!$G$2:$AA$64,$F36,),\"\")","v":0},{"$f":"IFERROR(HLOOKUP(I$2,'Base de Dados - Drenagem'!$G$2:$AA$64,$F36,),\"\")","v":0},{"$f":"IFERROR(HLOOKUP(J$2,'Base de Dados - Drenagem'!$G$2:$AA$64,$F36,),\"\")","v":0},{"$f":"IFERROR(HLOOKUP(K$2,'Base de Dados - Drenagem'!$G$2:$AA$64,$F36,),\"\")","v":0}]
["CB003","Quantidade total de imóveis urbanos tributados pelos serviços de Drenagem e Manejo das\nÁguas Pluviais Urbanas:",null,null,null,37,{"$f":"IFERROR(HLOOKUP(G$2,'Base de Dados - Drenagem'!$G$2:$AA$64,$F37,),\"\")","v":0},{"$f":"IFERROR(HLOOKUP(H$2,'Base de Dados - Drenagem'!$G$2:$AA$64,$F37,),\"\")","v":0},{"$f":"IFERROR(HLOOKUP(I$2,'Base de Dados - Drenagem'!$G$2:$AA$64,$F37,),\"\")","v":0},{"$f":"IFERROR(HLOOKUP(J$2,'Base de Dados - Drenagem'!$G$2:$AA$64,$F37,),\"\")","v":0},{"$f":"IFERROR(HLOOKUP(K$2,'Base de Dados - Drenagem'!$G$2:$AA$64,$F37,),\"\")","v":0}]
["FN005","Receita operacional total dos serviços de Drenagem e Manejo das Águas Pluviais Urbanas:",null,null,null,38,{"$f":"IFERROR(HLOOKUP(G$2,'Base de Dados - Drenagem'!$G$2:$AA$64,$F38,),\"\")","v":0},{"$f":"IFERROR(HLOOKUP(H$2,'Base de Dados - Drenagem'!$G$2:$AA$64,$F38,),\"\")","v":0},{"$f":"IFERROR(HLOOKUP(I$2,'Base de Dados - Drenagem'!$G$2:$AA$64,$F38,),\"\")","v":0},{"$f":"IFERROR(HLOOKUP(J$2,'Base de Dados - Drenagem'!$G$2:$AA$64,$F38,),\"\")","v":0},{"$f":"IFERROR(HLOOKUP(K$2,'Base de Dados - Drenagem'!$G$2:$AA$64,$F38,),\"\")","v":0}]
["FN012","Despesa total do município (SAÚDE, EDUCAÇÃO, PAGAMENTO DE PESSOAL, ETC.)",null,null,null,39,{"$f":"IFERROR(HLOOKUP(G$2,'Base de Dados - Drenagem'!$G$2:$AA$64,$F39,),\"\")","v":0},{"$f":"IFERROR(HLOOKUP(H$2,'Base de Dados - Drenagem'!$G$2:$AA$64,$F39,),\"\")","v":0},{"$f":"IFERROR(HLOOKUP(I$2,'Base de Dados - Drenagem'!$G$2:$AA$64,$F39,),\"\")","v":0},{"$f":"IFERROR(HLOOKUP(J$2,'Base de Dados - Drenagem'!$G$2:$AA$64,$F39,),\"\")","v":0},{"$f":"IFERROR(HLOOKUP(K$2,'Base de Dados - Drenagem'!$G$2:$AA$64,$F39,),\"\")","v":0}]
["FN016","Despesa total com serviços de Drenagem e Manejo das Águas Pluviais Urbanas:",null,null,null,40,{"$f":"IFERROR(HLOOKUP(G$2,'Base de Dados - Drenagem'!$G$2:$AA$64,$F40,),\"\")","v":0},{"$f":"IFERROR(HLOOKUP(H$2,'Base de Dados - Drenagem'!$G$2:$AA$64,$F40,),\"\")","v":0},{"$f":"IFERROR(HLOOKUP(I$2,'Base de Dados - Drenagem'!$G$2:$AA$64,$F40,),\"\")","v":0},{"$f":"IFERROR(HLOOKUP(J$2,'Base de Dados - Drenagem'!$G$2:$AA$64,$F40,),\"\")","v":0},{"$f":"IFERROR(HLOOKUP(K$2,'Base de Dados - Drenagem'!$G$2:$AA$64,$F40,),\"\")","v":0}]
["FN009","Receita total dos serviços de Drenagem e Manejo das Águas Pluviais Urbanas:",null,null,null,41,{"$f":"IFERROR(HLOOKUP(G$2,'Base de Dados - Drenagem'!$G$2:$AA$64,$F41,),\"\")","v":0},{"$f":"IFERROR(HLOOKUP(H$2,'Base de Dados - Drenagem'!$G$2:$AA$64,$F41,),\"\")","v":0},{"$f":"IFERROR(HLOOKUP(I$2,'Base de Dados - Drenagem'!$G$2:$AA$64,$F41,),\"\")","v":0},{"$f":"IFERROR(HLOOKUP(J$2,'Base de Dados - Drenagem'!$G$2:$AA$64,$F41,),\"\")","v":0},{"$f":"IFERROR(HLOOKUP(K$2,'Base de Dados - Drenagem'!$G$2:$AA$64,$F41,),\"\")","v":0}]
["FN022"," Investimento total em Drenagem e Manejo das Águas Pluviais Urbanas contratado pelo\nmunicípio no ano de referência:",null,null,null,42,{"$f":"IFERROR(HLOOKUP(G$2,'Base de Dados - Drenagem'!$G$2:$AA$64,$F42,),\"\")","v":0},{"$f":"IFERROR(HLOOKUP(H$2,'Base de Dados - Drenagem'!$G$2:$AA$64,$F42,),\"\")","v":0},{"$f":"IFERROR(HLOOKUP(I$2,'Base de Dados - Drenagem'!$G$2:$AA$64,$F42,),\"\")","v":0},{"$f":"IFERROR(HLOOKUP(J$2,'Base de Dados - Drenagem'!$G$2:$AA$64,$F42,),\"\")","v":0},{"$f":"IFERROR(HLOOKUP(K$2,'Base de Dados - Drenagem'!$G$2:$AA$64,$F42,),\"\")","v":0}]
["FN023","Desembolso total de investimentos em Drenagem e Manejo das Águas Pluviais Urbanas\nrealizado pelo município no ano de referência:",null,null,null,43,{"$f":"IFERROR(HLOOKUP(G$2,'Base de Dados - Drenagem'!$G$2:$AA$64,$F43,),\"\")","v":0},{"$f":"IFERROR(HLOOKUP(H$2,'Base de Dados - Drenagem'!$G$2:$AA$64,$F43,),\"\")","v":0},{"$f":"IFERROR(HLOOKUP(I$2,'Base de Dados - Drenagem'!$G$2:$AA$64,$F43,),\"\")","v":0},{"$f":"IFERROR(HLOOKUP(J$2,'Base de Dados - Drenagem'!$G$2:$AA$64,$F43,),\"\")","v":0},{"$f":"IFERROR(HLOOKUP(K$2,'Base de Dados - Drenagem'!$G$2:$AA$64,$F43,),\"\")","v":0}]
["GE007","Quantidade total de imóveis existentes na área urbana do município:",null,null,null,44,{"$f":"IFERROR(HLOOKUP(G$2,'Base de Dados - Drenagem'!$G$2:$AA$64,$F44,),\"\")","v":0},{"$f":"IFERROR(HLOOKUP(H$2,'Base de Dados - Drenagem'!$G$2:$AA$64,$F44,),\"\")","v":0},{"$f":"IFERROR(HLOOKUP(I$2,'Base de Dados - Drenagem'!$G$2:$AA$64,$F44,),\"\")","v":0},{"$f":"IFERROR(HLOOKUP(J$2,'Base de Dados - Drenagem'!$G$2:$AA$64,$F44,),\"\")","v":0},{"$f":"IFERROR(HLOOKUP(K$2,'Base de Dados - Drenagem'!$G$2:$AA$64,$F44,),\"\")","v":0}]
["IE017","Extensão total de vias públicas urbanas do município",null,null,null,45,{"$f":"IFERROR(HLOOKUP(G$2,'Base de Dados - Drenagem'!$G$2:$AA$64,$F45,),\"\")","v":0},{"$f":"IFERROR(HLOOKUP(H$2,'Base de Dados - Drenagem'!$G$2:$AA$64,$F45,),\"\")","v":0},{"$f":"IFERROR(HLOOKUP(I$2,'Base de Dados - Drenagem'!$G$2:$AA$64,$F45,),\"\")","v":0},{"$f":"IFERROR(HLOOKUP(J$2,'Base de Dados - Drenagem'!$G$2:$AA$64,$F45,),\"\")","v":0},{"$f":"IFERROR(HLOOKUP(K$2,'Base de Dados - Drenagem'!$G$2:$AA$64,$F45,),\"\")","v":0}]
["IE019","Extensão total de vias públicas urbanas com pavimento e meio-fio (ou semelhante):",null,null,null,46,{"$f":"IFERROR(HLOOKUP(G$2,'Base de Dados - Drenagem'!$G$2:$AA$64,$F46,),\"\")","v":0},{"$f":"IFERROR(HLOOKUP(H$2,'Base de Dados - Drenagem'!$G$2:$AA$64,$F46,),\"\")","v":0},{"$f":"IFERROR(HLOOKUP(I$2,'Base de Dados - Drenagem'!$G$2:$AA$64,$F46,),\"\")","v":0},{"$f":"IFERROR(HLOOKUP(J$2,'Base de Dados - Drenagem'!$G$2:$AA$64,$F46,),\"\")","v":0},{"$f":"IFERROR(HLOOKUP(K$2,'Base de Dados - Drenagem'!$G$2:$AA$64,$F46,),\"\")","v":0}]
["IE024","Extensão total de vias públicas urbanas com redes ou canais de águas pluviais\nsubterrâneos:",null,null,null,47,{"$f":"IFERROR(HLOOKUP(G$2,'Base de Dados - Drenagem'!$G$2:$AA$64,$F47,),\"\")","v":0},{"$f":"IFERROR(HLOOKUP(H$2,'Base de Dados - Drenagem'!$G$2:$AA$64,$F47,),\"\")","v":0},{"$f":"IFERROR(HLOOKUP(I$2,'Base de Dados - Drenagem'!$G$2:$AA$64,$F47,),\"\")","v":0},{"$f":"IFERROR(HLOOKUP(J$2,'Base de Dados - Drenagem'!$G$2:$AA$64,$F47,),\"\")","v":0},{"$f":"IFERROR(HLOOKUP(K$2,'Base de Dados - Drenagem'!$G$2:$AA$64,$F47,),\"\")","v":0}]
["IE032","Extensão total dos cursos d’água naturais perenes em áreas urbanas",null,null,null,48,{"$f":"IFERROR(HLOOKUP(G$2,'Base de Dados - Drenagem'!$G$2:$AA$64,$F48,),\"\")","v":0},{"$f":"IFERROR(HLOOKUP(H$2,'Base de Dados - Drenagem'!$G$2:$AA$64,$F48,),\"\")","v":0},{"$f":"IFERROR(HLOOKUP(I$2,'Base de Dados - Drenagem'!$G$2:$AA$64,$F48,),\"\")","v":0},{"$f":"IFERROR(HLOOKUP(J$2,'Base de Dados - Drenagem'!$G$2:$AA$64,$F48,),\"\")","v":0},{"$f":"IFERROR(HLOOKUP(K$2,'Base de Dados - Drenagem'!$G$2:$AA$64,$F48,),\"\")","v":0}]
["IE044","Extensão total de parques lineares ao longo de cursos d’água naturais perenes em áreas\nurbanas:",null,null,null,49,{"$f":"IFERROR(HLOOKUP(G$2,'Base de Dados - Drenagem'!$G$2:$AA$64,$F49,),\"\")","v":0},{"$f":"IFERROR(HLOOKUP(H$2,'Base de Dados - Drenagem'!$G$2:$AA$64,$F49,),\"\")","v":0},{"$f":"IFERROR(HLOOKUP(I$2,'Base de Dados - Drenagem'!$G$2:$AA$64,$F49,),\"\")","v":0},{"$f":"IFERROR(HLOOKUP(J$2,'Base de Dados - Drenagem'!$G$2:$AA$64,$F49,),\"\")","v":0},{"$f":"IFERROR(HLOOKUP(K$2,'Base de Dados - Drenagem'!$G$2:$AA$64,$F49,),\"\")","v":0}]
["IE034","Extensão total dos cursos d’água naturais perenes canalizados abertos em áreas\nurbanas:",null,null,null,50,{"$f":"IFERROR(HLOOKUP(G$2,'Base de Dados - Drenagem'!$G$2:$AA$64,$F50,),\"\")","v":0},{"$f":"IFERROR(HLOOKUP(H$2,'Base de Dados - Drenagem'!$G$2:$AA$64,$F50,),\"\")","v":0},{"$f":"IFERROR(HLOOKUP(I$2,'Base de Dados - Drenagem'!$G$2:$AA$64,$F50,),\"\")","v":0},{"$f":"IFERROR(HLOOKUP(J$2,'Base de Dados - Drenagem'!$G$2:$AA$64,$F50,),\"\")","v":0},{"$f":"IFERROR(HLOOKUP(K$2,'Base de Dados - Drenagem'!$G$2:$AA$64,$F50,),\"\")","v":0}]
["IE035","Extensão total dos cursos d’água naturais perenes canalizados fechados em áreas\nurbanas:",null,null,null,51,{"$f":"IFERROR(HLOOKUP(G$2,'Base de Dados - Drenagem'!$G$2:$AA$64,$F51,),\"\")","v":0},{"$f":"IFERROR(HLOOKUP(H$2,'Base de Dados - Drenagem'!$G$2:$AA$64,$F51,),\"\")","v":0},{"$f":"IFERROR(HLOOKUP(I$2,'Base de Dados - Drenagem'!$G$2:$AA$64,$F51,),\"\")","v":0},{"$f":"IFERROR(HLOOKUP(J$2,'Base de Dados - Drenagem'!$G$2:$AA$64,$F51,),\"\")","v":0},{"$f":"IFERROR(HLOOKUP(K$2,'Base de Dados - Drenagem'!$G$2:$AA$64,$F51,),\"\")","v":0}]
["IE033","Extensão total dos cursos d’água naturais perenes com diques em áreas urbanas:",null,null,null,52,{"$f":"IFERROR(HLOOKUP(G$2,'Base de Dados - Drenagem'!$G$2:$AA$64,$F52,),\"\")","v":0},{"$f":"IFERROR(HLOOKUP(H$2,'Base de Dados - Drenagem'!$G$2:$AA$64,$F52,),\"\")","v":0},{"$f":"IFERROR(HLOOKUP(I$2,'Base de Dados - Drenagem'!$G$2:$AA$64,$F52,),\"\")","v":0},{"$f":"IFERROR(HLOOKUP(J$2,'Base de Dados - Drenagem'!$G$2:$AA$64,$F52,),\"\")","v":0},{"$f":"IFERROR(HLOOKUP(K$2,'Base de Dados - Drenagem'!$G$2:$AA$64,$F52,),\"\")","v":0}]
["IE058","Capacidade de reservação",null,null,null,53,{"$f":"IFERROR(HLOOKUP(G$2,'Base de Dados - Drenagem'!$G$2:$AA$64,$F53,),\"\")","v":0},{"$f":"IFERROR(HLOOKUP(H$2,'Base de Dados - Drenagem'!$G$2:$AA$64,$F53,),\"\")","v":0},{"$f":"IFERROR(HLOOKUP(I$2,'Base de Dados - Drenagem'!$G$2:$AA$64,$F53,),\"\")","v":0},{"$f":"IFERROR(HLOOKUP(J$2,'Base de Dados - Drenagem'!$G$2:$AA$64,$F53,),\"\")","v":0},{"$f":"IFERROR(HLOOKUP(K$2,'Base de Dados - Drenagem'!$G$2:$AA$64,$F53,),\"\")","v":0}]
["IE021","Quantidade de bocas de lobo existentes no município:",null,null,null,54,{"$f":"IFERROR(HLOOKUP(G$2,'Base de Dados - Drenagem'!$G$2:$AA$64,$F54,),\"\")","v":0},{"$f":"IFERROR(HLOOKUP(H$2,'Base de Dados - Drenagem'!$G$2:$AA$64,$F54,),\"\")","v":0},{"$f":"IFERROR(HLOOKUP(I$2,'Base de Dados - Drenagem'!$G$2:$AA$64,$F54,),\"\")","v":0},{"$f":"IFERROR(HLOOKUP(J$2,'Base de Dados - Drenagem'!$G$2:$AA$64,$F54,),\"\")","v":0},{"$f":"IFERROR(HLOOKUP(K$2,'Base de Dados - Drenagem'!$G$2:$AA$64,$F54,),\"\")","v":0}]
["IE022","Quantidade de bocas de leão ou bocas de lobo múltiplas (duas ou mais bocas de lobo\nconjugadas) existentes no município:",null,null,null,55,{"$f":"IFERROR(HLOOKUP(G$2,'Base de Dados - Drenagem'!$G$2:$AA$64,$F55,),\"\")","v":0},{"$f":"IFERROR(HLOOKUP(H$2,'Base de Dados - Drenagem'!$G$2:$AA$64,$F55,),\"\")","v":0},{"$f":"IFERROR(HLOOKUP(I$2,'Base de Dados - Drenagem'!$G$2:$AA$64,$F55,),\"\")","v":0},{"$f":"IFERROR(HLOOKUP(J$2,'Base de Dados - Drenagem'!$G$2:$AA$64,$F55,),\"\")","v":0},{"$f":"IFERROR(HLOOKUP(K$2,'Base de Dados - Drenagem'!$G$2:$AA$64,$F55,),\"\")","v":0}]
["RI013","Quantidade de domicílios sujeitos a risco de inundação",null,null,null,56,{"$f":"IFERROR(HLOOKUP(G$2,'Base de Dados - Drenagem'!$G$2:$AA$64,$F56,),\"\")","v":0},{"$f":"IFERROR(HLOOKUP(H$2,'Base de Dados - Drenagem'!$G$2:$AA$64,$F56,),\"\")","v":0},{"$f":"IFERROR(HLOOKUP(I$2,'Base de Dados - Drenagem'!$G$2:$AA$64,$F56,),\"\")","v":0},{"$f":"IFERROR(HLOOKUP(J$2,'Base de Dados - Drenagem'!$G$2:$AA$64,$F56,),\"\")","v":0},{"$f":"IFERROR(HLOOKUP(K$2,'Base de Dados - Drenagem'!$G$2:$AA$64,$F56,),\"\")","v":0}]
["RI029","Número de pessoas desabrigadas ou desalojadas, na área urbana do município, devido a\neventos hidrológicos impactantes no ano de referência, registrado no sistema eletrônico da\nSecretaria Nacional de Proteção e Defesa Civil (Fonte: S2ID):",null,null,null,57,{"$f":"IFERROR(HLOOKUP(G$2,'Base de Dados - Drenagem'!$G$2:$AA$64,$F57,),\"\")","v":0},{"$f":"IFERROR(HLOOKUP(H$2,'Base de Dados - Drenagem'!$G$2:$AA$64,$F57,),\"\")","v":0},{"$f":"IFERROR(HLOOKUP(I$2,'Base de Dados - Drenagem'!$G$2:$AA$64,$F57,),\"\")","v":0},{"$f":"IFERROR(HLOOKUP(J$2,'Base de Dados - Drenagem'!$G$2:$AA$64,$F57,),\"\")","v":0},{"$f":"IFERROR(HLOOKUP(K$2,'Base de Dados - Drenagem'!$G$2:$AA$64,$F57,),\"\")","v":0}]
["RI067","Número de pessoas desabrigadas ou desalojadas na área urbana do município devido a\neventos hidrológicos impactantes, no ano de referência, que não foi registrado no sistema\neletrônico (S2ID) da Secretaria Nacional de Proteção e Defesa Civil:",null,null,null,58,{"$f":"IFERROR(HLOOKUP(G$2,'Base de Dados - Drenagem'!$G$2:$AA$64,$F58,),\"\")","v":0},{"$f":"IFERROR(HLOOKUP(H$2,'Base de Dados - Drenagem'!$G$2:$AA$64,$F58,),\"\")","v":0},{"$f":"IFERROR(HLOOKUP(I$2,'Base de Dados - Drenagem'!$G$2:$AA$64,$F58,),\"\")","v":0},{"$f":"IFERROR(HLOOKUP(J$2,'Base de Dados - Drenagem'!$G$2:$AA$64,$F58,),\"\")","v":0},{"$f":"IFERROR(HLOOKUP(K$2,'Base de Dados - Drenagem'!$G$2:$AA$64,$F58,),\"\")","v":0}]
["RI031","Número de óbitos, na área urbana do município, decorrentes de eventos hidrológicos\nimpactantes, no ano de referência, registrado no sistema eletrônico da Secretaria Nacional de\nProteção e Defesa Civil (Fonte: S2ID):",null,null,null,59,{"$f":"IFERROR(HLOOKUP(G$2,'Base de Dados - Drenagem'!$G$2:$AA$64,$F59,),\"\")","v":0},{"$f":"IFERROR(HLOOKUP(H$2,'Base de Dados - Drenagem'!$G$2:$AA$64,$F59,),\"\")","v":0},{"$f":"IFERROR(HLOOKUP(I$2,'Base de Dados - Drenagem'!$G$2:$AA$64,$F59,),\"\")","v":0},{"$f":"IFERROR(HLOOKUP(J$2,'Base de Dados - Drenagem'!$G$2:$AA$64,$F59,),\"\")","v":0},{"$f":"IFERROR(HLOOKUP(K$2,'Base de Dados - Drenagem'!$G$2:$AA$64,$F59,),\"\")","v":0}]
["RI068","Número de óbitos na área urbana do município decorrentes de eventos hidrológicos\nimpactantes, no ano de referência, que não foi registrado no sistema eletrônico (S2ID) da Secretaria\nNacional de Proteção e Defesa Civil:",null,null,null,60,{"$f":"IFERROR(HLOOKUP(G$2,'Base de Dados - Drenagem'!$G$2:$AA$64,$F60,),\"\")","v":0},{"$f":"IFERROR(HLOOKUP(H$2,'Base de Dados - Drenagem'!$G$2:$AA$64,$F60,),\"\")","v":0},{"$f":"IFERROR(HLOOKUP(I$2,'Base de Dados - Drenagem'!$G$2:$AA$64,$F60,),\"\")","v":0},{"$f":"IFERROR(HLOOKUP(J$2,'Base de Dados - Drenagem'!$G$2:$AA$64,$F60,),\"\")","v":0},{"$f":"IFERROR(HLOOKUP(K$2,'Base de Dados - Drenagem'!$G$2:$AA$64,$F60,),\"\")","v":0}]
["GE005","População total residente no município (Fonte: IBGE):",null,null,null,61,{"$f":"IFERROR(HLOOKUP(G$2,'Base de Dados - Drenagem'!$G$2:$AA$64,$F61,),\"\")","v":0},{"$f":"IFERROR(HLOOKUP(H$2,'Base de Dados - Drenagem'!$G$2:$AA$64,$F61,),\"\")","v":0},{"$f":"IFERROR(HLOOKUP(I$2,'Base de Dados - Drenagem'!$G$2:$AA$64,$F61,),\"\")","v":0},{"$f":"IFERROR(HLOOKUP(J$2,'Base de Dados - Drenagem'!$G$2:$AA$64,$F61,),\"\")","v":0},{"$f":"IFERROR(HLOOKUP(K$2,'Base de Dados - Drenagem'!$G$2:$AA$64,$F61,),\"\")","v":0}]
["RI043","Quantidade de pessoas transferidas para habitações provisórias durante ou após os\neventos hidrológicos impactantes ocorridos no ano de referência:",null,null,null,62,{"$f":"IFERROR(HLOOKUP(G$2,'Base de Dados - Drenagem'!$G$2:$AA$64,$F62,),\"\")","v":0},{"$f":"IFERROR(HLOOKUP(H$2,'Base de Dados - Drenagem'!$G$2:$AA$64,$F62,),\"\")","v":0},{"$f":"IFERROR(HLOOKUP(I$2,'Base de Dados - Drenagem'!$G$2:$AA$64,$F62,),\"\")","v":0},{"$f":"IFERROR(HLOOKUP(J$2,'Base de Dados - Drenagem'!$G$2:$AA$64,$F62,),\"\")","v":0},{"$f":"IFERROR(HLOOKUP(K$2,'Base de Dados - Drenagem'!$G$2:$AA$64,$F62,),\"\")","v":0}]
["RI044","Quantidade de pessoas realocadas para habitações permanentes durante ou após os\neventos hidrológicos impactantes ocorridos no ano de referência:",null,null,null,63,{"$f":"IFERROR(HLOOKUP(G$2,'Base de Dados - Drenagem'!$G$2:$AA$64,$F63,),\"\")","v":0},{"$f":"IFERROR(HLOOKUP(H$2,'Base de Dados - Drenagem'!$G$2:$AA$64,$F63,),\"\")","v":0},{"$f":"IFERROR(HLOOKUP(I$2,'Base de Dados - Drenagem'!$G$2:$AA$64,$F63,),\"\")","v":0},{"$f":"IFERROR(HLOOKUP(J$2,'Base de Dados - Drenagem'!$G$2:$AA$64,$F63,),\"\")","v":0},{"$f":"IFERROR(HLOOKUP(K$2,'Base de Dados - Drenagem'!$G$2:$AA$64,$F63,),\"\")","v":0}]
[null,null,null,null,null,64,{"$f":"IFERROR(HLOOKUP(G$2,'Base de Dados - Drenagem'!$G$2:$AA$64,$F64,),\"\")","v":""},{"$f":"IFERROR(HLOOKUP(H$2,'Base de Dados - Drenagem'!$G$2:$AA$64,$F64,),\"\")","v":""},{"$f":"IFERROR(HLOOKUP(I$2,'Base de Dados - Drenagem'!$G$2:$AA$64,$F64,),\"\")","v":""},{"$f":"IFERROR(HLOOKUP(J$2,'Base de Dados - Drenagem'!$G$2:$AA$64,$F64,),\"\")","v":""},{"$f":"IFERROR(HLOOKUP(K$2,'Base de Dados - Drenagem'!$G$2:$AA$64,$F64,),\"\")","v":""}]
[null,null,null,null,null,65,{"$f":"IFERROR(HLOOKUP(G$2,'Base de Dados - Drenagem'!$G$2:$AA$64,$F65,),\"\")","v":""},{"$f":"IFERROR(HLOOKUP(H$2,'Base de Dados - Drenagem'!$G$2:$AA$64,$F65,),\"\")","v":""},{"$f":"IFERROR(HLOOKUP(I$2,'Base de Dados - Drenagem'!$G$2:$AA$64,$F65,),\"\")","v":""},{"$f":"IFERROR(HLOOKUP(J$2,'Base de Dados - Drenagem'!$G$2:$AA$64,$F65,),\"\")","v":""},{"$f":"IFERROR(HLOOKUP(K$2,'Base de Dados - Drenagem'!$G$2:$AA$64,$F65,),\"\")","v":""}]
[null,null,null,null,null,66,{"$f":"IFERROR(HLOOKUP(G$2,'Base de Dados - Drenagem'!$G$2:$AA$64,$F66,),\"\")","v":""},{"$f":"IFERROR(HLOOKUP(H$2,'Base de Dados - Drenagem'!$G$2:$AA$64,$F66,),\"\")","v":""},{"$f":"IFERROR(HLOOKUP(I$2,'Base de Dados - Drenagem'!$G$2:$AA$64,$F66,),\"\")","v":""},{"$f":"IFERROR(HLOOKUP(J$2,'Base de Dados - Drenagem'!$G$2:$AA$64,$F66,),\"\")","v":""},{"$f":"IFERROR(HLOOKUP(K$2,'Base de Dados - Drenagem'!$G$2:$AA$64,$F66,),\"\")","v":""}]
[null,null,null,null,null,67,{"$f":"IFERROR(HLOOKUP(G$2,'Base de Dados - Drenagem'!$G$2:$AA$64,$F67,),\"\")","v":""},{"$f":"IFERROR(HLOOKUP(H$2,'Base de Dados - Drenagem'!$G$2:$AA$64,$F67,),\"\")","v":""},{"$f":"IFERROR(HLOOKUP(I$2,'Base de Dados - Drenagem'!$G$2:$AA$64,$F67,),\"\")","v":""},{"$f":"IFERROR(HLOOKUP(J$2,'Base de Dados - Drenagem'!$G$2:$AA$64,$F67,),\"\")","v":""},{"$f":"IFERROR(HLOOKUP(K$2,'Base de Dados - Drenagem'!$G$2:$AA$64,$F67,),\"\")","v":""}]
[null,null,null,null,null,68,{"$f":"IFERROR(HLOOKUP(G$2,'Base de Dados - Drenagem'!$G$2:$AA$64,$F68,),\"\")","v":""},{"$f":"IFERROR(HLOOKUP(H$2,'Base de Dados - Drenagem'!$G$2:$AA$64,$F68,),\"\")","v":""},{"$f":"IFERROR(HLOOKUP(I$2,'Base de Dados - Drenagem'!$G$2:$AA$64,$F68,),\"\")","v":""},{"$f":"IFERROR(HLOOKUP(J$2,'Base de Dados - Drenagem'!$G$2:$AA$64,$F68,),\"\")","v":""},{"$f":"IFERROR(HLOOKUP(K$2,'Base de Dados - Drenagem'!$G$2:$AA$64,$F68,),\"\")","v":""}]
[null,null,null,null,null,69,{"$f":"IFERROR(HLOOKUP(G$2,'Base de Dados - Drenagem'!$G$2:$AA$64,$F69,),\"\")","v":""},{"$f":"IFERROR(HLOOKUP(H$2,'Base de Dados - Drenagem'!$G$2:$AA$64,$F69,),\"\")","v":""},{"$f":"IFERROR(HLOOKUP(I$2,'Base de Dados - Drenagem'!$G$2:$AA$64,$F69,),\"\")","v":""},{"$f":"IFERROR(HLOOKUP(J$2,'Base de Dados - Drenagem'!$G$2:$AA$64,$F69,),\"\")","v":""},{"$f":"IFERROR(HLOOKUP(K$2,'Base de Dados - Drenagem'!$G$2:$AA$64,$F69,),\"\")","v":""}]
[null,null,null,null,null,70,{"$f":"IFERROR(HLOOKUP(G$2,'Base de Dados - Drenagem'!$G$2:$AA$64,$F70,),\"\")","v":""},{"$f":"IFERROR(HLOOKUP(H$2,'Base de Dados - Drenagem'!$G$2:$AA$64,$F70,),\"\")","v":""},{"$f":"IFERROR(HLOOKUP(I$2,'Base de Dados - Drenagem'!$G$2:$AA$64,$F70,),\"\")","v":""},{"$f":"IFERROR(HLOOKUP(J$2,'Base de Dados - Drenagem'!$G$2:$AA$64,$F70,),\"\")","v":""},{"$f":"IFERROR(HLOOKUP(K$2,'Base de Dados - Drenagem'!$G$2:$AA$64,$F70,),\"\")","v":""}]
[null,null,null,null,null,71,{"$f":"IFERROR(HLOOKUP(G$2,'Base de Dados - Drenagem'!$G$2:$AA$64,$F71,),\"\")","v":""},{"$f":"IFERROR(HLOOKUP(H$2,'Base de Dados - Drenagem'!$G$2:$AA$64,$F71,),\"\")","v":""},{"$f":"IFERROR(HLOOKUP(I$2,'Base de Dados - Drenagem'!$G$2:$AA$64,$F71,),\"\")","v":""},{"$f":"IFERROR(HLOOKUP(J$2,'Base de Dados - Drenagem'!$G$2:$AA$64,$F71,),\"\")","v":""},{"$f":"IFERROR(HLOOKUP(K$2,'Base de Dados - Drenagem'!$G$2:$AA$64,$F71,),\"\")","v":""}]
[null,null,null,null,null,72,{"$f":"IFERROR(HLOOKUP(G$2,'Base de Dados - Drenagem'!$G$2:$AA$64,$F72,),\"\")","v":""},{"$f":"IFERROR(HLOOKUP(H$2,'Base de Dados - Drenagem'!$G$2:$AA$64,$F72,),\"\")","v":""},{"$f":"IFERROR(HLOOKUP(I$2,'Base de Dados - Drenagem'!$G$2:$AA$64,$F72,),\"\")","v":""},{"$f":"IFERROR(HLOOKUP(J$2,'Base de Dados - Drenagem'!$G$2:$AA$64,$F72,),\"\")","v":""},{"$f":"IFERROR(HLOOKUP(K$2,'Base de Dados - Drenagem'!$G$2:$AA$64,$F72,),\"\")","v":""}]
[null,null,null,null,null,73,{"$f":"IFERROR(HLOOKUP(G$2,'Base de Dados - Drenagem'!$G$2:$AA$64,$F73,),\"\")","v":""},{"$f":"IFERROR(HLOOKUP(H$2,'Base de Dados - Drenagem'!$G$2:$AA$64,$F73,),\"\")","v":""},{"$f":"IFERROR(HLOOKUP(I$2,'Base de Dados - Drenagem'!$G$2:$AA$64,$F73,),\"\")","v":""},{"$f":"IFERROR(HLOOKUP(J$2,'Base de Dados - Drenagem'!$G$2:$AA$64,$F73,),\"\")","v":""},{"$f":"IFERROR(HLOOKUP(K$2,'Base de Dados - Drenagem'!$G$2:$AA$64,$F73,),\"\")","v":""}]
[null,null,null,null,null,74,{"$f":"IFERROR(HLOOKUP(G$2,'Base de Dados - Drenagem'!$G$2:$AA$64,$F74,),\"\")","v":""},{"$f":"IFERROR(HLOOKUP(H$2,'Base de Dados - Drenagem'!$G$2:$AA$64,$F74,),\"\")","v":""},{"$f":"IFERROR(HLOOKUP(I$2,'Base de Dados - Drenagem'!$G$2:$AA$64,$F74,),\"\")","v":""},{"$f":"IFERROR(HLOOKUP(J$2,'Base de Dados - Drenagem'!$G$2:$AA$64,$F74,),\"\")","v":""},{"$f":"IFERROR(HLOOKUP(K$2,'Base de Dados - Drenagem'!$G$2:$AA$64,$F74,),\"\")","v":""}]
[null,null,null,null,null,75,{"$f":"IFERROR(HLOOKUP(G$2,'Base de Dados - Drenagem'!$G$2:$AA$64,$F75,),\"\")","v":""},{"$f":"IFERROR(HLOOKUP(H$2,'Base de Dados - Drenagem'!$G$2:$AA$64,$F75,),\"\")","v":""},{"$f":"IFERROR(HLOOKUP(I$2,'Base de Dados - Drenagem'!$G$2:$AA$64,$F75,),\"\")","v":""},{"$f":"IFERROR(HLOOKUP(J$2,'Base de Dados - Drenagem'!$G$2:$AA$64,$F75,),\"\")","v":""},{"$f":"IFERROR(HLOOKUP(K$2,'Base de Dados - Drenagem'!$G$2:$AA$64,$F75,),\"\")","v":""}]
[null,null,null,null,null,76,{"$f":"IFERROR(HLOOKUP(G$2,'Base de Dados - Drenagem'!$G$2:$AA$64,$F76,),\"\")","v":""},{"$f":"IFERROR(HLOOKUP(H$2,'Base de Dados - Drenagem'!$G$2:$AA$64,$F76,),\"\")","v":""},{"$f":"IFERROR(HLOOKUP(I$2,'Base de Dados - Drenagem'!$G$2:$AA$64,$F76,),\"\")","v":""},{"$f":"IFERROR(HLOOKUP(J$2,'Base de Dados - Drenagem'!$G$2:$AA$64,$F76,),\"\")","v":""},{"$f":"IFERROR(HLOOKUP(K$2,'Base de Dados - Drenagem'!$G$2:$AA$64,$F76,),\"\")","v":""}]
[null,null,null,null,null,77,{"$f":"IFERROR(HLOOKUP(G$2,'Base de Dados - Drenagem'!$G$2:$AA$64,$F77,),\"\")","v":""},{"$f":"IFERROR(HLOOKUP(H$2,'Base de Dados - Drenagem'!$G$2:$AA$64,$F77,),\"\")","v":""},{"$f":"IFERROR(HLOOKUP(I$2,'Base de Dados - Drenagem'!$G$2:$AA$64,$F77,),\"\")","v":""},{"$f":"IFERROR(HLOOKUP(J$2,'Base de Dados - Drenagem'!$G$2:$AA$64,$F77,),\"\")","v":""},{"$f":"IFERROR(HLOOKUP(K$2,'Base de Dados - Drenagem'!$G$2:$AA$64,$F77,),\"\")","v":""}]
[null,null,null,null,null,78,{"$f":"IFERROR(HLOOKUP(G$2,'Base de Dados - Drenagem'!$G$2:$AA$64,$F78,),\"\")","v":""},{"$f":"IFERROR(HLOOKUP(H$2,'Base de Dados - Drenagem'!$G$2:$AA$64,$F78,),\"\")","v":""},{"$f":"IFERROR(HLOOKUP(I$2,'Base de Dados - Drenagem'!$G$2:$AA$64,$F78,),\"\")","v":""},{"$f":"IFERROR(HLOOKUP(J$2,'Base de Dados - Drenagem'!$G$2:$AA$64,$F78,),\"\")","v":""},{"$f":"IFERROR(HLOOKUP(K$2,'Base de Dados - Drenagem'!$G$2:$AA$64,$F78,),\"\")","v":""}]
[null,null,null,null,null,79,{"$f":"IFERROR(HLOOKUP(G$2,'Base de Dados - Drenagem'!$G$2:$AA$64,$F79,),\"\")","v":""},{"$f":"IFERROR(HLOOKUP(H$2,'Base de Dados - Drenagem'!$G$2:$AA$64,$F79,),\"\")","v":""},{"$f":"IFERROR(HLOOKUP(I$2,'Base de Dados - Drenagem'!$G$2:$AA$64,$F79,),\"\")","v":""},{"$f":"IFERROR(HLOOKUP(J$2,'Base de Dados - Drenagem'!$G$2:$AA$64,$F79,),\"\")","v":""},{"$f":"IFERROR(HLOOKUP(K$2,'Base de Dados - Drenagem'!$G$2:$AA$64,$F79,),\"\")","v":""}]
[null,null,null,null,null,80,{"$f":"IFERROR(HLOOKUP(G$2,'Base de Dados - Drenagem'!$G$2:$AA$64,$F80,),\"\")","v":""},{"$f":"IFERROR(HLOOKUP(H$2,'Base de Dados - Drenagem'!$G$2:$AA$64,$F80,),\"\")","v":""},{"$f":"IFERROR(HLOOKUP(I$2,'Base de Dados - Drenagem'!$G$2:$AA$64,$F80,),\"\")","v":""},{"$f":"IFERROR(HLOOKUP(J$2,'Base de Dados - Drenagem'!$G$2:$AA$64,$F80,),\"\")","v":""},{"$f":"IFERROR(HLOOKUP(K$2,'Base de Dados - Drenagem'!$G$2:$AA$64,$F80,),\"\")","v":""}]
[null,null,null,null,null,81,{"$f":"IFERROR(HLOOKUP(G$2,'Base de Dados - Drenagem'!$G$2:$AA$64,$F81,),\"\")","v":""},{"$f":"IFERROR(HLOOKUP(H$2,'Base de Dados - Drenagem'!$G$2:$AA$64,$F81,),\"\")","v":""},{"$f":"IFERROR(HLOOKUP(I$2,'Base de Dados - Drenagem'!$G$2:$AA$64,$F81,),\"\")","v":""},{"$f":"IFERROR(HLOOKUP(J$2,'Base de Dados - Drenagem'!$G$2:$AA$64,$F81,),\"\")","v":""},{"$f":"IFERROR(HLOOKUP(K$2,'Base de Dados - Drenagem'!$G$2:$AA$64,$F81,),\"\")","v":""}]
[null,null,null,null,null,82,{"$f":"IFERROR(HLOOKUP(G$2,'Base de Dados - Drenagem'!$G$2:$AA$64,$F82,),\"\")","v":""},{"$f":"IFERROR(HLOOKUP(H$2,'Base de Dados - Drenagem'!$G$2:$AA$64,$F82,),\"\")","v":""},{"$f":"IFERROR(HLOOKUP(I$2,'Base de Dados - Drenagem'!$G$2:$AA$64,$F82,),\"\")","v":""},{"$f":"IFERROR(HLOOKUP(J$2,'Base de Dados - Drenagem'!$G$2:$AA$64,$F82,),\"\")","v":""},{"$f":"IFERROR(HLOOKUP(K$2,'Base de Dados - Drenagem'!$G$2:$AA$64,$F82,),\"\")","v":""}]
[null,null,null,null,null,83,{"$f":"IFERROR(HLOOKUP(G$2,'Base de Dados - Drenagem'!$G$2:$AA$64,$F83,),\"\")","v":""},{"$f":"IFERROR(HLOOKUP(H$2,'Base de Dados - Drenagem'!$G$2:$AA$64,$F83,),\"\")","v":""},{"$f":"IFERROR(HLOOKUP(I$2,'Base de Dados - Drenagem'!$G$2:$AA$64,$F83,),\"\")","v":""},{"$f":"IFERROR(HLOOKUP(J$2,'Base de Dados - Drenagem'!$G$2:$AA$64,$F83,),\"\")","v":""},{"$f":"IFERROR(HLOOKUP(K$2,'Base de Dados - Drenagem'!$G$2:$AA$64,$F83,),\"\")","v":""}]
[null,null,null,null,null,84,{"$f":"IFERROR(HLOOKUP(G$2,'Base de Dados - Drenagem'!$G$2:$AA$64,$F84,),\"\")","v":""},{"$f":"IFERROR(HLOOKUP(H$2,'Base de Dados - Drenagem'!$G$2:$AA$64,$F84,),\"\")","v":""},{"$f":"IFERROR(HLOOKUP(I$2,'Base de Dados - Drenagem'!$G$2:$AA$64,$F84,),\"\")","v":""},{"$f":"IFERROR(HLOOKUP(J$2,'Base de Dados - Drenagem'!$G$2:$AA$64,$F84,),\"\")","v":""},{"$f":"IFERROR(HLOOKUP(K$2,'Base de Dados - Drenagem'!$G$2:$AA$64,$F84,),\"\")","v":""}]
[null,null,null,null,null,85,{"$f":"IFERROR(HLOOKUP(G$2,'Base de Dados - Drenagem'!$G$2:$AA$64,$F85,),\"\")","v":""},{"$f":"IFERROR(HLOOKUP(H$2,'Base de Dados - Drenagem'!$G$2:$AA$64,$F85,),\"\")","v":""},{"$f":"IFERROR(HLOOKUP(I$2,'Base de Dados - Drenagem'!$G$2:$AA$64,$F85,),\"\")","v":""},{"$f":"IFERROR(HLOOKUP(J$2,'Base de Dados - Drenagem'!$G$2:$AA$64,$F85,),\"\")","v":""},{"$f":"IFERROR(HLOOKUP(K$2,'Base de Dados - Drenagem'!$G$2:$AA$64,$F85,),\"\")","v":""}]
[null,null,null,null,null,86,{"$f":"IFERROR(HLOOKUP(G$2,'Base de Dados - Drenagem'!$G$2:$AA$64,$F86,),\"\")","v":""},{"$f":"IFERROR(HLOOKUP(H$2,'Base de Dados - Drenagem'!$G$2:$AA$64,$F86,),\"\")","v":""},{"$f":"IFERROR(HLOOKUP(I$2,'Base de Dados - Drenagem'!$G$2:$AA$64,$F86,),\"\")","v":""},{"$f":"IFERROR(HLOOKUP(J$2,'Base de Dados - Drenagem'!$G$2:$AA$64,$F86,),\"\")","v":""},{"$f":"IFERROR(HLOOKUP(K$2,'Base de Dados - Drenagem'!$G$2:$AA$64,$F86,),\"\")","v":""}]
[null,null,null,null,null,87,{"$f":"IFERROR(HLOOKUP(G$2,'Base de Dados - Drenagem'!$G$2:$AA$64,$F87,),\"\")","v":""},{"$f":"IFERROR(HLOOKUP(H$2,'Base de Dados - Drenagem'!$G$2:$AA$64,$F87,),\"\")","v":""},{"$f":"IFERROR(HLOOKUP(I$2,'Base de Dados - Drenagem'!$G$2:$AA$64,$F87,),\"\")","v":""},{"$f":"IFERROR(HLOOKUP(J$2,'Base de Dados - Drenagem'!$G$2:$AA$64,$F87,),\"\")","v":""},{"$f":"IFERROR(HLOOKUP(K$2,'Base de Dados - Drenagem'!$G$2:$AA$64,$F87,),\"\")","v":""}]
[null,null,null,null,null,88,{"$f":"IFERROR(HLOOKUP(G$2,'Base de Dados - Drenagem'!$G$2:$AA$64,$F88,),\"\")","v":""},{"$f":"IFERROR(HLOOKUP(H$2,'Base de Dados - Drenagem'!$G$2:$AA$64,$F88,),\"\")","v":""},{"$f":"IFERROR(HLOOKUP(I$2,'Base de Dados - Drenagem'!$G$2:$AA$64,$F88,),\"\")","v":""},{"$f":"IFERROR(HLOOKUP(J$2,'Base de Dados - Drenagem'!$G$2:$AA$64,$F88,),\"\")","v":""},{"$f":"IFERROR(HLOOKUP(K$2,'Base de Dados - Drenagem'!$G$2:$AA$64,$F88,),\"\")","v":""}]
[null,null,null,null,null,89,{"$f":"IFERROR(HLOOKUP(G$2,'Base de Dados - Drenagem'!$G$2:$AA$64,$F89,),\"\")","v":""},{"$f":"IFERROR(HLOOKUP(H$2,'Base de Dados - Drenagem'!$G$2:$AA$64,$F89,),\"\")","v":""},{"$f":"IFERROR(HLOOKUP(I$2,'Base de Dados - Drenagem'!$G$2:$AA$64,$F89,),\"\")","v":""},{"$f":"IFERROR(HLOOKUP(J$2,'Base de Dados - Drenagem'!$G$2:$AA$64,$F89,),\"\")","v":""},{"$f":"IFERROR(HLOOKUP(K$2,'Base de Dados - Drenagem'!$G$2:$AA$64,$F89,),\"\")","v":""}]
[null,null,null,null,null,90,{"$f":"IFERROR(HLOOKUP(G$2,'Base de Dados - Drenagem'!$G$2:$AA$64,$F90,),\"\")","v":""},{"$f":"IFERROR(HLOOKUP(H$2,'Base de Dados - Drenagem'!$G$2:$AA$64,$F90,),\"\")","v":""},{"$f":"IFERROR(HLOOKUP(I$2,'Base de Dados - Drenagem'!$G$2:$AA$64,$F90,),\"\")","v":""},{"$f":"IFERROR(HLOOKUP(J$2,'Base de Dados - Drenagem'!$G$2:$AA$64,$F90,),\"\")","v":""},{"$f":"IFERROR(HLOOKUP(K$2,'Base de Dados - Drenagem'!$G$2:$AA$64,$F90,),\"\")","v":""}]
[null,null,null,null,null,91,{"$f":"IFERROR(HLOOKUP(G$2,'Base de Dados - Drenagem'!$G$2:$AA$64,$F91,),\"\")","v":""},{"$f":"IFERROR(HLOOKUP(H$2,'Base de Dados - Drenagem'!$G$2:$AA$64,$F91,),\"\")","v":""},{"$f":"IFERROR(HLOOKUP(I$2,'Base de Dados - Drenagem'!$G$2:$AA$64,$F91,),\"\")","v":""},{"$f":"IFERROR(HLOOKUP(J$2,'Base de Dados - Drenagem'!$G$2:$AA$64,$F91,),\"\")","v":""},{"$f":"IFERROR(HLOOKUP(K$2,'Base de Dados - Drenagem'!$G$2:$AA$64,$F91,),\"\")","v":""}]
[null,null,null,null,null,92,{"$f":"IFERROR(HLOOKUP(G$2,'Base de Dados - Drenagem'!$G$2:$AA$64,$F92,),\"\")","v":""},{"$f":"IFERROR(HLOOKUP(H$2,'Base de Dados - Drenagem'!$G$2:$AA$64,$F92,),\"\")","v":""},{"$f":"IFERROR(HLOOKUP(I$2,'Base de Dados - Drenagem'!$G$2:$AA$64,$F92,),\"\")","v":""},{"$f":"IFERROR(HLOOKUP(J$2,'Base de Dados - Drenagem'!$G$2:$AA$64,$F92,),\"\")","v":""},{"$f":"IFERROR(HLOOKUP(K$2,'Base de Dados - Drenagem'!$G$2:$AA$64,$F92,),\"\")","v":""}]

{"sheet":"Base de Dados - Drenagem","index":11,"n_rows":64,"n_cols":63,"rows_kept":64,"cut":false,"hidden":false,"merged":[[1,26,2,26],[1,6,2,6],[1,7,2,7],[1,8,2,8],[1,9,2,9],[1,10,2,10],[1,11,2,11],[1,12,2,12],[1,13,2,13],[1,14,2,14],[1,15,2,15],[1,16,2,16],[1,17,2,17],[1,18,2,18],[1,19,2,19],[1,25,2,25],[1,1,2,1],[1,2,2,2],[1,3,2,3],[1,4,2,4],[1,5,2,5],[1,20,2,20],[1,21,2,21],[1,22,2,22],[1,23,2,23],[1,24,2,24],[1,27,2,27],[1,28,2,28],[1,29,2,29],[1,30,2,30],[1,31,2,31],[1,32,2,32],[1,33,2,33],[1,34,2,34],[1,35,2,35],[1,36,2,36],[1,37,2,37],[1,38,2,38],[1,39,2,39],[1,40,2,40],[1,41,2,41],[1,51,2,51],[1,42,2,42],[1,43,2,43],[1,44,2,44],[1,45,2,45],[1,46,2,46],[1,62,2,62],[1,0,2,0],[1,57,2,57],[1,58,2,58],[1,59,2,59],[1,60,2,60],[1,61,2,61],[1,52,2,52],[1,53,2,53],[1,54,2,54],[1,55,2,55],[1,56,2,56],[1,47,2,47],[1,48,2,48],[1,49,2,49],[1,50,2,50]]}
[]
[null,"Dados","Frequência","Unidade de medida","Fonte de dados","Responsável pela geração  de dados",2019,2020,2021,2022,2023,2024,2025,2026,2027,2028,2029,2030,2031,2032,2033,2034,2035,2036,2037,2038,2039,2040,2041,2042,2043,2044,2045,2046,2047,2048,2049,2050,2051,2052,2053,2054,2055,2056,2057,2058,2059,2060,2061,2062,2063,2064,2065,2066,2067,2068,2069,2070,2071,2072,2073,2074,2075]
[]
[null,"Número de Reclamações","Anual","Und","Secretaria Municipal de Obras e Transportes","Secretaria Municipal de Obras e Transportes",10,2]
[null,"Extensão de Rede Cadastrada","Anual","km","Secretaria Municipal de Obras e Transportes","Secretaria Municipal de Obras e Transportes",5,3]
[null," Extensão de Rede Estimada","Anual","km","Secretaria Municipal de Obras e Transportes","Secretaria Municipal de Obras e Transportes",3,4]
[null,"Extensão Beneficiada com Sistema de Drenagem Superficial","Anual","km","Secretaria Municipal de Obras e Transportes","Secretaria Municipal de Obras e Transportes"]
[null,"Extensão Total de Vias","Anual","km","Secretaria Municipal de Obras e Transportes","Secretaria Municipal de Obras e Transportes"]
[null,"Extensão Beneficiada com Sistema de Drenagem Subterrênea","Anual","km","Secretaria Municipal de Obras e Transportes","Secretaria Municipal de Obras e Transportes"]
[null," Extensão Total de Vias","Anual","km","Secretaria Municipal de Obras e Transportes","Secretaria Municipal de Obras e Transportes"]
[null,"Número de Bocas de Lobo Inspecionadas","Anual","Und","Secretaria Municipal de Obras e Transportes","Secretaria Municipal de Obras e Transportes"]
[null," Número de Bocas de Lobo Existentes","Anual","Und","Secretaria Municipal de Obras e Transportes","Secretaria Municipal de Obras e Transportes"]
[null,"Número de Bocas de Lobo Limpas","Anual","Und","Secretaria Municipal de Obras e Transportes","Secretaria Municipal de Obras e Transportes"]
[null,"Número de Bocas de Lobo Existentes","Anual","Und","Secretaria Municipal de Obras e Transportes","Secretaria Municipal de Obras e Transportes"]
[null,"Número de Bocas de Lobo com Manutenção","Anual","Und","Secretaria Municipal de Obras e Transportes","Secretaria Municipal de Obras e Transportes"]
[null,"Número de Bocas de Lobo Existentes","Anual","Und","Secretaria Municipal de Obras e Transportes","Secretaria Municipal de Obras e Transportes"]
[null,"Quilômetros de Galerias Inspecionadas","Anual","km","Secretaria Municipal de Obras e Transportes","Secretaria Municipal de Obras e Transportes"]
[null," Quilômetros de Galerias Existentes","Anual","km","Secretaria Municipal de Obras e Transportes","Secretaria Municipal de Obras e Transportes"]
[null,"Quilômetros de Galerias Limpas","Anual","km","Secretaria Municipal de Obras e Transportes","Secretaria Municipal de Obras e Transportes"]
[null,"Quilômetros de Galerias Existentes","Anual","km","Secretaria Municipal de Obras e Transportes","Secretaria Municipal de Obras e Transportes"]
[null,"Quilômetros de Galerias com Manutenção","Anual","Km","Secretaria Municipal de Obras e Transportes","Secretaria Municipal de Obras e Transportes"]
[null,"Quilômetros de Galerias Existentes","Anual","km","Secretaria Municipal de Obras e Transportes","Secretaria Municipal de Obras e Transportes"]
[null,"Quilômetros de Canais Inspecionados","Anual","km","Secretaria Municipal de Obras e Transportes","Secretaria Municipal de Obras e Transportes"]
[null,"Quilômetros de Canais Existentes","Anual","km","Secretaria Municipal de Obras e Transportes","Secretaria Municipal de Obras e Transportes"]
[null,"Quilômetros de Canais Inspecionados","Anual","km","Secretaria Municipal de Obras e Transportes","Secretaria Municipal de Obras e Transportes"]
[null,"Quilômetros de Canais Limpos","Anual","km","Secretaria Municipal de Obras e Transportes","Secretaria Municipal de Obras e Transportes"]
[null,"Quilômetros de Canais Existentes","Anual","km","Secretaria Municipal de Obras e Transportes","Secretaria Municipal de Obras e Transportes"]
[null,"Quilômetros de Canais com Manutenção","Anual","km","Secretaria Municipal de Obras e Transportes","Secretaria Municipal de Obras e Transportes"]
[null,"Quilômetros de Canais Existentes","Anual","km","Secretaria Municipal de Obras e Transportes","Secretaria Municipal de Obras e Transportes"]
[null,"Número de Pontos Inundados","Anual","Und","Secretaria Municipal de Obras e Transportes","Secretaria Municipal de Obras e Transportes"]
[null,"Extensão de ruas inundadas ao ano","Anual","km","Secretaria Municipal de Obras e Transportes","Secretaria Municipal de Obras e Transportes"]
["GE001","Área territorial total do município (Fonte: IBGE):","Anual","km²"]
["GE002","Área urbana total, incluindo áreas urbanas isoladas: ","Anual","km²","Secretaria Municipal de Obras e Transportes","Secretaria Municipal de Obras e Transportes"]
["GE006","População urbana residente no município (estimada conforme taxa de urbanização do último\nCenso):","Anual","Habitantes","Secretaria Municipal de Obras e Transportes","Secretaria Municipal de Obras e Transportes"]
["GE008","Quantidade total de domicílios urbanos existentes no município:","Anual","Domicílios","Secretaria Municipal de Obras e Transportes","Secretaria Municipal de Obras e Transportes"]
["AD001","Quantidade de pessoal próprio alocado nos serviços de Drenagem e Manejo das Águas\nPluviais Urbanas:","Anual","Pessoas","Secretaria Municipal de Obras e Transportes","Secretaria Municipal de Obras e Transportes"]
["AD003","Quantidade total de pessoal alocado nos serviços de Drenagem e Manejo das Águas Pluviais\nUrbanas:","Anual","Pessoas","Secretaria Municipal de Obras e Transportes","Secretaria Municipal de Obras e Transportes"]
["CB003","Quantidade total de imóveis urbanos tributados pelos serviços de Drenagem e Manejo das\nÁguas Pluviais Urbanas:","Anual","Imóveis","Secretaria Municipal de Obras e Transportes","Secretaria Municipal de Obras e Transportes"]
["FN005","Receita operacional total dos serviços de Drenagem e Manejo das Águas Pluviais Urbanas:","Anual","Reais por ano","Secretaria Municipal de Obras e Transportes","Secretaria Municipal de Obras e Transportes"]
["FN012","Despesa total do município (SAÚDE, EDUCAÇÃO, PAGAMENTO DE PESSOAL, ETC.)","Anual","Reais por ano","Secretaria Municipal de Obras e Transportes","Secretaria Municipal de Obras e Transportes"]
["FN016","Despesa total com serviços de Drenagem e Manejo das Águas Pluviais Urbanas:","Anual","Reais por ano","Secretaria Municipal de Obras e Transportes","Secretaria Municipal de Obras e Transportes"]
["FN009","Receita total dos serviços de Drenagem e Manejo das Águas Pluviais Urbanas:","Anual","Reais por ano","Secretaria Municipal de Obras e Transportes","Secretaria Municipal de Obras e Transportes"]
["FN022"," Investimento total em Drenagem e Manejo das Águas Pluviais Urbanas contratado pelo\nmunicípio no ano de referência:","Anual","Reais por ano","Secretaria Municipal de Obras e Transportes","Secretaria Municipal de Obras e Transportes"]
["FN023","Desembolso total de investimentos em Drenagem e Manejo das Águas Pluviais Urbanas\nrealizado pelo município no ano de referência:","Anual","Reais por ano","Secretaria Municipal de Obras e Transportes","Secretaria Municipal de Obras e Transportes"]
["GE007","Quantidade total de imóveis existentes na área urbana do município:","Anual","Imóveis","Secretaria Municipal de Obras e Transportes","Secretaria Municipal de Obras e Transportes"]
["IE017","Extensão total de vias públicas urbanas do município","Anual","Quilômetros","Secretaria Municipal de Obras e Transportes","Secretaria Municipal de Obras e Transportes"]
["IE019","Extensão total de vias públicas urbanas com pavimento e meio-fio (ou semelhante):","Anual","Quilômetros","Secretaria Municipal de Obras e Transportes","Secretaria Municipal de Obras e Transportes"]
["IE024","Extensão total de vias públicas urbanas com redes ou canais de águas pluviais\nsubterrâneos:","Anual","Quilômetros","Secretaria Municipal de Obras e Transportes","Secretaria Municipal de Obras e Transportes"]
["IE032","Extensão total dos cursos d’água naturais perenes em áreas urbanas","Anual","Quilômetros","Secretaria Municipal de Obras e Transportes","Secretaria Municipal de Obras e Transportes"]
["IE044","Extensão total de parques lineares ao longo de cursos d’água naturais perenes em áreas\nurbanas:","Anual","Quilômetros","Secretaria Municipal de Obras e Transportes","Secretaria Municipal de Obras e Transportes"]
["IE034","Extensão total dos cursos d’água naturais perenes canalizados abertos em áreas\nurbanas:","Anual","Quilômetros","Secretaria Municipal de Obras e Transportes","Secretaria Municipal de Obras e Transportes"]
["IE035","Extensão total dos cursos d’água naturais perenes canalizados fechados em áreas\nurbanas:","Anual","Quilômetros","Secretaria Municipal de Obras e Transportes","Secretaria Municipal de Obras e Transportes"]
["IE033","Extensão total dos cursos d’água naturais perenes com diques em áreas urbanas:","Anual","Quilômetros","Secretaria Municipal de Obras e Transportes","Secretaria Municipal de Obras e Transportes"]
["IE058","Capacidade de reservação","Anual","Metros cúbicos","Secretaria Municipal de Obras e Transportes","Secretaria Municipal de Obras e Transportes"]
["IE021","Quantidade de bocas de lobo existentes no município:","Anual","Unidades","Secretaria Municipal de Obras e Transportes","Secretaria Municipal de Obras e Transportes"]
["IE022","Quantidade de bocas de leão ou bocas de lobo múltiplas (duas ou mais bocas de lobo\nconjugadas) existentes no município:","Anual","Unidades","Secretaria Municipal de Obras e Transportes","Secretaria Municipal de Obras e Transportes"]
["RI013","Quantidade de domicílios sujeitos a risco de inundação","Anual","Domicílios","Secretaria Municipal de Obras e Transportes","Secretaria Municipal de Obras e Transportes"]
["RI029","Número de pessoas desabrigadas ou desalojadas, na área urbana do município, devido a\neventos hidrológicos impactantes no ano de referência, registrado no sistema eletrônico da\nSecretaria Nacional de Proteção e Defesa Civil (Fonte: S2ID):","Anual","Pessoas","Secretaria Municipal de Obras e Transportes","Secretaria Municipal de Obras e Transportes"]
["RI067","Número de pessoas desabrigadas ou desalojadas na área urbana do município devido a\neventos hidrológicos impactantes, no ano de referência, que não foi registrado no sistema\neletrônico (S2ID) da Secretaria Nacional de Proteção e Defesa Civil:","Anual","Pessoas","Secretaria Municipal de Obras e Transportes","Secretaria Municipal de Obras e Transportes"]
["RI031","Número de óbitos, na área urbana do município, decorrentes de eventos hidrológicos\nimpactantes, no ano de referência, registrado no sistema eletrônico da Secretaria Nacional de\nProteção e Defesa Civil (Fonte: S2ID):","Anual","Óbitos","Secretaria Municipal de Obras e Transportes","Secretaria Municipal de Obras e Transportes"]
["RI068","Número de óbitos na área urbana do município decorrentes de eventos hidrológicos\nimpactantes, no ano de referência, que não foi registrado no sistema eletrônico (S2ID) da Secretaria\nNacional de Proteção e Defesa Civil:","Anual","Óbitos","Secretaria Municipal de Obras e Transportes","Secretaria Municipal de Obras e Transportes"]
["GE005","População total residente no município (Fonte: IBGE):","Anual","Habitantes","Secretaria Municipal de Obras e Transportes","Secretaria Municipal de Obras e Transportes"]
["RI043","Quantidade de pessoas transferidas para habitações provisórias durante ou após os\neventos hidrológicos impactantes ocorridos no ano de referência:","Anual","Pessoas","Secretaria Municipal de Obras e Transportes","Secretaria Municipal de Obras e Transportes"]
["RI044","Quantidade de pessoas realocadas para habitações permanentes durante ou após os\neventos hidrológicos impactantes ocorridos no ano de referência:","Anual","Pessoas","Secretaria Municipal de Obras e Transportes","Secretaria Municipal de Obras e Transportes"]

{"sheet":"Gráficos - Drenagem","index":12,"n_rows":1,"n_cols":1,"rows_kept":1,"cut":false,"hidden":false,"merged":[[0,0,0,22]]}
["Gráficos dos indicadores de drenagem"]

{"sheet":"Indicadores - Social","index":13,"n_rows":15,"n_cols":15,"rows_kept":15,"cut":false,"hidden":false,"merged":[[3,13,4,13],[3,14,4,14],[3,8,4,8],[3,9,4,9],[3,10,4,10],[3,11,4,11],[3,12,4,12],[3,7,4,7],[3,0,4,0],[3,1,4,1],[3,2,4,2],[3,3,4,3],[0,0,0,2],[1,0,1,2],[3,4,4,4],[3,5,4,5],[3,6,4,6]]}
["INÍCIO PERÍODO",null,null,null,{"$f":"E4-10","v":2000},{"$f":"F4-10","v":2001},2002,2003,2004,2005,2006,2007,2008,2009,2010]
[2010,null,null,null,{"$f":"IFERROR(HLOOKUP(E$1,'Base de Dados - Social'!$G$2:$AX$2001,3,),\"\")","v":157682},{"$f":"IFERROR(HLOOKUP(F$1,'Base de Dados - Social'!$G$2:$AX$2001,3,),\"\")","v":""},{"$f":"IFERROR(HLOOKUP(G$1,'Base de Dados - Social'!$G$2:$AX$2001,3,),\"\")","v":""},{"$f":"IFERROR(HLOOKUP(H$1,'Base de Dados - Social'!$G$2:$AX$2001,3,),\"\")","v":""},{"$f":"IFERROR(HLOOKUP(I$1,'Base de Dados - Social'!$G$2:$AX$2001,3,),\"\")","v":""},{"$f":"IFERROR(HLOOKUP(J$1,'Base de Dados - Social'!$G$2:$AX$2001,3,),\"\")","v":""},{"$f":"IFERROR(HLOOKUP(K$1,'Base de Dados - Social'!$G$2:$AX$2001,3,),\"\")","v":""},{"$f":"IFERROR(HLOOKUP(L$1,'Base de Dados - Social'!$G$2:$AX$2001,3,),\"\")","v":""},{"$f":"IFERROR(HLOOKUP(M$1,'Base de Dados - Social'!$G$2:$AX$2001,3,),\"\")","v":""},{"$f":"IFERROR(HLOOKUP(N$1,'Base de Dados - Social'!$G$2:$AX$2001,3,),\"\")","v":""},{"$f":"IFERROR(HLOOKUP(O$1,'Base de Dados - Social'!$G$2:$AX$2001,3,),\"\")","v":156727}]
[null,null,null,null,{"$f":"IFERROR(HLOOKUP(E$1,'Base de Dados - Social'!$G$2:$AX$2001,5,),\"\")","v":0.80600000000000005},{"$f":"IFERROR(HLOOKUP(F$1,'Base de Dados - Social'!$G$2:$AX$2001,5,),\"\")","v":""},{"$f":"IFERROR(HLOOKUP(G$1,'Base de Dados - Social'!$G$2:$AX$2001,5,),\"\")","v":""},{"$f":"IFERROR(HLOOKUP(H$1,'Base de Dados - Social'!$G$2:$AX$2001,5,),\"\")","v":""},{"$f":"IFERROR(HLOOKUP(I$1,'Base de Dados - Social'!$G$2:$AX$2001,5,),\"\")","v":""},{"$f":"IFERROR(HLOOKUP(J$1,'Base de Dados - Social'!$G$2:$AX$2001,5,),\"\")","v":""},{"$f":"IFERROR(HLOOKUP(K$1,'Base de Dados - Social'!$G$2:$AX$2001,5,),\"\")","v":""},{"$f":"IFERROR(HLOOKUP(L$1,'Base de Dados - Social'!$G$2:$AX$2001,5,),\"\")","v":""},{"$f":"IFERROR(HLOOKUP(M$1,'Base de Dados - Social'!$G$2:$AX$2001,5,),\"\")","v":""},{"$f":"IFERROR(HLOOKUP(N$1,'Base de Dados - Social'!$G$2:$AX$2001,5,),\"\")","v":""},{"$f":"IFERROR(HLOOKUP(O$1,'Base de Dados - Social'!$G$2:$AX$2001,5,),\"\")","v":0.86699999999999999}]
["Indicador","Frequência de atualização","Responsável pela geração e fonte de dados","Expresso em",{"$f":"A2","v":2010},{"$f":"E4+1","v":2011},{"$f":"F4+1","v":2012},2013,2014,2015,2016,2017,2018,{"$f":"M4+1","v":2019},{"$f":"N4+1","v":2020}]
[]
["Densidade \nDemográfica\n","a cada 10 anos","IBGE","habitantes/km²",{"$f":"IFERROR(SO!H3/SO!H16,\"\")","v":""},{"$f":"IFERROR(SO!I3/SO!I16,\"\")","v":""},{"$f":"IFERROR(SO!J3/SO!J16,\"\")","v":""},{"$f":"IFERROR(SO!K3/SO!K16,\"\")","v":""},{"$f":"IFERROR(SO!L3/SO!L16,\"\")","v":""},{"$f":"IFERROR(SO!M3/SO!M16,\"\")","v":""},{"$f":"IFERROR(SO!N3/SO!N16,\"\")","v":""},{"$f":"IFERROR(SO!O3/SO!O16,\"\")","v":""},{"$f":"IFERROR(SO!P3/SO!P16,\"\")","v":""},{"$f":"IFERROR(SO!Q3/SO!Q16,\"\")","v":""},{"$f":"IFERROR(SO!R3/SO!R16,\"\")","v":""}]
["Taxa de crescimento intercensitário ","a cada 10 anos","IBGE","%",{"$f":"IFERROR((SO!H3/E2)-1,\"\")","v":""},{"$f":"IFERROR((SO!I3/F2)-1,\"\")","v":""},{"$f":"IFERROR((SO!J3/G2)-1,\"\")","v":""},{"$f":"IFERROR((SO!K3/H2)-1,\"\")","v":""},{"$f":"IFERROR((SO!L3/I2)-1,\"\")","v":""},{"$f":"IFERROR((SO!M3/J2)-1,\"\")","v":""},{"$f":"IFERROR((SO!N3/K2)-1,\"\")","v":""},{"$f":"IFERROR((SO!O3/L2)-1,\"\")","v":""},{"$f":"IFERROR((SO!P3/M2)-1,\"\")","v":""},{"$f":"IFERROR((SO!Q3/N2)-1,\"\")","v":""},{"$f":"IFERROR((SO!R3/O2)-1,\"\")","v":""}]
["Taxa de IDHM Longevidade ","a cada 10 anos","ATLAS","%",{"$f":"IFERROR((SO!H5/E3)-1,\"\")","v":""},{"$f":"IFERROR((SO!I5/F3)-1,\"\")","v":""},{"$f":"IFERROR((SO!J5/G3)-1,\"\")","v":""},{"$f":"IFERROR((SO!K5/H3)-1,\"\")","v":""},{"$f":"IFERROR((SO!L5/I3)-1,\"\")","v":""},{"$f":"IFERROR((SO!M5/J3)-1,\"\")","v":""},{"$f":"IFERROR((SO!N5/K3)-1,\"\")","v":""},{"$f":"IFERROR((SO!O5/L3)-1,\"\")","v":""},{"$f":"IFERROR((SO!P5/M3)-1,\"\")","v":""},{"$f":"IFERROR((SO!Q5/N3)-1,\"\")","v":""},{"$f":"IFERROR((SO!R5/O3)-1,\"\")","v":""}]
["Taxa de fecundidade ","a cada 10 anos","ATLAS","Número médio de filhos",{"$f":"IFERROR(SO!H8,\"\")","v":""},{"$f":"IFERROR(SO!I8,\"\")","v":""},{"$f":"IFERROR(SO!J8,\"\")","v":""},{"$f":"IFERROR(SO!K8,\"\")","v":""},{"$f":"IFERROR(SO!L8,\"\")","v":""},{"$f":"IFERROR(SO!M8,\"\")","v":""},{"$f":"IFERROR(SO!N8,\"\")","v":""},{"$f":"IFERROR(SO!O8,\"\")","v":""},{"$f":"IFERROR(SO!P8,\"\")","v":""},{"$f":"IFERROR(SO!Q8,\"\")","v":""},{"$f":"IFERROR(SO!R8,\"\")","v":""}]
["Taxa de natalidade","Anual","DATASUS","Nascimentos a cada 1.000",{"$f":"IFERROR(SO!H9,\"\")","v":""},{"$f":"IFERROR(SO!I9,\"\")","v":""},{"$f":"IFERROR(SO!J9,\"\")","v":""},{"$f":"IFERROR(SO!K9,\"\")","v":""},{"$f":"IFERROR(SO!L9,\"\")","v":""},{"$f":"IFERROR(SO!M9,\"\")","v":""},{"$f":"IFERROR(SO!N9,\"\")","v":""},{"$f":"IFERROR(SO!O9,\"\")","v":""},{"$f":"IFERROR(SO!P9,\"\")","v":""},{"$f":"IFERROR(SO!Q9,\"\")","v":""},{"$f":"IFERROR(SO!R9,\"\")","v":""}]
["Taxa de mortalidade infantil ","Anual","IBGE","Óbitos infantil a cada 1.000",{"$f":"IFERROR(SO!H11,\"\")","v":""},{"$f":"IFERROR(SO!I11,\"\")","v":""},{"$f":"IFERROR(SO!J11,\"\")","v":""},{"$f":"IFERROR(SO!K11,\"\")","v":""},{"$f":"IFERROR(SO!L11,\"\")","v":""},{"$f":"IFERROR(SO!M11,\"\")","v":""},{"$f":"IFERROR(SO!N11,\"\")","v":""},{"$f":"IFERROR(SO!O11,\"\")","v":""},{"$f":"IFERROR(SO!P11,\"\")","v":""},{"$f":"IFERROR(SO!Q11,\"\")","v":""},{"$f":"IFERROR(SO!R11,\"\")","v":""}]
["Taxa de alfabetização","a cada 10 anos","IBGE","%",{"$f":"IFERROR((SO!H12/SO!H18),\"\")","v":""},{"$f":"IFERROR((SO!I12/SO!I18),\"\")","v":""},{"$f":"IFERROR((SO!J12/SO!J18),\"\")","v":""},{"$f":"IFERROR((SO!K12/SO!K18),\"\")","v":""},{"$f":"IFERROR((SO!L12/SO!L18),\"\")","v":""},{"$f":"IFERROR((SO!M12/SO!M18),\"\")","v":""},{"$f":"IFERROR((SO!N12/SO!N18),\"\")","v":""},{"$f":"IFERROR((SO!O12/SO!O18),\"\")","v":""},{"$f":"IFERROR((SO!P12/SO!P18),\"\")","v":""},{"$f":"IFERROR((SO!Q12/SO!Q18),\"\")","v":""},{"$f":"IFERROR((SO!R12/SO!R18),\"\")","v":""}]
["Taxa de crecimento IDHM","a cada 10 anos","ATLAS","%",{"$f":"IFERROR((SO!H15/SO!H14)-1,\"\")","v":""},{"$f":"IFERROR((SO!I15/SO!I14)-1,\"\")","v":""},{"$f":"IFERROR((SO!J15/SO!J14)-1,\"\")","v":""},{"$f":"IFERROR((SO!K15/SO!K14)-1,\"\")","v":""},{"$f":"IFERROR((SO!L15/SO!L14)-1,\"\")","v":""},{"$f":"IFERROR((SO!M15/SO!M14)-1,\"\")","v":""},{"$f":"IFERROR((SO!N15/SO!N14)-1,\"\")","v":""},{"$f":"IFERROR((SO!O15/SO!O14)-1,\"\")","v":""},{"$f":"IFERROR((SO!P15/SO!P14)-1,\"\")","v":""},{"$f":"IFERROR((SO!Q15/SO!Q14)-1,\"\")","v":""},{"$f":"IFERROR((SO!R15/SO!R14)-1,\"\")","v":""}]
["PIB ","Anual","IBGE","R$",{"$f":"IFERROR(SO!H17,\"\")","v":""},{"$f":"IFERROR(SO!I17,\"\")","v":""},{"$f":"IFERROR(SO!J17,\"\")","v":""},{"$f":"IFERROR(SO!K17,\"\")","v":""},{"$f":"IFERROR(SO!L17,\"\")","v":""},{"$f":"IFERROR(SO!M17,\"\")","v":""},{"$f":"IFERROR(SO!N17,\"\")","v":""},{"$f":"IFERROR(SO!O17,\"\")","v":""},{"$f":"IFERROR(SO!P17,\"\")","v":""},{"$f":"IFERROR(SO!Q17,\"\")","v":""},{"$f":"IFERROR(SO!R17,\"\")","v":""}]
["PIB per capta","Anual","IBGE","R$",{"$f":"IFERROR(IF('Base de Dados - Social'!H4>1,SO!H17/'Base de Dados - Social'!H4,SO!H17/SO!H10),\"\")","v":""},{"$f":"IFERROR(IF('Base de Dados - Social'!I4>1,SO!I17/'Base de Dados - Social'!I4,SO!I17/SO!I10),\"\")","v":""},{"$f":"IFERROR(IF('Base de Dados - Social'!J4>1,SO!J17/'Base de Dados - Social'!J4,SO!J17/SO!J10),\"\")","v":""},{"$f":"IFERROR(IF('Base de Dados - Social'!K4>1,SO!K17/'Base de Dados - Social'!K4,SO!K17/SO!K10),\"\")","v":""},{"$f":"IFERROR(IF('Base de Dados - Social'!L4>1,SO!L17/'Base de Dados - Social'!L4,SO!L17/SO!L10),\"\")","v":""},{"$f":"IFERROR(IF('Base de Dados - Social'!M4>1,SO!M17/'Base de Dados - Social'!M4,SO!M17/SO!M10),\"\")","v":""},{"$f":"IFERROR(IF('Base de Dados - Social'!N4>1,SO!N17/'Base de Dados - Social'!N4,SO!N17/SO!N10),\"\")","v":""},{"$f":"IFERROR(IF('Base de Dados - Social'!O4>1,SO!O17/'Base de Dados - Social'!O4,SO!O17/SO!O10),\"\")","v":""},{"$f":"IFERROR(IF('Base de Dados - Social'!P4>1,SO!P17/'Base de Dados - Social'!P4,SO!P17/SO!P10),\"\")","v":""},{"$f":"IFERROR(IF('Base de Dados - Social'!Q4>1,SO!Q17/'Base de Dados - Social'!Q4,SO!Q17/SO!Q10),\"\")","v":""},{"$f":"IFERROR(IF('Base de Dados - Social'!R4>1,SO!R17/'Base de Dados - Social'!R4,SO!R17/SO!R10),\"\")","v":""}]

{"sheet":"SO","index":14,"n_rows":63,"n_cols":18,"rows_kept":63,"cut":false,"hidden":true,"merged":[[0,12,1,12],[0,0,1,0],[0,1,1,1],[0,2,1,2],[0,3,1,3],[0,4,1,4],[0,5,1,5],[0,7,1,7],[0,8,1,8],[0,9,1,9],[0,10,1,10],[0,11,1,11],[1,31,1,45],[1,46,1,60],[0,13,1,13],[0,14,1,14],[0,15,1,15],[0,16,1,16],[0,17,1,17]]}
["Dados","Frequência","Descrição","Unidade de medida","Fonte de dados","Responsável pela geração do dados",null,{"$f":"'Indicadores - Social'!E4","v":2010},{"$f":"'Indicadores - Social'!F4","v":2011},{"$f":"'Indicadores - Social'!G4","v":2012},{"$f":"'Indicadores - Social'!H4","v":2013},{"$f":"'Indicadores - Social'!I4","v":2014},{"$f":"'Indicadores - Social'!J4","v":2015},{"$f":"'Indicadores - Social'!K4","v":2016},{"$f":"'Indicadores - Social'!L4","v":2017},{"$f":"'Indicadores - Social'!M4","v":2018},{"$f":"'Indicadores - Social'!N4","v":2019},{"$f":"'Indicadores - Social'!O4","v":2020}]
[]
["População no penúltimo Censo ano 2000","a cada 10 anos","População calculada pelo IBGE no penúltimo censo ano 2000","habitantes","IBGE","Vigilância Sanitária",3,{"$f":"HLOOKUP(H$1,'Base de Dados - Social'!$G:$BM,$G3,)","v":{"$error":"#N/A"}},{"$f":"HLOOKUP(I$1,'Base de Dados - Social'!$G:$BM,$G3,)","v":{"$error":"#N/A"}},{"$f":"HLOOKUP(J$1,'Base de Dados - Social'!$G:$BM,$G3,)","v":{"$error":"#N/A"}},{"$f":"HLOOKUP(K$1,'Base de Dados - Social'!$G:$BM,$G3,)","v":{"$error":"#N/A"}},{"$f":"HLOOKUP(L$1,'Base de Dados - Social'!$G:$BM,$G3,)","v":{"$error":"#N/A"}},{"$f":"HLOOKUP(M$1,'Base de Dados - Social'!$G:$BM,$G3,)","v":{"$error":"#N/A"}},{"$f":"HLOOKUP(N$1,'Base de Dados - Social'!$G:$BM,$G3,)","v":{"$error":"#N/A"}},{"$f":"HLOOKUP(O$1,'Base de Dados - Social'!$G:$BM,$G3,)","v":{"$error":"#N/A"}},{"$f":"HLOOKUP(P$1,'Base de Dados - Social'!$G:$BM,$G3,)","v":{"$error":"#N/A"}},{"$f":"HLOOKUP(Q$1,'Base de Dados - Social'!$G:$BM,$G3,)","v":{"$error":"#N/A"}},{"$f":"HLOOKUP(R$1,'Base de Dados - Social'!$G:$BM,$G3,)","v":{"$error":"#N/A"}}]
["População do último Censo ano 2010","a cada 10 anos","População calculada pelo  IBGE no último censo 2010","habitantes","IBGE","Vigilância Sanitária",4,{"$f":"HLOOKUP(H$1,'Base de Dados - Social'!$G:$BM,$G4,)","v":{"$error":"#N/A"}},{"$f":"HLOOKUP(I$1,'Base de Dados - Social'!$G:$BM,$G4,)","v":{"$error":"#N/A"}},{"$f":"HLOOKUP(J$1,'Base de Dados - Social'!$G:$BM,$G4,)","v":{"$error":"#N/A"}},{"$f":"HLOOKUP(K$1,'Base de Dados - Social'!$G:$BM,$G4,)","v":{"$error":"#N/A"}},{"$f":"HLOOKUP(L$1,'Base de Dados - Social'!$G:$BM,$G4,)","v":{"$error":"#N/A"}},{"$f":"HLOOKUP(M$1,'Base de Dados - Social'!$G:$BM,$G4,)","v":{"$error":"#N/A"}},{"$f":"HLOOKUP(N$1,'Base de Dados - Social'!$G:$BM,$G4,)","v":{"$error":"#N/A"}},{"$f":"HLOOKUP(O$1,'Base de Dados - Social'!$G:$BM,$G4,)","v":{"$error":"#N/A"}},{"$f":"HLOOKUP(P$1,'Base de Dados - Social'!$G:$BM,$G4,)","v":{"$error":"#N/A"}},{"$f":"HLOOKUP(Q$1,'Base de Dados - Social'!$G:$BM,$G4,)","v":{"$error":"#N/A"}},{"$f":"HLOOKUP(R$1,'Base de Dados - Social'!$G:$BM,$G4,)","v":{"$error":"#N/A"}}]
["IDHM Longevidade penúltimo censo 2000","a cada 10 anos","IDHM de longevidade calculada pelo IBGE do penúltimo Censo em 2000","-","ATLAS","Vigilância Sanitária",5,{"$f":"HLOOKUP(H$1,'Base de Dados - Social'!$G:$BM,$G5,)","v":{"$error":"#N/A"}},{"$f":"HLOOKUP(I$1,'Base de Dados - Social'!$G:$BM,$G5,)","v":{"$error":"#N/A"}},{"$f":"HLOOKUP(J$1,'Base de Dados - Social'!$G:$BM,$G5,)","v":{"$error":"#N/A"}},{"$f":"HLOOKUP(K$1,'Base de Dados - Social'!$G:$BM,$G5,)","v":{"$error":"#N/A"}},{"$f":"HLOOKUP(L$1,'Base de Dados - Social'!$G:$BM,$G5,)","v":{"$error":"#N/A"}},{"$f":"HLOOKUP(M$1,'Base de Dados - Social'!$G:$BM,$G5,)","v":{"$error":"#N/A"}},{"$f":"HLOOKUP(N$1,'Base de Dados - Social'!$G:$BM,$G5,)","v":{"$error":"#N/A"}},{"$f":"HLOOKUP(O$1,'Base de Dados - Social'!$G:$BM,$G5,)","v":{"$error":"#N/A"}},{"$f":"HLOOKUP(P$1,'Base de Dados - Social'!$G:$BM,$G5,)","v":{"$error":"#N/A"}},{"$f":"HLOOKUP(Q$1,'Base de Dados - Social'!$G:$BM,$G5,)","v":{"$error":"#N/A"}},{"$f":"HLOOKUP(R$1,'Base de Dados - Social'!$G:$BM,$G5,)","v":{"$error":"#N/A"}}]
["IDHM Longevidade último censo 2010","a cada 10 anos","IDHM de longevidade calculado pelo IBGE último censo 2010","-","ATLAS","Vigilância Sanitária",6,{"$f":"HLOOKUP(H$1,'Base de Dados - Social'!$G:$BM,$G6,)","v":{"$error":"#N/A"}},{"$f":"HLOOKUP(I$1,'Base de Dados - Social'!$G:$BM,$G6,)","v":{"$error":"#N/A"}},{"$f":"HLOOKUP(J$1,'Base de Dados - Social'!$G:$BM,$G6,)","v":{"$error":"#N/A"}},{"$f":"HLOOKUP(K$1,'Base de Dados - Social'!$G:$BM,$G6,)","v":{"$error":"#N/A"}},{"$f":"HLOOKUP(L$1,'Base de Dados - Social'!$G:$BM,$G6,)","v":{"$error":"#N/A"}},{"$f":"HLOOKUP(M$1,'Base de Dados - Social'!$G:$BM,$G6,)","v":{"$error":"#N/A"}},{"$f":"HLOOKUP(N$1,'Base de Dados - Social'!$G:$BM,$G6,)","v":{"$error":"#N/A"}},{"$f":"HLOOKUP(O$1,'Base de Dados - Social'!$G:$BM,$G6,)","v":{"$error":"#N/A"}},{"$f":"HLOOKUP(P$1,'Base de Dados - Social'!$G:$BM,$G6,)","v":{"$error":"#N/A"}},{"$f":"HLOOKUP(Q$1,'Base de Dados - Social'!$G:$BM,$G6,)","v":{"$error":"#N/A"}},{"$f":"HLOOKUP(R$1,'Base de Dados - Social'!$G:$BM,$G6,)","v":{"$error":"#N/A"}}]
["Fecundidade penúltimo censo 2000","a cada 10 anos","Número médio de filhos por mulher ","habitantes","ATLAS","Vigilância Sanitária",7,{"$f":"HLOOKUP(H$1,'Base de Dados - Social'!$G:$BM,$G7,)","v":{"$error":"#N/A"}},{"$f":"HLOOKUP(I$1,'Base de Dados - Social'!$G:$BM,$G7,)","v":{"$error":"#N/A"}},{"$f":"HLOOKUP(J$1,'Base de Dados - Social'!$G:$BM,$G7,)","v":{"$error":"#N/A"}},{"$f":"HLOOKUP(K$1,'Base de Dados - Social'!$G:$BM,$G7,)","v":{"$error":"#N/A"}},{"$f":"HLOOKUP(L$1,'Base de Dados - Social'!$G:$BM,$G7,)","v":{"$error":"#N/A"}},{"$f":"HLOOKUP(M$1,'Base de Dados - Social'!$G:$BM,$G7,)","v":{"$error":"#N/A"}},{"$f":"HLOOKUP(N$1,'Base de Dados - Social'!$G:$BM,$G7,)","v":{"$error":"#N/A"}},{"$f":"HLOOKUP(O$1,'Base de Dados - Social'!$G:$BM,$G7,)","v":{"$error":"#N/A"}},{"$f":"HLOOKUP(P$1,'Base de Dados - Social'!$G:$BM,$G7,)","v":{"$error":"#N/A"}},{"$f":"HLOOKUP(Q$1,'Base de Dados - Social'!$G:$BM,$G7,)","v":{"$error":"#N/A"}},{"$f":"HLOOKUP(R$1,'Base de Dados - Social'!$G:$BM,$G7,)","v":{"$error":"#N/A"}}]
["Fecundidade ano último censo 2010","a cada 10 anos","Número médio de filhos por mulher","habitantes","ATLAS","Vigilância Sanitária",8,{"$f":"HLOOKUP(H$1,'Base de Dados - Social'!$G:$BM,$G8,)","v":{"$error":"#N/A"}},{"$f":"HLOOKUP(I$1,'Base de Dados - Social'!$G:$BM,$G8,)","v":{"$error":"#N/A"}},{"$f":"HLOOKUP(J$1,'Base de Dados - Social'!$G:$BM,$G8,)","v":{"$error":"#N/A"}},{"$f":"HLOOKUP(K$1,'Base de Dados - Social'!$G:$BM,$G8,)","v":{"$error":"#N/A"}},{"$f":"HLOOKUP(L$1,'Base de Dados - Social'!$G:$BM,$G8,)","v":{"$error":"#N/A"}},{"$f":"HLOOKUP(M$1,'Base de Dados - Social'!$G:$BM,$G8,)","v":{"$error":"#N/A"}},{"$f":"HLOOKUP(N$1,'Base de Dados - Social'!$G:$BM,$G8,)","v":{"$error":"#N/A"}},{"$f":"HLOOKUP(O$1,'Base de Dados - Social'!$G:$BM,$G8,)","v":{"$error":"#N/A"}},{"$f":"HLOOKUP(P$1,'Base de Dados - Social'!$G:$BM,$G8,)","v":{"$error":"#N/A"}},{"$f":"HLOOKUP(Q$1,'Base de Dados - Social'!$G:$BM,$G8,)","v":{"$error":"#N/A"}},{"$f":"HLOOKUP(R$1,'Base de Dados - Social'!$G:$BM,$G8,)","v":{"$error":"#N/A"}}]
["Número de nascidos vivos x 1000 ","Anual","Número de crianças nascidas vivas no ano","habitantes","Datasus","Vigilância Sanitária",9,{"$f":"HLOOKUP(H$1,'Base de Dados - Social'!$G:$BM,$G9,)","v":{"$error":"#N/A"}},{"$f":"HLOOKUP(I$1,'Base de Dados - Social'!$G:$BM,$G9,)","v":{"$error":"#N/A"}},{"$f":"HLOOKUP(J$1,'Base de Dados - Social'!$G:$BM,$G9,)","v":{"$error":"#N/A"}},{"$f":"HLOOKUP(K$1,'Base de Dados - Social'!$G:$BM,$G9,)","v":{"$error":"#N/A"}},{"$f":"HLOOKUP(L$1,'Base de Dados - Social'!$G:$BM,$G9,)","v":{"$error":"#N/A"}},{"$f":"HLOOKUP(M$1,'Base de Dados - Social'!$G:$BM,$G9,)","v":{"$error":"#N/A"}},{"$f":"HLOOKUP(N$1,'Base de Dados - Social'!$G:$BM,$G9,)","v":{"$error":"#N/A"}},{"$f":"HLOOKUP(O$1,'Base de Dados - Social'!$G:$BM,$G9,)","v":{"$error":"#N/A"}},{"$f":"HLOOKUP(P$1,'Base de Dados - Social'!$G:$BM,$G9,)","v":{"$error":"#N/A"}},{"$f":"HLOOKUP(Q$1,'Base de Dados - Social'!$G:$BM,$G9,)","v":{"$error":"#N/A"}},{"$f":"HLOOKUP(R$1,'Base de Dados - Social'!$G:$BM,$G9,)","v":{"$error":"#N/A"}}]
["Projeção da População do ano ","Anual","População total do município no ano","habitantes","Datasus","Vigilância Sanitária",10,{"$f":"HLOOKUP(H$1,'Base de Dados - Social'!$G:$BM,$G10,)","v":{"$error":"#N/A"}},{"$f":"HLOOKUP(I$1,'Base de Dados - Social'!$G:$BM,$G10,)","v":{"$error":"#N/A"}},{"$f":"HLOOKUP(J$1,'Base de Dados - Social'!$G:$BM,$G10,)","v":{"$error":"#N/A"}},{"$f":"HLOOKUP(K$1,'Base de Dados - Social'!$G:$BM,$G10,)","v":{"$error":"#N/A"}},{"$f":"HLOOKUP(L$1,'Base de Dados - Social'!$G:$BM,$G10,)","v":{"$error":"#N/A"}},{"$f":"HLOOKUP(M$1,'Base de Dados - Social'!$G:$BM,$G10,)","v":{"$error":"#N/A"}},{"$f":"HLOOKUP(N$1,'Base de Dados - Social'!$G:$BM,$G10,)","v":{"$error":"#N/A"}},{"$f":"HLOOKUP(O$1,'Base de Dados - Social'!$G:$BM,$G10,)","v":{"$error":"#N/A"}},{"$f":"HLOOKUP(P$1,'Base de Dados - Social'!$G:$BM,$G10,)","v":{"$error":"#N/A"}},{"$f":"HLOOKUP(Q$1,'Base de Dados - Social'!$G:$BM,$G10,)","v":{"$error":"#N/A"}},{"$f":"HLOOKUP(R$1,'Base de Dados - Social'!$G:$BM,$G10,)","v":{"$error":"#N/A"}}]
["óbitos com menos de um ano de idade a cada 1000 nascidos vivos (2017)","Anual","Número de obtos em crianças menores de um ano ","habitantes","Datasus","Vigilância Sanitária",11,{"$f":"HLOOKUP(H$1,'Base de Dados - Social'!$G:$BM,$G11,)","v":{"$error":"#N/A"}},{"$f":"HLOOKUP(I$1,'Base de Dados - Social'!$G:$BM,$G11,)","v":{"$error":"#N/A"}},{"$f":"HLOOKUP(J$1,'Base de Dados - Social'!$G:$BM,$G11,)","v":{"$error":"#N/A"}},{"$f":"HLOOKUP(K$1,'Base de Dados - Social'!$G:$BM,$G11,)","v":{"$error":"#N/A"}},{"$f":"HLOOKUP(L$1,'Base de Dados - Social'!$G:$BM,$G11,)","v":{"$error":"#N/A"}},{"$f":"HLOOKUP(M$1,'Base de Dados - Social'!$G:$BM,$G11,)","v":{"$error":"#N/A"}},{"$f":"HLOOKUP(N$1,'Base de Dados - Social'!$G:$BM,$G11,)","v":{"$error":"#N/A"}},{"$f":"HLOOKUP(O$1,'Base de Dados - Social'!$G:$BM,$G11,)","v":{"$error":"#N/A"}},{"$f":"HLOOKUP(P$1,'Base de Dados - Social'!$G:$BM,$G11,)","v":{"$error":"#N/A"}},{"$f":"HLOOKUP(Q$1,'Base de Dados - Social'!$G:$BM,$G11,)","v":{"$error":"#N/A"}},{"$f":"HLOOKUP(R$1,'Base de Dados - Social'!$G:$BM,$G11,)","v":{"$error":"#N/A"}}]
["Habitantes alfabetizados maiores de 10 anos de idade (2010) %","a cada 10 anos","Total de habitantes alfabetizados no município","habitantes","IBGE / SIDRA","Vigilância Sanitária",12,{"$f":"HLOOKUP(H$1,'Base de Dados - Social'!$G:$BM,$G12,)","v":{"$error":"#N/A"}},{"$f":"HLOOKUP(I$1,'Base de Dados - Social'!$G:$BM,$G12,)","v":{"$error":"#N/A"}},{"$f":"HLOOKUP(J$1,'Base de Dados - Social'!$G:$BM,$G12,)","v":{"$error":"#N/A"}},{"$f":"HLOOKUP(K$1,'Base de Dados - Social'!$G:$BM,$G12,)","v":{"$error":"#N/A"}},{"$f":"HLOOKUP(L$1,'Base de Dados - Social'!$G:$BM,$G12,)","v":{"$error":"#N/A"}},{"$f":"HLOOKUP(M$1,'Base de Dados - Social'!$G:$BM,$G12,)","v":{"$error":"#N/A"}},{"$f":"HLOOKUP(N$1,'Base de Dados - Social'!$G:$BM,$G12,)","v":{"$error":"#N/A"}},{"$f":"HLOOKUP(O$1,'Base de Dados - Social'!$G:$BM,$G12,)","v":{"$error":"#N/A"}},{"$f":"HLOOKUP(P$1,'Base de Dados - Social'!$G:$BM,$G12,)","v":{"$error":"#N/A"}},{"$f":"HLOOKUP(Q$1,'Base de Dados - Social'!$G:$BM,$G12,)","v":{"$error":"#N/A"}},{"$f":"HLOOKUP(R$1,'Base de Dados - Social'!$G:$BM,$G12,)","v":{"$error":"#N/A"}}]
["Habitantes sem alfabetização maiores que 10 anos (2010) %","a cada 10 anos","Total de habitantes sem alfabetização no município","habitantes","IBGE / SIDRA","Vigilância Sanitária",13,{"$f":"HLOOKUP(H$1,'Base de Dados - Social'!$G:$BM,$G13,)","v":{"$error":"#N/A"}},{"$f":"HLOOKUP(I$1,'Base de Dados - Social'!$G:$BM,$G13,)","v":{"$error":"#N/A"}},{"$f":"HLOOKUP(J$1,'Base de Dados - Social'!$G:$BM,$G13,)","v":{"$error":"#N/A"}},{"$f":"HLOOKUP(K$1,'Base de Dados - Social'!$G:$BM,$G13,)","v":{"$error":"#N/A"}},{"$f":"HLOOKUP(L$1,'Base de Dados - Social'!$G:$BM,$G13,)","v":{"$error":"#N/A"}},{"$f":"HLOOKUP(M$1,'Base de Dados - Social'!$G:$BM,$G13,)","v":{"$error":"#N/A"}},{"$f":"HLOOKUP(N$1,'Base de Dados - Social'!$G:$BM,$G13,)","v":{"$error":"#N/A"}},{"$f":"HLOOKUP(O$1,'Base de Dados - Social'!$G:$BM,$G13,)","v":{"$error":"#N/A"}},{"$f":"HLOOKUP(P$1,'Base de Dados - Social'!$G:$BM,$G13,)","v":{"$error":"#N/A"}},{"$f":"HLOOKUP(Q$1,'Base de Dados - Social'!$G:$BM,$G13,)","v":{"$error":"#N/A"}},{"$f":"HLOOKUP(R$1,'Base de Dados - Social'!$G:$BM,$G13,)","v":{"$error":"#N/A"}}]
["IDHM penúltimo censo 2000","a cada 10 anos","IDHM do grau de desenvolvimento econômico e qualidade de vida oferecida à população","-","ATLAS","Vigilância Sanitária",14,{"$f":"HLOOKUP(H$1,'Base de Dados - Social'!$G:$BM,$G14,)","v":{"$error":"#N/A"}},{"$f":"HLOOKUP(I$1,'Base de Dados - Social'!$G:$BM,$G14,)","v":{"$error":"#N/A"}},{"$f":"HLOOKUP(J$1,'Base de Dados - Social'!$G:$BM,$G14,)","v":{"$error":"#N/A"}},{"$f":"HLOOKUP(K$1,'Base de Dados - Social'!$G:$BM,$G14,)","v":{"$error":"#N/A"}},{"$f":"HLOOKUP(L$1,'Base de Dados - Social'!$G:$BM,$G14,)","v":{"$error":"#N/A"}},{"$f":"HLOOKUP(M$1,'Base de Dados - Social'!$G:$BM,$G14,)","v":{"$error":"#N/A"}},{"$f":"HLOOKUP(N$1,'Base de Dados - Social'!$G:$BM,$G14,)","v":{"$error":"#N/A"}},{"$f":"HLOOKUP(O$1,'Base de Dados - Social'!$G:$BM,$G14,)","v":{"$error":"#N/A"}},{"$f":"HLOOKUP(P$1,'Base de Dados - Social'!$G:$BM,$G14,)","v":{"$error":"#N/A"}},{"$f":"HLOOKUP(Q$1,'Base de Dados - Social'!$G:$BM,$G14,)","v":{"$error":"#N/A"}},{"$f":"HLOOKUP(R$1,'Base de Dados - Social'!$G:$BM,$G14,)","v":{"$error":"#N/A"}}]
["IDHM ano do último Censo ano 2010","a cada 10 anos","IDHM do grau de desenvolvimento econômico e qualidade de vida oferecida à população","-","ATLAS","Vigilância Sanitária",15,{"$f":"HLOOKUP(H$1,'Base de Dados - Social'!$G:$BM,$G15,)","v":{"$error":"#N/A"}},{"$f":"HLOOKUP(I$1,'Base de Dados - Social'!$G:$BM,$G15,)","v":{"$error":"#N/A"}},{"$f":"HLOOKUP(J$1,'Base de Dados - Social'!$G:$BM,$G15,)","v":{"$error":"#N/A"}},{"$f":"HLOOKUP(K$1,'Base de Dados - Social'!$G:$BM,$G15,)","v":{"$error":"#N/A"}},{"$f":"HLOOKUP(L$1,'Base de Dados - Social'!$G:$BM,$G15,)","v":{"$error":"#N/A"}},{"$f":"HLOOKUP(M$1,'Base de Dados - Social'!$G:$BM,$G15,)","v":{"$error":"#N/A"}},{"$f":"HLOOKUP(N$1,'Base de Dados - Social'!$G:$BM,$G15,)","v":{"$error":"#N/A"}},{"$f":"HLOOKUP(O$1,'Base de Dados - Social'!$G:$BM,$G15,)","v":{"$error":"#N/A"}},{"$f":"HLOOKUP(P$1,'Base de Dados - Social'!$G:$BM,$G15,)","v":{"$error":"#N/A"}},{"$f":"HLOOKUP(Q$1,'Base de Dados - Social'!$G:$BM,$G15,)","v":{"$error":"#N/A"}},{"$f":"HLOOKUP(R$1,'Base de Dados - Social'!$G:$BM,$G15,)","v":{"$error":"#N/A"}}]
["Área do município do último Censo ano 2010","a cada 10 anos","Área do município","km","IBGE","Vigilância Sanitária",16,{"$f":"HLOOKUP(H$1,'Base de Dados - Social'!$G:$BM,$G16,)","v":{"$error":"#N/A"}},{"$f":"HLOOKUP(I$1,'Base de Dados - Social'!$G:$BM,$G16,)","v":{"$error":"#N/A"}},{"$f":"HLOOKUP(J$1,'Base de Dados - Social'!$G:$BM,$G16,)","v":{"$error":"#N/A"}},{"$f":"HLOOKUP(K$1,'Base de Dados - Social'!$G:$BM,$G16,)","v":{"$error":"#N/A"}},{"$f":"HLOOKUP(L$1,'Base de Dados - Social'!$G:$BM,$G16,)","v":{"$error":"#N/A"}},{"$f":"HLOOKUP(M$1,'Base de Dados - Social'!$G:$BM,$G16,)","v":{"$error":"#N/A"}},{"$f":"HLOOKUP(N$1,'Base de Dados - Social'!$G:$BM,$G16,)","v":{"$error":"#N/A"}},{"$f":"HLOOKUP(O$1,'Base de Dados - Social'!$G:$BM,$G16,)","v":{"$error":"#N/A"}},{"$f":"HLOOKUP(P$1,'Base de Dados - Social'!$G:$BM,$G16,)","v":{"$error":"#N/A"}},{"$f":"HLOOKUP(Q$1,'Base de Dados - Social'!$G:$BM,$G16,)","v":{"$error":"#N/A"}},{"$f":"HLOOKUP(R$1,'Base de Dados - Social'!$G:$BM,$G16,)","v":{"$error":"#N/A"}}]
["PIB último dados divulgados (2010, 2017) nominal","Anual","Medidor do crescimento econômico","R$","IBGE / IPEA","Vigilância Sanitária",17,{"$f":"HLOOKUP(H$1,'Base de Dados - Social'!$G:$BM,$G17,)","v":{"$error":"#N/A"}},{"$f":"HLOOKUP(I$1,'Base de Dados - Social'!$G:$BM,$G17,)","v":{"$error":"#N/A"}},{"$f":"HLOOKUP(J$1,'Base de Dados - Social'!$G:$BM,$G17,)","v":{"$error":"#N/A"}},{"$f":"HLOOKUP(K$1,'Base de Dados - Social'!$G:$BM,$G17,)","v":{"$error":"#N/A"}},{"$f":"HLOOKUP(L$1,'Base de Dados - Social'!$G:$BM,$G17,)","v":{"$error":"#N/A"}},{"$f":"HLOOKUP(M$1,'Base de Dados - Social'!$G:$BM,$G17,)","v":{"$error":"#N/A"}},{"$f":"HLOOKUP(N$1,'Base de Dados - Social'!$G:$BM,$G17,)","v":{"$error":"#N/A"}},{"$f":"HLOOKUP(O$1,'Base de Dados - Social'!$G:$BM,$G17,)","v":{"$error":"#N/A"}},{"$f":"HLOOKUP(P$1,'Base de Dados - Social'!$G:$BM,$G17,)","v":{"$error":"#N/A"}},{"$f":"HLOOKUP(Q$1,'Base de Dados - Social'!$G:$BM,$G17,)","v":{"$error":"#N/A"}},{"$f":"HLOOKUP(R$1,'Base de Dados - Social'!$G:$BM,$G17,)","v":{"$error":"#N/A"}}]
["Total de alfabetizados e não alfabetizados","a cada 10 anos","Soma dos habitantes alfabetizados e não alfabetizados","habitantes","IBGE / SIDRA","Vigilância Sanitária",18,{"$f":"HLOOKUP(H$1,'Base de Dados - Social'!$G:$BM,$G18,)","v":{"$error":"#N/A"}},{"$f":"HLOOKUP(I$1,'Base de Dados - Social'!$G:$BM,$G18,)","v":{"$error":"#N/A"}},{"$f":"HLOOKUP(J$1,'Base de Dados - Social'!$G:$BM,$G18,)","v":{"$error":"#N/A"}},{"$f":"HLOOKUP(K$1,'Base de Dados - Social'!$G:$BM,$G18,)","v":{"$error":"#N/A"}},{"$f":"HLOOKUP(L$1,'Base de Dados - Social'!$G:$BM,$G18,)","v":{"$error":"#N/A"}},{"$f":"HLOOKUP(M$1,'Base de Dados - Social'!$G:$BM,$G18,)","v":{"$error":"#N/A"}},{"$f":"HLOOKUP(N$1,'Base de Dados - Social'!$G:$BM,$G18,)","v":{"$error":"#N/A"}},{"$f":"HLOOKUP(O$1,'Base de Dados - Social'!$G:$BM,$G18,)","v":{"$error":"#N/A"}},{"$f":"HLOOKUP(P$1,'Base de Dados - Social'!$G:$BM,$G18,)","v":{"$error":"#N/A"}},{"$f":"HLOOKUP(Q$1,'Base de Dados - Social'!$G:$BM,$G18,)","v":{"$error":"#N/A"}},{"$f":"HLOOKUP(R$1,'Base de Dados - Social'!$G:$BM,$G18,)","v":{"$error":"#N/A"}}]
[null,null,null,null,null,null,19,{"$f":"HLOOKUP(H$1,'Base de Dados - Social'!$G:$BM,$G19,)","v":{"$error":"#N/A"}},{"$f":"HLOOKUP(I$1,'Base de Dados - Social'!$G:$BM,$G19,)","v":{"$error":"#N/A"}},{"$f":"HLOOKUP(J$1,'Base de Dados - Social'!$G:$BM,$G19,)","v":{"$error":"#N/A"}},{"$f":"HLOOKUP(K$1,'Base de Dados - Social'!$G:$BM,$G19,)","v":{"$error":"#N/A"}},{"$f":"HLOOKUP(L$1,'Base de Dados - Social'!$G:$BM,$G19,)","v":{"$error":"#N/A"}},{"$f":"HLOOKUP(M$1,'Base de Dados - Social'!$G:$BM,$G19,)","v":{"$error":"#N/A"}},{"$f":"HLOOKUP(N$1,'Base de Dados - Social'!$G:$BM,$G19,)","v":{"$error":"#N/A"}},{"$f":"HLOOKUP(O$1,'Base de Dados - Social'!$G:$BM,$G19,)","v":{"$error":"#N/A"}},{"$f":"HLOOKUP(P$1,'Base de Dados - Social'!$G:$BM,$G19,)","v":{"$error":"#N/A"}},{"$f":"HLOOKUP(Q$1,'Base de Dados - Social'!$G:$BM,$G19,)","v":{"$error":"#N/A"}},{"$f":"HLOOKUP(R$1,'Base de Dados - Social'!$G:$BM,$G19,)","v":{"$error":"#N/A"}}]
[null,null,null,null,null,null,20,{"$f":"HLOOKUP(H$1,'Base de Dados - Social'!$G:$BM,$G20,)","v":{"$error":"#N/A"}},{"$f":"HLOOKUP(I$1,'Base de Dados - Social'!$G:$BM,$G20,)","v":{"$error":"#N/A"}},{"$f":"HLOOKUP(J$1,'Base de Dados - Social'!$G:$BM,$G20,)","v":{"$error":"#N/A"}},{"$f":"HLOOKUP(K$1,'Base de Dados - Social'!$G:$BM,$G20,)","v":{"$error":"#N/A"}},{"$f":"HLOOKUP(L$1,'Base de Dados - Social'!$G:$BM,$G20,)","v":{"$error":"#N/A"}},{"$f":"HLOOKUP(M$1,'Base de Dados - Social'!$G:$BM,$G20,)","v":{"$error":"#N/A"}},{"$f":"HLOOKUP(N$1,'Base de Dados - Social'!$G:$BM,$G20,)","v":{"$error":"#N/A"}},{"$f":"HLOOKUP(O$1,'Base de Dados - Social'!$G:$BM,$G20,)","v":{"$error":"#N/A"}},{"$f":"HLOOKUP(P$1,'Base de Dados - Social'!$G:$BM,$G20,)","v":{"$error":"#N/A"}},{"$f":"HLOOKUP(Q$1,'Base de Dados - Social'!$G:$BM,$G20,)","v":{"$error":"#N/A"}},{"$f":"HLOOKUP(R$1,'Base de Dados - Social'!$G:$BM,$G20,)","v":{"$error":"#N/A"}}]
[null,null,null,null,null,null,21,{"$f":"HLOOKUP(H$1,'Base de Dados - Social'!$G:$BM,$G21,)","v":{"$error":"#N/A"}},{"$f":"HLOOKUP(I$1,'Base de Dados - Social'!$G:$BM,$G21,)","v":{"$error":"#N/A"}},{"$f":"HLOOKUP(J$1,'Base de Dados - Social'!$G:$BM,$G21,)","v":{"$error":"#N/A"}},{"$f":"HLOOKUP(K$1,'Base de Dados - Social'!$G:$BM,$G21,)","v":{"$error":"#N/A"}},{"$f":"HLOOKUP(L$1,'Base de Dados - Social'!$G:$BM,$G21,)","v":{"$error":"#N/A"}},{"$f":"HLOOKUP(M$1,'Base de Dados - Social'!$G:$BM,$G21,)","v":{"$error":"#N/A"}},{"$f":"HLOOKUP(N$1,'Base de Dados - Social'!$G:$BM,$G21,)","v":{"$error":"#N/A"}},{"$f":"HLOOKUP(O$1,'Base de Dados - Social'!$G:$BM,$G21,)","v":{"$error":"#N/A"}},{"$f":"HLOOKUP(P$1,'Base de Dados - Social'!$G:$BM,$G21,)","v":{"$error":"#N/A"}},{"$f":"HLOOKUP(Q$1,'Base de Dados - Social'!$G:$BM,$G21,)","v":{"$error":"#N/A"}},{"$f":"HLOOKUP(R$1,'Base de Dados - Social'!$G:$BM,$G21,)","v":{"$error":"#N/A"}}]
[null,null,null,null,null,null,22,{"$f":"HLOOKUP(H$1,'Base de Dados - Social'!$G:$BM,$G22,)","v":{"$error":"#N/A"}},{"$f":"HLOOKUP(I$1,'Base de Dados - Social'!$G:$BM,$G22,)","v":{"$error":"#N/A"}},{"$f":"HLOOKUP(J$1,'Base de Dados - Social'!$G:$BM,$G22,)","v":{"$error":"#N/A"}},{"$f":"HLOOKUP(K$1,'Base de Dados - Social'!$G:$BM,$G22,)","v":{"$error":"#N/A"}},{"$f":"HLOOKUP(L$1,'Base de Dados - Social'!$G:$BM,$G22,)","v":{"$error":"#N/A"}},{"$f":"HLOOKUP(M$1,'Base de Dados - Social'!$G:$BM,$G22,)","v":{"$error":"#N/A"}},{"$f":"HLOOKUP(N$1,'Base de Dados - Social'!$G:$BM,$G22,)","v":{"$error":"#N/A"}},{"$f":"HLOOKUP(O$1,'Base de Dados - Social'!$G:$BM,$G22,)","v":{"$error":"#N/A"}},{"$f":"HLOOKUP(P$1,'Base de Dados - Social'!$G:$BM,$G22,)","v":{"$error":"#N/A"}},{"$f":"HLOOKUP(Q$1,'Base de Dados - Social'!$G:$BM,$G22,)","v":{"$error":"#N/A"}},{"$f":"HLOOKUP(R$1,'Base de Dados - Social'!$G:$BM,$G22,)","v":{"$error":"#N/A"}}]
[null,null,null,null,null,null,23,{"$f":"HLOOKUP(H$1,'Base de Dados - Social'!$G:$BM,$G23,)","v":{"$error":"#N/A"}},{"$f":"HLOOKUP(I$1,'Base de Dados - Social'!$G:$BM,$G23,)","v":{"$error":"#N/A"}},{"$f":"HLOOKUP(J$1,'Base de Dados - Social'!$G:$BM,$G23,)","v":{"$error":"#N/A"}},{"$f":"HLOOKUP(K$1,'Base de Dados - Social'!$G:$BM,$G23,)","v":{"$error":"#N/A"}},{"$f":"HLOOKUP(L$1,'Base de Dados - Social'!$G:$BM,$G23,)","v":{"$error":"#N/A"}},{"$f":"HLOOKUP(M$1,'Base de Dados - Social'!$G:$BM,$G23,)","v":{"$error":"#N/A"}},{"$f":"HLOOKUP(N$1,'Base de Dados - Social'!$G:$BM,$G23,)","v":{"$error":"#N/A"}},{"$f":"HLOOKUP(O$1,'Base de Dados - Social'!$G:$BM,$G23,)","v":{"$error":"#N/A"}},{"$f":"HLOOKUP(P$1,'Base de Dados - Social'!$G:$BM,$G23,)","v":{"$error":"#N/A"}},{"$f":"HLOOKUP(Q$1,'Base de Dados - Social'!$G:$BM,$G23,)","v":{"$error":"#N/A"}},{"$f":"HLOOKUP(R$1,'Base de Dados - Social'!$G:$BM,$G23,)","v":{"$error":"#N/A"}}]
[null,null,null,null,null,null,24,{"$f":"HLOOKUP(H$1,'Base de Dados - Social'!$G:$BM,$G24,)","v":{"$error":"#N/A"}},{"$f":"HLOOKUP(I$1,'Base de Dados - Social'!$G:$BM,$G24,)","v":{"$error":"#N/A"}},{"$f":"HLOOKUP(J$1,'Base de Dados - Social'!$G:$BM,$G24,)","v":{"$error":"#N/A"}},{"$f":"HLOOKUP(K$1,'Base de Dados - Social'!$G:$BM,$G24,)","v":{"$error":"#N/A"}},{"$f":"HLOOKUP(L$1,'Base de Dados - Social'!$G:$BM,$G24,)","v":{"$error":"#N/A"}},{"$f":"HLOOKUP(M$1,'Base de Dados - Social'!$G:$BM,$G24,)","v":{"$error":"#N/A"}},{"$f":"HLOOKUP(N$1,'Base de Dados - Social'!$G:$BM,$G24,)","v":{"$error":"#N/A"}},{"$f":"HLOOKUP(O$1,'Base de Dados - Social'!$G:$BM,$G24,)","v":{"$error":"#N/A"}},{"$f":"HLOOKUP(P$1,'Base de Dados - Social'!$G:$BM,$G24,)","v":{"$error":"#N/A"}},{"$f":"HLOOKUP(Q$1,'Base de Dados - Social'!$G:$BM,$G24,)","v":{"$error":"#N/A"}},{"$f":"HLOOKUP(R$1,'Base de Dados - Social'!$G:$BM,$G24,)","v":{"$error":"#N/A"}}]
[null,null,null,null,null,null,25,{"$f":"HLOOKUP(H$1,'Base de Dados - Social'!$G:$BM,$G25,)","v":{"$error":"#N/A"}},{"$f":"HLOOKUP(I$1,'Base de Dados - Social'!$G:$BM,$G25,)","v":{"$error":"#N/A"}},{"$f":"HLOOKUP(J$1,'Base de Dados - Social'!$G:$BM,$G25,)","v":{"$error":"#N/A"}},{"$f":"HLOOKUP(K$1,'Base de Dados - Social'!$G:$BM,$G25,)","v":{"$error":"#N/A"}},{"$f":"HLOOKUP(L$1,'Base de Dados - Social'!$G:$BM,$G25,)","v":{"$error":"#N/A"}},{"$f":"HLOOKUP(M$1,'Base de Dados - Social'!$G:$BM,$G25,)","v":{"$error":"#N/A"}},{"$f":"HLOOKUP(N$1,'Base de Dados - Social'!$G:$BM,$G25,)","v":{"$error":"#N/A"}},{"$f":"HLOOKUP(O$1,'Base de Dados - Social'!$G:$BM,$G25,)","v":{"$error":"#N/A"}},{"$f":"HLOOKUP(P$1,'Base de Dados - Social'!$G:$BM,$G25,)","v":{"$error":"#N/A"}},{"$f":"HLOOKUP(Q$1,'Base de Dados - Social'!$G:$BM,$G25,)","v":{"$error":"#N/A"}},{"$f":"HLOOKUP(R$1,'Base de Dados - Social'!$G:$BM,$G25,)","v":{"$error":"#N/A"}}]
[null,null,null,null,null,null,26,{"$f":"HLOOKUP(H$1,'Base de Dados - Social'!$G:$BM,$G26,)","v":{"$error":"#N/A"}},{"$f":"HLOOKUP(I$1,'Base de Dados - Social'!$G:$BM,$G26,)","v":{"$error":"#N/A"}},{"$f":"HLOOKUP(J$1,'Base de Dados - Social'!$G:$BM,$G26,)","v":{"$error":"#N/A"}},{"$f":"HLOOKUP(K$1,'Base de Dados - Social'!$G:$BM,$G26,)","v":{"$error":"#N/A"}},{"$f":"HLOOKUP(L$1,'Base de Dados - Social'!$G:$BM,$G26,)","v":{"$error":"#N/A"}},{"$f":"HLOOKUP(M$1,'Base de Dados - Social'!$G:$BM,$G26,)","v":{"$error":"#N/A"}},{"$f":"HLOOKUP(N$1,'Base de Dados - Social'!$G:$BM,$G26,)","v":{"$error":"#N/A"}},{"$f":"HLOOKUP(O$1,'Base de Dados - Social'!$G:$BM,$G26,)","v":{"$error":"#N/A"}},{"$f":"HLOOKUP(P$1,'Base de Dados - Social'!$G:$BM,$G26,)","v":{"$error":"#N/A"}},{"$f":"HLOOKUP(Q$1,'Base de Dados - Social'!$G:$BM,$G26,)","v":{"$error":"#N/A"}},{"$f":"HLOOKUP(R$1,'Base de Dados - Social'!$G:$BM,$G26,)","v":{"$error":"#N/A"}}]
[null,null,null,null,null,null,27,{"$f":"HLOOKUP(H$1,'Base de Dados - Social'!$G:$BM,$G27,)","v":{"$error":"#N/A"}},{"$f":"HLOOKUP(I$1,'Base de Dados - Social'!$G:$BM,$G27,)","v":{"$error":"#N/A"}},{"$f":"HLOOKUP(J$1,'Base de Dados - Social'!$G:$BM,$G27,)","v":{"$error":"#N/A"}},{"$f":"HLOOKUP(K$1,'Base de Dados - Social'!$G:$BM,$G27,)","v":{"$error":"#N/A"}},{"$f":"HLOOKUP(L$1,'Base de Dados - Social'!$G:$BM,$G27,)","v":{"$error":"#N/A"}},{"$f":"HLOOKUP(M$1,'Base de Dados - Social'!$G:$BM,$G27,)","v":{"$error":"#N/A"}},{"$f":"HLOOKUP(N$1,'Base de Dados - Social'!$G:$BM,$G27,)","v":{"$error":"#N/A"}},{"$f":"HLOOKUP(O$1,'Base de Dados - Social'!$G:$BM,$G27,)","v":{"$error":"#N/A"}},{"$f":"HLOOKUP(P$1,'Base de Dados - Social'!$G:$BM,$G27,)","v":{"$error":"#N/A"}},{"$f":"HLOOKUP(Q$1,'Base de Dados - Social'!$G:$BM,$G27,)","v":{"$error":"#N/A"}},{"$f":"HLOOKUP(R$1,'Base de Dados - Social'!$G:$BM,$G27,)","v":{"$error":"#N/A"}}]
[null,null,null,null,null,null,28,{"$f":"HLOOKUP(H$1,'Base de Dados - Social'!$G:$BM,$G28,)","v":{"$error":"#N/A"}},{"$f":"HLOOKUP(I$1,'Base de Dados - Social'!$G:$BM,$G28,)","v":{"$error":"#N/A"}},{"$f":"HLOOKUP(J$1,'Base de Dados - Social'!$G:$BM,$G28,)","v":{"$error":"#N/A"}},{"$f":"HLOOKUP(K$1,'Base de Dados - Social'!$G:$BM,$G28,)","v":{"$error":"#N/A"}},{"$f":"HLOOKUP(L$1,'Base de Dados - Social'!$G:$BM,$G28,)","v":{"$error":"#N/A"}},{"$f":"HLOOKUP(M$1,'Base de Dados - Social'!$G:$BM,$G28,)","v":{"$error":"#N/A"}},{"$f":"HLOOKUP(N$1,'Base de Dados - Social'!$G:$BM,$G28,)","v":{"$error":"#N/A"}},{"$f":"HLOOKUP(O$1,'Base de Dados - Social'!$G:$BM,$G28,)","v":{"$error":"#N/A"}},{"$f":"HLOOKUP(P$1,'Base de Dados - Social'!$G:$BM,$G28,)","v":{"$error":"#N/A"}},{"$f":"HLOOKUP(Q$1,'Base de Dados - Social'!$G:$BM,$G28,)","v":{"$error":"#N/A"}},{"$f":"HLOOKUP(R$1,'Base de Dados - Social'!$G:$BM,$G28,)","v":{"$error":"#N/A"}}]
[null,null,null,null,null,null,29,{"$f":"HLOOKUP(H$1,'Base de Dados - Social'!$G:$BM,$G29,)","v":{"$error":"#N/A"}},{"$f":"HLOOKUP(I$1,'Base de Dados - Social'!$G:$BM,$G29,)","v":{"$error":"#N/A"}},{"$f":"HLOOKUP(J$1,'Base de Dados - Social'!$G:$BM,$G29,)","v":{"$error":"#N/A"}},{"$f":"HLOOKUP(K$1,'Base de Dados - Social'!$G:$BM,$G29,)","v":{"$error":"#N/A"}},{"$f":"HLOOKUP(L$1,'Base de Dados - Social'!$G:$BM,$G29,)","v":{"$error":"#N/A"}},{"$f":"HLOOKUP(M$1,'Base de Dados - Social'!$G:$BM,$G29,)","v":{"$error":"#N/A"}},{"$f":"HLOOKUP(N$1,'Base de Dados - Social'!$G:$BM,$G29,)","v":{"$error":"#N/A"}},{"$f":"HLOOKUP(O$1,'Base de Dados - Social'!$G:$BM,$G29,)","v":{"$error":"#N/A"}},{"$f":"HLOOKUP(P$1,'Base de Dados - Social'!$G:$BM,$G29,)","v":{"$error":"#N/A"}},{"$f":"HLOOKUP(Q$1,'Base de Dados - Social'!$G:$BM,$G29,)","v":{"$error":"#N/A"}},{"$f":"HLOOKUP(R$1,'Base de Dados - Social'!$G:$BM,$G29,)","v":{"$error":"#N/A"}}]
[null,null,null,null,null,null,30,{"$f":"HLOOKUP(H$1,'Base de Dados - Social'!$G:$BM,$G30,)","v":{"$error":"#N/A"}},{"$f":"HLOOKUP(I$1,'Base de Dados - Social'!$G:$BM,$G30,)","v":{"$error":"#N/A"}},{"$f":"HLOOKUP(J$1,'Base de Dados - Social'!$G:$BM,$G30,)","v":{"$error":"#N/A"}},{"$f":"HLOOKUP(K$1,'Base de Dados - Social'!$G:$BM,$G30,)","v":{"$error":"#N/A"}},{"$f":"HLOOKUP(L$1,'Base de Dados - Social'!$G:$BM,$G30,)","v":{"$error":"#N/A"}},{"$f":"HLOOKUP(M$1,'Base de Dados - Social'!$G:$BM,$G30,)","v":{"$error":"#N/A"}},{"$f":"HLOOKUP(N$1,'Base de Dados - Social'!$G:$BM,$G30,)","v":{"$error":"#N/A"}},{"$f":"HLOOKUP(O$1,'Base de Dados - Social'!$G:$BM,$G30,)","v":{"$error":"#N/A"}},{"$f":"HLOOKUP(P$1,'Base de Dados - Social'!$G:$BM,$G30,)","v":{"$error":"#N/A"}},{"$f":"HLOOKUP(Q$1,'Base de Dados - Social'!$G:$BM,$G30,)","v":{"$error":"#N/A"}},{"$f":"HLOOKUP(R$1,'Base de Dados - Social'!$G:$BM,$G30,)","v":{"$error":"#N/A"}}]
[null,null,null,null,null,null,31,{"$f":"HLOOKUP(H$1,'Base de Dados - Social'!$G:$BM,$G31,)","v":{"$error":"#N/A"}},{"$f":"HLOOKUP(I$1,'Base de Dados - Social'!$G:$BM,$G31,)","v":{"$error":"#N/A"}},{"$f":"HLOOKUP(J$1,'Base de Dados - Social'!$G:$BM,$G31,)","v":{"$error":"#N/A"}},{"$f":"HLOOKUP(K$1,'Base de Dados - Social'!$G:$BM,$G31,)","v":{"$error":"#N/A"}},{"$f":"HLOOKUP(L$1,'Base de Dados - Social'!$G:$BM,$G31,)","v":{"$error":"#N/A"}},{"$f":"HLOOKUP(M$1,'Base de Dados - Social'!$G:$BM,$G31,)","v":{"$error":"#N/A"}},{"$f":"HLOOKUP(N$1,'Base de Dados - Social'!$G:$BM,$G31,)","v":{"$error":"#N/A"}},{"$f":"HLOOKUP(O$1,'Base de Dados - Social'!$G:$BM,$G31,)","v":{"$error":"#N/A"}},{"$f":"HLOOKUP(P$1,'Base de Dados - Social'!$G:$BM,$G31,)","v":{"$error":"#N/A"}},{"$f":"HLOOKUP(Q$1,'Base de Dados - Social'!$G:$BM,$G31,)","v":{"$error":"#N/A"}},{"$f":"HLOOKUP(R$1,'Base de Dados - Social'!$G:$BM,$G31,)","v":{"$error":"#N/A"}}]
[null,null,null,null,null,null,32,{"$f":"HLOOKUP(H$1,'Base de Dados - Social'!$G:$BM,$G32,)","v":{"$error":"#N/A"}},{"$f":"HLOOKUP(I$1,'Base de Dados - Social'!$G:$BM,$G32,)","v":{"$error":"#N/A"}},{"$f":"HLOOKUP(J$1,'Base de Dados - Social'!$G:$BM,$G32,)","v":{"$error":"#N/A"}},{"$f":"HLOOKUP(K$1,'Base de Dados - Social'!$G:$BM,$G32,)","v":{"$error":"#N/A"}},{"$f":"HLOOKUP(L$1,'Base de Dados - Social'!$G:$BM,$G32,)","v":{"$error":"#N/A"}},{"$f":"HLOOKUP(M$1,'Base de Dados - Social'!$G:$BM,$G32,)","v":{"$error":"#N/A"}},{"$f":"HLOOKUP(N$1,'Base de Dados - Social'!$G:$BM,$G32,)","v":{"$error":"#N/A"}},{"$f":"HLOOKUP(O$1,'Base de Dados - Social'!$G:$BM,$G32,)","v":{"$error":"#N/A"}},{"$f":"HLOOKUP(P$1,'Base de Dados - Social'!$G:$BM,$G32,)","v":{"$error":"#N/A"}},{"$f":"HLOOKUP(Q$1,'Base de Dados - Social'!$G:$BM,$G32,)","v":{"$error":"#N/A"}},{"$f":"HLOOKUP(R$1,'Base de Dados - Social'!$G:$BM,$G32,)","v":{"$error":"#N/A"}}]
[null,null,null,null,null,null,33,{"$f":"HLOOKUP(H$1,'Base de Dados - Social'!$G:$BM,$G33,)","v":{"$error":"#N/A"}},{"$f":"HLOOKUP(I$1,'Base de Dados - Social'!$G:$BM,$G33,)","v":{"$error":"#N/A"}},{"$f":"HLOOKUP(J$1,'Base de Dados - Social'!$G:$BM,$G33,)","v":{"$error":"#N/A"}},{"$f":"HLOOKUP(K$1,'Base de Dados - Social'!$G:$BM,$G33,)","v":{"$error":"#N/A"}},{"$f":"HLOOKUP(L$1,'Base de Dados - Social'!$G:$BM,$G33,)","v":{"$error":"#N/A"}},{"$f":"HLOOKUP(M$1,'Base de Dados - Social'!$G:$BM,$G33,)","v":{"$error":"#N/A"}},{"$f":"HLOOKUP(N$1,'Base de Dados - Social'!$G:$BM,$G33,)","v":{"$error":"#N/A"}},{"$f":"HLOOKUP(O$1,'Base de Dados - Social'!$G:$BM,$G33,)","v":{"$error":"#N/A"}},{"$f":"HLOOKUP(P$1,'Base de Dados - Social'!$G:$BM,$G33,)","v":{"$error":"#N/A"}},{"$f":"HLOOKUP(Q$1,'Base de Dados - Social'!$G:$BM,$G33,)","v":{"$error":"#N/A"}},{"$f":"HLOOKUP(R$1,'Base de Dados - Social'!$G:$BM,$G33,)","v":{"$error":"#N/A"}}]
[null,null,null,null,null,null,34,{"$f":"HLOOKUP(H$1,'Base de Dados - Social'!$G:$BM,$G34,)","v":{"$error":"#N/A"}},{"$f":"HLOOKUP(I$1,'Base de Dados - Social'!$G:$BM,$G34,)","v":{"$error":"#N/A"}},{"$f":"HLOOKUP(J$1,'Base de Dados - Social'!$G:$BM,$G34,)","v":{"$error":"#N/A"}},{"$f":"HLOOKUP(K$1,'Base de Dados - Social'!$G:$BM,$G34,)","v":{"$error":"#N/A"}},{"$f":"HLOOKUP(L$1,'Base de Dados - Social'!$G:$BM,$G34,)","v":{"$error":"#N/A"}},{"$f":"HLOOKUP(M$1,'Base de Dados - Social'!$G:$BM,$G34,)","v":{"$error":"#N/A"}},{"$f":"HLOOKUP(N$1,'Base de Dados - Social'!$G:$BM,$G34,)","v":{"$error":"#N/A"}},{"$f":"HLOOKUP(O$1,'Base de Dados - Social'!$G:$BM,$G34,)","v":{"$error":"#N/A"}},{"$f":"HLOOKUP(P$1,'Base de Dados - Social'!$G:$BM,$G34,)","v":{"$error":"#N/A"}},{"$f":"HLOOKUP(Q$1,'Base de Dados - Social'!$G:$BM,$G34,)","v":{"$error":"#N/A"}},{"$f":"HLOOKUP(R$1,'Base de Dados - Social'!$G:$BM,$G34,)","v":{"$error":"#N/A"}}]
[null,null,null,null,null,null,35,{"$f":"HLOOKUP(H$1,'Base de Dados - Social'!$G:$BM,$G35,)","v":{"$error":"#N/A"}},{"$f":"HLOOKUP(I$1,'Base de Dados - Social'!$G:$BM,$G35,)","v":{"$error":"#N/A"}},{"$f":"HLOOKUP(J$1,'Base de Dados - Social'!$G:$BM,$G35,)","v":{"$error":"#N/A"}},{"$f":"HLOOKUP(K$1,'Base de Dados - Social'!$G:$BM,$G35,)","v":{"$error":"#N/A"}},{"$f":"HLOOKUP(L$1,'Base de Dados - Social'!$G:$BM,$G35,)","v":{"$error":"#N/A"}},{"$f":"HLOOKUP(M$1,'Base de Dados - Social'!$G:$BM,$G35,)","v":{"$error":"#N/A"}},{"$f":"HLOOKUP(N$1,'Base de Dados - Social'!$G:$BM,$G35,)","v":{"$error":"#N/A"}},{"$f":"HLOOKUP(O$1,'Base de Dados - Social'!$G:$BM,$G35,)","v":{"$error":"#N/A"}},{"$f":"HLOOKUP(P$1,'Base de Dados - Social'!$G:$BM,$G35,)","v":{"$error":"#N/A"}},{"$f":"HLOOKUP(Q$1,'Base de Dados - Social'!$G:$BM,$G35,)","v":{"$error":"#N/A"}},{"$f":"HLOOKUP(R$1,'Base de Dados - Social'!$G:$BM,$G35,)","v":{"$error":"#N/A"}}]
[null,null,null,null,null,null,36,{"$f":"HLOOKUP(H$1,'Base de Dados - Social'!$G:$BM,$G36,)","v":{"$error":"#N/A"}},{"$f":"HLOOKUP(I$1,'Base de Dados - Social'!$G:$BM,$G36,)","v":{"$error":"#N/A"}},{"$f":"HLOOKUP(J$1,'Base de Dados - Social'!$G:$BM,$G36,)","v":{"$error":"#N/A"}},{"$f":"HLOOKUP(K$1,'Base de Dados - Social'!$G:$BM,$G36,)","v":{"$error":"#N/A"}},{"$f":"HLOOKUP(L$1,'Base de Dados - Social'!$G:$BM,$G36,)","v":{"$error":"#N/A"}},{"$f":"HLOOKUP(M$1,'Base de Dados - Social'!$G:$BM,$G36,)","v":{"$error":"#N/A"}},{"$f":"HLOOKUP(N$1,'Base de Dados - Social'!$G:$BM,$G36,)","v":{"$error":"#N/A"}},{"$f":"HLOOKUP(O$1,'Base de Dados - Social'!$G:$BM,$G36,)","v":{"$error":"#N/A"}},{"$f":"HLOOKUP(P$1,'Base de Dados - Social'!$G:$BM,$G36,)","v":{"$error":"#N/A"}},{"$f":"HLOOKUP(Q$1,'Base de Dados - Social'!$G:$BM,$G36,)","v":{"$error":"#N/A"}},{"$f":"HLOOKUP(R$1,'Base de Dados - Social'!$G:$BM,$G36,)","v":{"$error":"#N/A"}}]
[null,null,null,null,null,null,37,{"$f":"HLOOKUP(H$1,'Base de Dados - Social'!$G:$BM,$G37,)","v":{"$error":"#N/A"}},{"$f":"HLOOKUP(I$1,'Base de Dados - Social'!$G:$BM,$G37,)","v":{"$error":"#N/A"}},{"$f":"HLOOKUP(J$1,'Base de Dados - Social'!$G:$BM,$G37,)","v":{"$error":"#N/A"}},{"$f":"HLOOKUP(K$1,'Base de Dados - Social'!$G:$BM,$G37,)","v":{"$error":"#N/A"}},{"$f":"HLOOKUP(L$1,'Base de Dados - Social'!$G:$BM,$G37,)","v":{"$error":"#N/A"}},{"$f":"HLOOKUP(M$1,'Base de Dados - Social'!$G:$BM,$G37,)","v":{"$error":"#N/A"}},{"$f":"HLOOKUP(N$1,'Base de Dados - Social'!$G:$BM,$G37,)","v":{"$error":"#N/A"}},{"$f":"HLOOKUP(O$1,'Base de Dados - Social'!$G:$BM,$G37,)","v":{"$error":"#N/A"}},{"$f":"HLOOKUP(P$1,'Base de Dados - Social'!$G:$BM,$G37,)","v":{"$error":"#N/A"}},{"$f":"HLOOKUP(Q$1,'Base de Dados - Social'!$G:$BM,$G37,)","v":{"$error":"#N/A"}},{"$f":"HLOOKUP(R$1,'Base de Dados - Social'!$G:$BM,$G37,)","v":{"$error":"#N/A"}}]
[null,null,null,null,null,null,38,{"$f":"HLOOKUP(H$1,'Base de Dados - Social'!$G:$BM,$G38,)","v":{"$error":"#N/A"}},{"$f":"HLOOKUP(I$1,'Base de Dados - Social'!$G:$BM,$G38,)","v":{"$error":"#N/A"}},{"$f":"HLOOKUP(J$1,'Base de Dados - Social'!$G:$BM,$G38,)","v":{"$error":"#N/A"}},{"$f":"HLOOKUP(K$1,'Base de Dados - Social'!$G:$BM,$G38,)","v":{"$error":"#N/A"}},{"$f":"HLOOKUP(L$1,'Base de Dados - Social'!$G:$BM,$G38,)","v":{"$error":"#N/A"}},{"$f":"HLOOKUP(M$1,'Base de Dados - Social'!$G:$BM,$G38,)","v":{"$error":"#N/A"}},{"$f":"HLOOKUP(N$1,'Base de Dados - Social'!$G:$BM,$G38,)","v":{"$error":"#N/A"}},{"$f":"HLOOKUP(O$1,'Base de Dados - Social'!$G:$BM,$G38,)","v":{"$error":"#N/A"}},{"$f":"HLOOKUP(P$1,'Base de Dados - Social'!$G:$BM,$G38,)","v":{"$error":"#N/A"}},{"$f":"HLOOKUP(Q$1,'Base de Dados - Social'!$G:$BM,$G38,)","v":{"$error":"#N/A"}},{"$f":"HLOOKUP(R$1,'Base de Dados - Social'!$G:$BM,$G38,)","v":{"$error":"#N/A"}}]
[null,null,null,null,null,null,39,{"$f":"HLOOKUP(H$1,'Base de Dados - Social'!$G:$BM,$G39,)","v":{"$error":"#N/A"}},{"$f":"HLOOKUP(I$1,'Base de Dados - Social'!$G:$BM,$G39,)","v":{"$error":"#N/A"}},{"$f":"HLOOKUP(J$1,'Base de Dados - Social'!$G:$BM,$G39,)","v":{"$error":"#N/A"}},{"$f":"HLOOKUP(K$1,'Base de Dados - Social'!$G:$BM,$G39,)","v":{"$error":"#N/A"}},{"$f":"HLOOKUP(L$1,'Base de Dados - Social'!$G:$BM,$G39,)","v":{"$error":"#N/A"}},{"$f":"HLOOKUP(M$1,'Base de Dados - Social'!$G:$BM,$G39,)","v":{"$error":"#N/A"}},{"$f":"HLOOKUP(N$1,'Base de Dados - Social'!$G:$BM,$G39,)","v":{"$error":"#N/A"}},{"$f":"HLOOKUP(O$1,'Base de Dados - Social'!$G:$BM,$G39,)","v":{"$error":"#N/A"}},{"$f":"HLOOKUP(P$1,'Base de Dados - Social'!$G:$BM,$G39,)","v":{"$error":"#N/A"}},{"$f":"HLOOKUP(Q$1,'Base de Dados - Social'!$G:$BM,$G39,)","v":{"$error":"#N/A"}},{"$f":"HLOOKUP(R$1,'Base de Dados - Social'!$G:$BM,$G39,)","v":{"$error":"#N/A"}}]
[null,null,null,null,null,null,40,{"$f":"HLOOKUP(H$1,'Base de Dados - Social'!$G:$BM,$G40,)","v":{"$error":"#N/A"}},{"$f":"HLOOKUP(I$1,'Base de Dados - Social'!$G:$BM,$G40,)","v":{"$error":"#N/A"}},{"$f":"HLOOKUP(J$1,'Base de Dados - Social'!$G:$BM,$G40,)","v":{"$error":"#N/A"}},{"$f":"HLOOKUP(K$1,'Base de Dados - Social'!$G:$BM,$G40,)","v":{"$error":"#N/A"}},{"$f":"HLOOKUP(L$1,'Base de Dados - Social'!$G:$BM,$G40,)","v":{"$error":"#N/A"}},{"$f":"HLOOKUP(M$1,'Base de Dados - Social'!$G:$BM,$G40,)","v":{"$error":"#N/A"}},{"$f":"HLOOKUP(N$1,'Base de Dados - Social'!$G:$BM,$G40,)","v":{"$error":"#N/A"}},{"$f":"HLOOKUP(O$1,'Base de Dados - Social'!$G:$BM,$G40,)","v":{"$error":"#N/A"}},{"$f":"HLOOKUP(P$1,'Base de Dados - Social'!$G:$BM,$G40,)","v":{"$error":"#N/A"}},{"$f":"HLOOKUP(Q$1,'Base de Dados - Social'!$G:$BM,$G40,)","v":{"$error":"#N/A"}},{"$f":"HLOOKUP(R$1,'Base de Dados - Social'!$G:$BM,$G40,)","v":{"$error":"#N/A"}}]
[null,null,null,null,null,null,41,{"$f":"HLOOKUP(H$1,'Base de Dados - Social'!$G:$BM,$G41,)","v":{"$error":"#N/A"}},{"$f":"HLOOKUP(I$1,'Base de Dados - Social'!$G:$BM,$G41,)","v":{"$error":"#N/A"}},{"$f":"HLOOKUP(J$1,'Base de Dados - Social'!$G:$BM,$G41,)","v":{"$error":"#N/A"}},{"$f":"HLOOKUP(K$1,'Base de Dados - Social'!$G:$BM,$G41,)","v":{"$error":"#N/A"}},{"$f":"HLOOKUP(L$1,'Base de Dados - Social'!$G:$BM,$G41,)","v":{"$error":"#N/A"}},{"$f":"HLOOKUP(M$1,'Base de Dados - Social'!$G:$BM,$G41,)","v":{"$error":"#N/A"}},{"$f":"HLOOKUP(N$1,'Base de Dados - Social'!$G:$BM,$G41,)","v":{"$error":"#N/A"}},{"$f":"HLOOKUP(O$1,'Base de Dados - Social'!$G:$BM,$G41,)","v":{"$error":"#N/A"}},{"$f":"HLOOKUP(P$1,'Base de Dados - Social'!$G:$BM,$G41,)","v":{"$error":"#N/A"}},{"$f":"HLOOKUP(Q$1,'Base de Dados - Social'!$G:$BM,$G41,)","v":{"$error":"#N/A"}},{"$f":"HLOOKUP(R$1,'Base de Dados - Social'!$G:$BM,$G41,)","v":{"$error":"#N/A"}}]
[null,null,null,null,null,null,42,{"$f":"HLOOKUP(H$1,'Base de Dados - Social'!$G:$BM,$G42,)","v":{"$error":"#N/A"}},{"$f":"HLOOKUP(I$1,'Base de Dados - Social'!$G:$BM,$G42,)","v":{"$error":"#N/A"}},{"$f":"HLOOKUP(J$1,'Base de Dados - Social'!$G:$BM,$G42,)","v":{"$error":"#N/A"}},{"$f":"HLOOKUP(K$1,'Base de Dados - Social'!$G:$BM,$G42,)","v":{"$error":"#N/A"}},{"$f":"HLOOKUP(L$1,'Base de Dados - Social'!$G:$BM,$G42,)","v":{"$error":"#N/A"}},{"$f":"HLOOKUP(M$1,'Base de Dados - Social'!$G:$BM,$G42,)","v":{"$error":"#N/A"}},{"$f":"HLOOKUP(N$1,'Base de Dados - Social'!$G:$BM,$G42,)","v":{"$error":"#N/A"}},{"$f":"HLOOKUP(O$1,'Base de Dados - Social'!$G:$BM,$G42,)","v":{"$error":"#N/A"}},{"$f":"HLOOKUP(P$1,'Base de Dados - Social'!$G:$BM,$G42,)","v":{"$error":"#N/A"}},{"$f":"HLOOKUP(Q$1,'Base de Dados - Social'!$G:$BM,$G42,)","v":{"$error":"#N/A"}},{"$f":"HLOOKUP(R$1,'Base de Dados - Social'!$G:$BM,$G42,)","v":{"$error":"#N/A"}}]
[null,null,null,null,null,null,43,{"$f":"HLOOKUP(H$1,'Base de Dados - Social'!$G:$BM,$G43,)","v":{"$error":"#N/A"}},{"$f":"HLOOKUP(I$1,'Base de Dados - Social'!$G:$BM,$G43,)","v":{"$error":"#N/A"}},{"$f":"HLOOKUP(J$1,'Base de Dados - Social'!$G:$BM,$G43,)","v":{"$error":"#N/A"}},{"$f":"HLOOKUP(K$1,'Base de Dados - Social'!$G:$BM,$G43,)","v":{"$error":"#N/A"}},{"$f":"HLOOKUP(L$1,'Base de Dados - Social'!$G:$BM,$G43,)","v":{"$error":"#N/A"}},{"$f":"HLOOKUP(M$1,'Base de Dados - Social'!$G:$BM,$G43,)","v":{"$error":"#N/A"}},{"$f":"HLOOKUP(N$1,'Base de Dados - Social'!$G:$BM,$G43,)","v":{"$error":"#N/A"}},{"$f":"HLOOKUP(O$1,'Base de Dados - Social'!$G:$BM,$G43,)","v":{"$error":"#N/A"}},{"$f":"HLOOKUP(P$1,'Base de Dados - Social'!$G:$BM,$G43,)","v":{"$error":"#N/A"}},{"$f":"HLOOKUP(Q$1,'Base de Dados - Social'!$G:$BM,$G43,)","v":{"$error":"#N/A"}},{"$f":"HLOOKUP(R$1,'Base de Dados - Social'!$G:$BM,$G43,)","v":{"$error":"#N/A"}}]
[null,null,null,null,null,null,44,{"$f":"HLOOKUP(H$1,'Base de Dados - Social'!$G:$BM,$G44,)","v":{"$error":"#N/A"}},{"$f":"HLOOKUP(I$1,'Base de Dados - Social'!$G:$BM,$G44,)","v":{"$error":"#N/A"}},{"$f":"HLOOKUP(J$1,'Base de Dados - Social'!$G:$BM,$G44,)","v":{"$error":"#N/A"}},{"$f":"HLOOKUP(K$1,'Base de Dados - Social'!$G:$BM,$G44,)","v":{"$error":"#N/A"}},{"$f":"HLOOKUP(L$1,'Base de Dados - Social'!$G:$BM,$G44,)","v":{"$error":"#N/A"}},{"$f":"HLOOKUP(M$1,'Base de Dados - Social'!$G:$BM,$G44,)","v":{"$error":"#N/A"}},{"$f":"HLOOKUP(N$1,'Base de Dados - Social'!$G:$BM,$G44,)","v":{"$error":"#N/A"}},{"$f":"HLOOKUP(O$1,'Base de Dados - Social'!$G:$BM,$G44,)","v":{"$error":"#N/A"}},{"$f":"HLOOKUP(P$1,'Base de Dados - Social'!$G:$BM,$G44,)","v":{"$error":"#N/A"}},{"$f":"HLOOKUP(Q$1,'Base de Dados - Social'!$G:$BM,$G44,)","v":{"$error":"#N/A"}},{"$f":"HLOOKUP(R$1,'Base de Dados - Social'!$G:$BM,$G44,)","v":{"$error":"#N/A"}}]
[null,null,null,null,null,null,45,{"$f":"HLOOKUP(H$1,'Base de Dados - Social'!$G:$BM,$G45,)","v":{"$error":"#N/A"}},{"$f":"HLOOKUP(I$1,'Base de Dados - Social'!$G:$BM,$G45,)","v":{"$error":"#N/A"}},{"$f":"HLOOKUP(J$1,'Base de Dados - Social'!$G:$BM,$G45,)","v":{"$error":"#N/A"}},{"$f":"HLOOKUP(K$1,'Base de Dados - Social'!$G:$BM,$G45,)","v":{"$error":"#N/A"}},{"$f":"HLOOKUP(L$1,'Base de Dados - Social'!$G:$BM,$G45,)","v":{"$error":"#N/A"}},{"$f":"HLOOKUP(M$1,'Base de Dados - Social'!$G:$BM,$G45,)","v":{"$error":"#N/A"}},{"$f":"HLOOKUP(N$1,'Base de Dados - Social'!$G:$BM,$G45,)","v":{"$error":"#N/A"}},{"$f":"HLOOKUP(O$1,'Base de Dados - Social'!$G:$BM,$G45,)","v":{"$error":"#N/A"}},{"$f":"HLOOKUP(P$1,'Base de Dados - Social'!$G:$BM,$G45,)","v":{"$error":"#N/A"}},{"$f":"HLOOKUP(Q$1,'Base de Dados - Social'!$G:$BM,$G45,)","v":{"$error":"#N/A"}},{"$f":"HLOOKUP(R$1,'Base de Dados - Social'!$G:$BM,$G45,)","v":{"$error":"#N/A"}}]
[null,null,null,null,null,null,46,{"$f":"HLOOKUP(H$1,'Base de Dados - Social'!$G:$BM,$G46,)","v":{"$error":"#N/A"}},{"$f":"HLOOKUP(I$1,'Base de Dados - Social'!$G:$BM,$G46,)","v":{"$error":"#N/A"}},{"$f":"HLOOKUP(J$1,'Base de Dados - Social'!$G:$BM,$G46,)","v":{"$error":"#N/A"}},{"$f":"HLOOKUP(K$1,'Base de Dados - Social'!$G:$BM,$G46,)","v":{"$error":"#N/A"}},{"$f":"HLOOKUP(L$1,'Base de Dados - Social'!$G:$BM,$G46,)","v":{"$error":"#N/A"}},{"$f":"HLOOKUP(M$1,'Base de Dados - Social'!$G:$BM,$G46,)","v":{"$error":"#N/A"}},{"$f":"HLOOKUP(N$1,'Base de Dados - Social'!$G:$BM,$G46,)","v":{"$error":"#N/A"}},{"$f":"HLOOKUP(O$1,'Base de Dados - Social'!$G:$BM,$G46,)","v":{"$error":"#N/A"}},{"$f":"HLOOKUP(P$1,'Base de Dados - Social'!$G:$BM,$G46,)","v":{"$error":"#N/A"}},{"$f":"HLOOKUP(Q$1,'Base de Dados - Social'!$G:$BM,$G46,)","v":{"$error":"#N/A"}},{"$f":"HLOOKUP(R$1,'Base de Dados - Social'!$G:$BM,$G46,)","v":{"$error":"#N/A"}}]
[null,null,null,null,null,null,47,{"$f":"HLOOKUP(H$1,'Base de Dados - Social'!$G:$BM,$G47,)","v":{"$error":"#N/A"}},{"$f":"HLOOKUP(I$1,'Base de Dados - Social'!$G:$BM,$G47,)","v":{"$error":"#N/A"}},{"$f":"HLOOKUP(J$1,'Base de Dados - Social'!$G:$BM,$G47,)","v":{"$error":"#N/A"}},{"$f":"HLOOKUP(K$1,'Base de Dados - Social'!$G:$BM,$G47,)","v":{"$error":"#N/A"}},{"$f":"HLOOKUP(L$1,'Base de Dados - Social'!$G:$BM,$G47,)","v":{"$error":"#N/A"}},{"$f":"HLOOKUP(M$1,'Base de Dados - Social'!$G:$BM,$G47,)","v":{"$error":"#N/A"}},{"$f":"HLOOKUP(N$1,'Base de Dados - Social'!$G:$BM,$G47,)","v":{"$error":"#N/A"}},{"$f":"HLOOKUP(O$1,'Base de Dados - Social'!$G:$BM,$G47,)","v":{"$error":"#N/A"}},{"$f":"HLOOKUP(P$1,'Base de Dados - Social'!$G:$BM,$G47,)","v":{"$error":"#N/A"}},{"$f":"HLOOKUP(Q$1,'Base de Dados - Social'!$G:$BM,$G47,)","v":{"$error":"#N/A"}},{"$f":"HLOOKUP(R$1,'Base de Dados - Social'!$G:$BM,$G47,)","v":{"$error":"#N/A"}}]
[null,null,null,null,null,null,48,{"$f":"HLOOKUP(H$1,'Base de Dados - Social'!$G:$BM,$G48,)","v":{"$error":"#N/A"}},{"$f":"HLOOKUP(I$1,'Base de Dados - Social'!$G:$BM,$G48,)","v":{"$error":"#N/A"}},{"$f":"HLOOKUP(J$1,'Base de Dados - Social'!$G:$BM,$G48,)","v":{"$error":"#N/A"}},{"$f":"HLOOKUP(K$1,'Base de Dados - Social'!$G:$BM,$G48,)","v":{"$error":"#N/A"}},{"$f":"HLOOKUP(L$1,'Base de Dados - Social'!$G:$BM,$G48,)","v":{"$error":"#N/A"}},{"$f":"HLOOKUP(M$1,'Base de Dados - Social'!$G:$BM,$G48,)","v":{"$error":"#N/A"}},{"$f":"HLOOKUP(N$1,'Base de Dados - Social'!$G:$BM,$G48,)","v":{"$error":"#N/A"}},{"$f":"HLOOKUP(O$1,'Base de Dados - Social'!$G:$BM,$G48,)","v":{"$error":"#N/A"}},{"$f":"HLOOKUP(P$1,'Base de Dados - Social'!$G:$BM,$G48,)","v":{"$error":"#N/A"}},{"$f":"HLOOKUP(Q$1,'Base de Dados - Social'!$G:$BM,$G48,)","v":{"$error":"#N/A"}},{"$f":"HLOOKUP(R$1,'Base de Dados - Social'!$G:$BM,$G48,)","v":{"$error":"#N/A"}}]
[null,null,null,null,null,null,49,{"$f":"HLOOKUP(H$1,'Base de Dados - Social'!$G:$BM,$G49,)","v":{"$error":"#N/A"}},{"$f":"HLOOKUP(I$1,'Base de Dados - Social'!$G:$BM,$G49,)","v":{"$error":"#N/A"}},{"$f":"HLOOKUP(J$1,'Base de Dados - Social'!$G:$BM,$G49,)","v":{"$error":"#N/A"}},{"$f":"HLOOKUP(K$1,'Base de Dados - Social'!$G:$BM,$G49,)","v":{"$error":"#N/A"}},{"$f":"HLOOKUP(L$1,'Base de Dados - Social'!$G:$BM,$G49,)","v":{"$error":"#N/A"}},{"$f":"HLOOKUP(M$1,'Base de Dados - Social'!$G:$BM,$G49,)","v":{"$error":"#N/A"}},{"$f":"HLOOKUP(N$1,'Base de Dados - Social'!$G:$BM,$G49,)","v":{"$error":"#N/A"}},{"$f":"HLOOKUP(O$1,'Base de Dados - Social'!$G:$BM,$G49,)","v":{"$error":"#N/A"}},{"$f":"HLOOKUP(P$1,'Base de Dados - Social'!$G:$BM,$G49,)","v":{"$error":"#N/A"}},{"$f":"HLOOKUP(Q$1,'Base de Dados - Social'!$G:$BM,$G49,)","v":{"$error":"#N/A"}},{"$f":"HLOOKUP(R$1,'Base de Dados - Social'!$G:$BM,$G49,)","v":{"$error":"#N/A"}}]
[null,null,null,null,null,null,50,{"$f":"HLOOKUP(H$1,'Base de Dados - Social'!$G:$BM,$G50,)","v":{"$error":"#N/A"}},{"$f":"HLOOKUP(I$1,'Base de Dados - Social'!$G:$BM,$G50,)","v":{"$error":"#N/A"}},{"$f":"HLOOKUP(J$1,'Base de Dados - Social'!$G:$BM,$G50,)","v":{"$error":"#N/A"}},{"$f":"HLOOKUP(K$1,'Base de Dados - Social'!$G:$BM,$G50,)","v":{"$error":"#N/A"}},{"$f":"HLOOKUP(L$1,'Base de Dados - Social'!$G:$BM,$G50,)","v":{"$error":"#N/A"}},{"$f":"HLOOKUP(M$1,'Base de Dados - Social'!$G:$BM,$G50,)","v":{"$error":"#N/A"}},{"$f":"HLOOKUP(N$1,'Base de Dados - Social'!$G:$BM,$G50,)","v":{"$error":"#N/A"}},{"$f":"HLOOKUP(O$1,'Base de Dados - Social'!$G:$BM,$G50,)","v":{"$error":"#N/A"}},{"$f":"HLOOKUP(P$1,'Base de Dados - Social'!$G:$BM,$G50,)","v":{"$error":"#N/A"}},{"$f":"HLOOKUP(Q$1,'Base de Dados - Social'!$G:$BM,$G50,)","v":{"$error":"#N/A"}},{"$f":"HLOOKUP(R$1,'Base de Dados - Social'!$G:$BM,$G50,)","v":{"$error":"#N/A"}}]
[null,null,null,null,null,null,51,{"$f":"HLOOKUP(H$1,'Base de Dados - Social'!$G:$BM,$G51,)","v":{"$error":"#N/A"}},{"$f":"HLOOKUP(I$1,'Base de Dados - Social'!$G:$BM,$G51,)","v":{"$error":"#N/A"}},{"$f":"HLOOKUP(J$1,'Base de Dados - Social'!$G:$BM,$G51,)","v":{"$error":"#N/A"}},{"$f":"HLOOKUP(K$1,'Base de Dados - Social'!$G:$BM,$G51,)","v":{"$error":"#N/A"}},{"$f":"HLOOKUP(L$1,'Base de Dados - Social'!$G:$BM,$G51,)","v":{"$error":"#N/A"}},{"$f":"HLOOKUP(M$1,'Base de Dados - Social'!$G:$BM,$G51,)","v":{"$error":"#N/A"}},{"$f":"HLOOKUP(N$1,'Base de Dados - Social'!$G:$BM,$G51,)","v":{"$error":"#N/A"}},{"$f":"HLOOKUP(O$1,'Base de Dados - Social'!$G:$BM,$G51,)","v":{"$error":"#N/A"}},{"$f":"HLOOKUP(P$1,'Base de Dados - Social'!$G:$BM,$G51,)","v":{"$error":"#N/A"}},{"$f":"HLOOKUP(Q$1,'Base de Dados - Social'!$G:$BM,$G51,)","v":{"$error":"#N/A"}},{"$f":"HLOOKUP(R$1,'Base de Dados - Social'!$G:$BM,$G51,)","v":{"$error":"#N/A"}}]
[null,null,null,null,null,null,52,{"$f":"HLOOKUP(H$1,'Base de Dados - Social'!$G:$BM,$G52,)","v":{"$error":"#N/A"}},{"$f":"HLOOKUP(I$1,'Base de Dados - Social'!$G:$BM,$G52,)","v":{"$error":"#N/A"}},{"$f":"HLOOKUP(J$1,'Base de Dados - Social'!$G:$BM,$G52,)","v":{"$error":"#N/A"}},{"$f":"HLOOKUP(K$1,'Base de Dados - Social'!$G:$BM,$G52,)","v":{"$error":"#N/A"}},{"$f":"HLOOKUP(L$1,'Base de Dados - Social'!$G:$BM,$G52,)","v":{"$error":"#N/A"}},{"$f":"HLOOKUP(M$1,'Base de Dados - Social'!$G:$BM,$G52,)","v":{"$error":"#N/A"}},{"$f":"HLOOKUP(N$1,'Base de Dados - Social'!$G:$BM,$G52,)","v":{"$error":"#N/A"}},{"$f":"HLOOKUP(O$1,'Base de Dados - Social'!$G:$BM,$G52,)","v":{"$error":"#N/A"}},{"$f":"HLOOKUP(P$1,'Base de Dados - Social'!$G:$BM,$G52,)","v":{"$error":"#N/A"}},{"$f":"HLOOKUP(Q$1,'Base de Dados - Social'!$G:$BM,$G52,)","v":{"$error":"#N/A"}},{"$f":"HLOOKUP(R$1,'Base de Dados - Social'!$G:$BM,$G52,)","v":{"$error":"#N/A"}}]
[null,null,null,null,null,null,53,{"$f":"HLOOKUP(H$1,'Base de Dados - Social'!$G:$BM,$G53,)","v":{"$error":"#N/A"}},{"$f":"HLOOKUP(I$1,'Base de Dados - Social'!$G:$BM,$G53,)","v":{"$error":"#N/A"}},{"$f":"HLOOKUP(J$1,'Base de Dados - Social'!$G:$BM,$G53,)","v":{"$error":"#N/A"}},{"$f":"HLOOKUP(K$1,'Base de Dados - Social'!$G:$BM,$G53,)","v":{"$error":"#N/A"}},{"$f":"HLOOKUP(L$1,'Base de Dados - Social'!$G:$BM,$G53,)","v":{"$error":"#N/A"}},{"$f":"HLOOKUP(M$1,'Base de Dados - Social'!$G:$BM,$G53,)","v":{"$error":"#N/A"}},{"$f":"HLOOKUP(N$1,'Base de Dados - Social'!$G:$BM,$G53,)","v":{"$error":"#N/A"}},{"$f":"HLOOKUP(O$1,'Base de Dados - Social'!$G:$BM,$G53,)","v":{"$error":"#N/A"}},{"$f":"HLOOKUP(P$1,'Base de Dados - Social'!$G:$BM,$G53,)","v":{"$error":"#N/A"}},{"$f":"HLOOKUP(Q$1,'Base de Dados - Social'!$G:$BM,$G53,)","v":{"$error":"#N/A"}},{"$f":"HLOOKUP(R$1,'Base de Dados - Social'!$G:$BM,$G53,)","v":{"$error":"#N/A"}}]
[null,null,null,null,null,null,54,{"$f":"HLOOKUP(H$1,'Base de Dados - Social'!$G:$BM,$G54,)","v":{"$error":"#N/A"}},{"$f":"HLOOKUP(I$1,'Base de Dados - Social'!$G:$BM,$G54,)","v":{"$error":"#N/A"}},{"$f":"HLOOKUP(J$1,'Base de Dados - Social'!$G:$BM,$G54,)","v":{"$error":"#N/A"}},{"$f":"HLOOKUP(K$1,'Base de Dados - Social'!$G:$BM,$G54,)","v":{"$error":"#N/A"}},{"$f":"HLOOKUP(L$1,'Base de Dados - Social'!$G:$BM,$G54,)","v":{"$error":"#N/A"}},{"$f":"HLOOKUP(M$1,'Base de Dados - Social'!$G:$BM,$G54,)","v":{"$error":"#N/A"}},{"$f":"HLOOKUP(N$1,'Base de Dados - Social'!$G:$BM,$G54,)","v":{"$error":"#N/A"}},{"$f":"HLOOKUP(O$1,'Base de Dados - Social'!$G:$BM,$G54,)","v":{"$error":"#N/A"}},{"$f":"HLOOKUP(P$1,'Base de Dados - Social'!$G:$BM,$G54,)","v":{"$error":"#N/A"}},{"$f":"HLOOKUP(Q$1,'Base de Dados - Social'!$G:$BM,$G54,)","v":{"$error":"#N/A"}},{"$f":"HLOOKUP(R$1,'Base de Dados - Social'!$G:$BM,$G54,)","v":{"$error":"#N/A"}}]
[null,null,null,null,null,null,55,{"$f":"HLOOKUP(H$1,'Base de Dados - Social'!$G:$BM,$G55,)","v":{"$error":"#N/A"}},{"$f":"HLOOKUP(I$1,'Base de Dados - Social'!$G:$BM,$G55,)","v":{"$error":"#N/A"}},{"$f":"HLOOKUP(J$1,'Base de Dados - Social'!$G:$BM,$G55,)","v":{"$error":"#N/A"}},{"$f":"HLOOKUP(K$1,'Base de Dados - Social'!$G:$BM,$G55,)","v":{"$error":"#N/A"}},{"$f":"HLOOKUP(L$1,'Base de Dados - Social'!$G:$BM,$G55,)","v":{"$error":"#N/A"}},{"$f":"HLOOKUP(M$1,'Base de Dados - Social'!$G:$BM,$G55,)","v":{"$error":"#N/A"}},{"$f":"HLOOKUP(N$1,'Base de Dados - Social'!$G:$BM,$G55,)","v":{"$error":"#N/A"}},{"$f":"HLOOKUP(O$1,'Base de Dados - Social'!$G:$BM,$G55,)","v":{"$error":"#N/A"}},{"$f":"HLOOKUP(P$1,'Base de Dados - Social'!$G:$BM,$G55,)","v":{"$error":"#N/A"}},{"$f":"HLOOKUP(Q$1,'Base de Dados - Social'!$G:$BM,$G55,)","v":{"$error":"#N/A"}},{"$f":"HLOOKUP(R$1,'Base de Dados - Social'!$G:$BM,$G55,)","v":{"$error":"#N/A"}}]
[null,null,null,null,null,null,56,{"$f":"HLOOKUP(H$1,'Base de Dados - Social'!$G:$BM,$G56,)","v":{"$error":"#N/A"}},{"$f":"HLOOKUP(I$1,'Base de Dados - Social'!$G:$BM,$G56,)","v":{"$error":"#N/A"}},{"$f":"HLOOKUP(J$1,'Base de Dados - Social'!$G:$BM,$G56,)","v":{"$error":"#N/A"}},{"$f":"HLOOKUP(K$1,'Base de Dados - Social'!$G:$BM,$G56,)","v":{"$error":"#N/A"}},{"$f":"HLOOKUP(L$1,'Base de Dados - Social'!$G:$BM,$G56,)","v":{"$error":"#N/A"}},{"$f":"HLOOKUP(M$1,'Base de Dados - Social'!$G:$BM,$G56,)","v":{"$error":"#N/A"}},{"$f":"HLOOKUP(N$1,'Base de Dados - Social'!$G:$BM,$G56,)","v":{"$error":"#N/A"}},{"$f":"HLOOKUP(O$1,'Base de Dados - Social'!$G:$BM,$G56,)","v":{"$error":"#N/A"}},{"$f":"HLOOKUP(P$1,'Base de Dados - Social'!$G:$BM,$G56,)","v":{"$error":"#N/A"}},{"$f":"HLOOKUP(Q$1,'Base de Dados - Social'!$G:$BM,$G56,)","v":{"$error":"#N/A"}},{"$f":"HLOOKUP(R$1,'Base de Dados - Social'!$G:$BM,$G56,)","v":{"$error":"#N/A"}}]
[null,null,null,null,null,null,57,{"$f":"HLOOKUP(H$1,'Base de Dados - Social'!$G:$BM,$G57,)","v":{"$error":"#N/A"}},{"$f":"HLOOKUP(I$1,'Base de Dados - Social'!$G:$BM,$G57,)","v":{"$error":"#N/A"}},{"$f":"HLOOKUP(J$1,'Base de Dados - Social'!$G:$BM,$G57,)","v":{"$error":"#N/A"}},{"$f":"HLOOKUP(K$1,'Base de Dados - Social'!$G:$BM,$G57,)","v":{"$error":"#N/A"}},{"$f":"HLOOKUP(L$1,'Base de Dados - Social'!$G:$BM,$G57,)","v":{"$error":"#N/A"}},{"$f":"HLOOKUP(M$1,'Base de Dados - Social'!$G:$BM,$G57,)","v":{"$error":"#N/A"}},{"$f":"HLOOKUP(N$1,'Base de Dados - Social'!$G:$BM,$G57,)","v":{"$error":"#N/A"}},{"$f":"HLOOKUP(O$1,'Base de Dados - Social'!$G:$BM,$G57,)","v":{"$error":"#N/A"}},{"$f":"HLOOKUP(P$1,'Base de Dados - Social'!$G:$BM,$G57,)","v":{"$error":"#N/A"}},{"$f":"HLOOKUP(Q$1,'Base de Dados - Social'!$G:$BM,$G57,)","v":{"$error":"#N/A"}},{"$f":"HLOOKUP(R$1,'Base de Dados - Social'!$G:$BM,$G57,)","v":{"$error":"#N/A"}}]
[null,null,null,null,null,null,58,{"$f":"HLOOKUP(H$1,'Base de Dados - Social'!$G:$BM,$G58,)","v":{"$error":"#N/A"}},{"$f":"HLOOKUP(I$1,'Base de Dados - Social'!$G:$BM,$G58,)","v":{"$error":"#N/A"}},{"$f":"HLOOKUP(J$1,'Base de Dados - Social'!$G:$BM,$G58,)","v":{"$error":"#N/A"}},{"$f":"HLOOKUP(K$1,'Base de Dados - Social'!$G:$BM,$G58,)","v":{"$error":"#N/A"}},{"$f":"HLOOKUP(L$1,'Base de Dados - Social'!$G:$BM,$G58,)","v":{"$error":"#N/A"}},{"$f":"HLOOKUP(M$1,'Base de Dados - Social'!$G:$BM,$G58,)","v":{"$error":"#N/A"}},{"$f":"HLOOKUP(N$1,'Base de Dados - Social'!$G:$BM,$G58,)","v":{"$error":"#N/A"}},{"$f":"HLOOKUP(O$1,'Base de Dados - Social'!$G:$BM,$G58,)","v":{"$error":"#N/A"}},{"$f":"HLOOKUP(P$1,'Base de Dados - Social'!$G:$BM,$G58,)","v":{"$error":"#N/A"}},{"$f":"HLOOKUP(Q$1,'Base de Dados - Social'!$G:$BM,$G58,)","v":{"$error":"#N/A"}},{"$f":"HLOOKUP(R$1,'Base de Dados - Social'!$G:$BM,$G58,)","v":{"$error":"#N/A"}}]
[null,null,null,null,null,null,59,{"$f":"HLOOKUP(H$1,'Base de Dados - Social'!$G:$BM,$G59,)","v":{"$error":"#N/A"}},{"$f":"HLOOKUP(I$1,'Base de Dados - Social'!$G:$BM,$G59,)","v":{"$error":"#N/A"}},{"$f":"HLOOKUP(J$1,'Base de Dados - Social'!$G:$BM,$G59,)","v":{"$error":"#N/A"}},{"$f":"HLOOKUP(K$1,'Base de Dados - Social'!$G:$BM,$G59,)","v":{"$error":"#N/A"}},{"$f":"HLOOKUP(L$1,'Base de Dados - Social'!$G:$BM,$G59,)","v":{"$error":"#N/A"}},{"$f":"HLOOKUP(M$1,'Base de Dados - Social'!$G:$BM,$G59,)","v":{"$error":"#N/A"}},{"$f":"HLOOKUP(N$1,'Base de Dados - Social'!$G:$BM,$G59,)","v":{"$error":"#N/A"}},{"$f":"HLOOKUP(O$1,'Base de Dados - Social'!$G:$BM,$G59,)","v":{"$error":"#N/A"}},{"$f":"HLOOKUP(P$1,'Base de Dados - Social'!$G:$BM,$G59,)","v":{"$error":"#N/A"}},{"$f":"HLOOKUP(Q$1,'Base de Dados - Social'!$G:$BM,$G59,)","v":{"$error":"#N/A"}},{"$f":"HLOOKUP(R$1,'Base de Dados - Social'!$G:$BM,$G59,)","v":{"$error":"#N/A"}}]
[null,null,null,null,null,null,60,{"$f":"HLOOKUP(H$1,'Base de Dados - Social'!$G:$BM,$G60,)","v":{"$error":"#N/A"}},{"$f":"HLOOKUP(I$1,'Base de Dados - Social'!$G:$BM,$G60,)","v":{"$error":"#N/A"}},{"$f":"HLOOKUP(J$1,'Base de Dados - Social'!$G:$BM,$G60,)","v":{"$error":"#N/A"}},{"$f":"HLOOKUP(K$1,'Base de Dados - Social'!$G:$BM,$G60,)","v":{"$error":"#N/A"}},{"$f":"HLOOKUP(L$1,'Base de Dados - Social'!$G:$BM,$G60,)","v":{"$error":"#N/A"}},{"$f":"HLOOKUP(M$1,'Base de Dados - Social'!$G:$BM,$G60,)","v":{"$error":"#N/A"}},{"$f":"HLOOKUP(N$1,'Base de Dados - Social'!$G:$BM,$G60,)","v":{"$error":"#N/A"}},{"$f":"HLOOKUP(O$1,'Base de Dados - Social'!$G:$BM,$G60,)","v":{"$error":"#N/A"}},{"$f":"HLOOKUP(P$1,'Base de Dados - Social'!$G:$BM,$G60,)","v":{"$error":"#N/A"}},{"$f":"HLOOKUP(Q$1,'Base de Dados - Social'!$G:$BM,$G60,)","v":{"$error":"#N/A"}},{"$f":"HLOOKUP(R$1,'Base de Dados - Social'!$G:$BM,$G60,)","v":{"$error":"#N/A"}}]
[null,null,null,null,null,null,61,{"$f":"HLOOKUP(H$1,'Base de Dados - Social'!$G:$BM,$G61,)","v":{"$error":"#N/A"}},{"$f":"HLOOKUP(I$1,'Base de Dados - Social'!$G:$BM,$G61,)","v":{"$error":"#N/A"}},{"$f":"HLOOKUP(J$1,'Base de Dados - Social'!$G:$BM,$G61,)","v":{"$error":"#N/A"}},{"$f":"HLOOKUP(K$1,'Base de Dados - Social'!$G:$BM,$G61,)","v":{"$error":"#N/A"}},{"$f":"HLOOKUP(L$1,'Base de Dados - Social'!$G:$BM,$G61,)","v":{"$error":"#N/A"}},{"$f":"HLOOKUP(M$1,'Base de Dados - Social'!$G:$BM,$G61,)","v":{"$error":"#N/A"}},{"$f":"HLOOKUP(N$1,'Base de Dados - Social'!$G:$BM,$G61,)","v":{"$error":"#N/A"}},{"$f":"HLOOKUP(O$1,'Base de Dados - Social'!$G:$BM,$G61,)","v":{"$error":"#N/A"}},{"$f":"HLOOKUP(P$1,'Base de Dados - Social'!$G:$BM,$G61,)","v":{"$error":"#N/A"}},{"$f":"HLOOKUP(Q$1,'Base de Dados - Social'!$G:$BM,$G61,)","v":{"$error":"#N/A"}},{"$f":"HLOOKUP(R$1,'Base de Dados - Social'!$G:$BM,$G61,)","v":{"$error":"#N/A"}}]
[null,null,null,null,null,null,62,{"$f":"HLOOKUP(H$1,'Base de Dados - Social'!$G:$BM,$G62,)","v":{"$error":"#N/A"}},{"$f":"HLOOKUP(I$1,'Base de Dados - Social'!$G:$BM,$G62,)","v":{"$error":"#N/A"}},{"$f":"HLOOKUP(J$1,'Base de Dados - Social'!$G:$BM,$G62,)","v":{"$error":"#N/A"}},{"$f":"HLOOKUP(K$1,'Base de Dados - Social'!$G:$BM,$G62,)","v":{"$error":"#N/A"}},{"$f":"HLOOKUP(L$1,'Base de Dados - Social'!$G:$BM,$G62,)","v":{"$error":"#N/A"}},{"$f":"HLOOKUP(M$1,'Base de Dados - Social'!$G:$BM,$G62,)","v":{"$error":"#N/A"}},{"$f":"HLOOKUP(N$1,'Base de Dados - Social'!$G:$BM,$G62,)","v":{"$error":"#N/A"}},{"$f":"HLOOKUP(O$1,'Base de Dados - Social'!$G:$BM,$G62,)","v":{"$error":"#N/A"}},{"$f":"HLOOKUP(P$1,'Base de Dados - Social'!$G:$BM,$G62,)","v":{"$error":"#N/A"}},{"$f":"HLOOKUP(Q$1,'Base de Dados - Social'!$G:$BM,$G62,)","v":{"$error":"#N/A"}},{"$f":"HLOOKUP(R$1,'Base de Dados - Social'!$G:$BM,$G62,)","v":{"$error":"#N/A"}}]
[null,null,null,null,null,null,63,{"$f":"HLOOKUP(H$1,'Base de Dados - Social'!$G:$BM,$G63,)","v":{"$error":"#N/A"}},{"$f":"HLOOKUP(I$1,'Base de Dados - Social'!$G:$BM,$G63,)","v":{"$error":"#N/A"}},{"$f":"HLOOKUP(J$1,'Base de Dados - Social'!$G:$BM,$G63,)","v":{"$error":"#N/A"}},{"$f":"HLOOKUP(K$1,'Base de Dados - Social'!$G:$BM,$G63,)","v":{"$error":"#N/A"}},{"$f":"HLOOKUP(L$1,'Base de Dados - Social'!$G:$BM,$G63,)","v":{"$error":"#N/A"}},{"$f":"HLOOKUP(M$1,'Base de Dados - Social'!$G:$BM,$G63,)","v":{"$error":"#N/A"}},{"$f":"HLOOKUP(N$1,'Base de Dados - Social'!$G:$BM,$G63,)","v":{"$error":"#N/A"}},{"$f":"HLOOKUP(O$1,'Base de Dados - Social'!$G:$BM,$G63,)","v":{"$error":"#N/A"}},{"$f":"HLOOKUP(P$1,'Base de Dados - Social'!$G:$BM,$G63,)","v":{"$error":"#N/A"}},{"$f":"HLOOKUP(Q$1,'Base de Dados - Social'!$G:$BM,$G63,)","v":{"$error":"#N/A"}},{"$f":"HLOOKUP(R$1,'Base de Dados - Social'!$G:$BM,$G63,)","v":{"$error":"#N/A"}}]

{"sheet":"Base de Dados - Social","index":15,"n_rows":19,"n_cols":50,"rows_kept":19,"cut":false,"hidden":false,"merged":[[1,17,2,17],[1,6,2,6],[1,18,2,18],[1,19,2,19],[1,16,2,16],[1,11,2,11],[1,12,2,12],[1,13,2,13],[1,14,2,14],[1,15,2,15],[1,5,2,5],[1,7,2,7],[1,8,2,8],[1,9,2,9],[1,10,2,10],[1,0,2,0],[1,1,2,1],[1,2,2,2],[1,3,2,3],[1,4,2,4],[1,20,2,20],[1,21,2,21],[1,22,2,22],[1,23,2,23],[1,24,2,24],[1,25,2,25],[1,26,2,26],[1,27,2,27],[1,28,2,28],[1,29,2,29],[1,30,2,30],[1,31,2,31],[1,32,2,32],[1,33,2,33],[1,34,2,34],[1,35,2,35],[1,36,2,36],[1,37,2,37],[1,38,2,38],[1,39,2,39],[1,40,2,40],[1,41,2,41],[1,42,2,42],[1,43,2,43],[1,44,2,44],[1,45,2,45],[1,46,2,46],[1,47,2,47],[1,48,2,48],[1,49,2,49]]}
[]
["Dados","Frequência","Descrição","Unidade de medida","Fonte de dados","Responsável pela geração do dados",2000,2010,2017,2019,2020,2021,2022,2023,2024,2025,2026,2027,2029,2030,2031,2032,2033,2034,2035,2036,2037,2038,2039,2040,2041,2042,2043,2044,2045,2046,2047,2048,2049,2050,2051,2052,2053,2054,2055,2056,2057,2058,2059,2060]
[]
["População no penúltimo Censo ano 2000","a cada 10 anos","População calculada pelo IBGE no penúltimo censo ano 2000","habitantes","IBGE","Vigilância Sanitária",157682,156727]
["População do último Censo ano 2010","a cada 10 anos","População calculada pelo  IBGE no último censo 2010","habitantes","IBGE","Vigilância Sanitária",null,156727]
["IDHM Longevidade penúltimo censo 2000","a cada 10 anos","IDHM de longevidade calculada pelo IBGE do penúltimo Censo em 2000",null,"ATLAS","Vigilância Sanitária",0.80600000000000005,0.86699999999999999]
["IDHM Longevidade último censo 2010","a cada 10 anos","IDHM de longevidade calculado pelo IBGE último censo 2010",null,"ATLAS","Vigilância Sanitária",null,0.86699999999999999]
["Fecundidade penúltimo censo 2000","a cada 10 anos","Número médio de filhos por mulher ","habitantes","ATLAS","Vigilância Sanitária",2.5,1.7]
["Fecundidade","a cada 10 anos","Número médio de filhos por mulher","habitantes","ATLAS","Vigilância Sanitária",2.5,1.7]
["Número de nascidos vivos x 1000 ","Anual","Número de crianças nascidas vivas no ano","habitantes","Datasus","Vigilância Sanitária",null,14.74,15.72,0]
["Projeção da População do ano ","Anual","População total do município no ano","habitantes","Datasus","Vigilância Sanitária",null,null,157905,157544]
["óbitos com menos de um ano de idade a cada 1000 nascidos vivos (2017)","Anual","Número de obtos em crianças menores de um ano ","habitantes","Datasus","Vigilância Sanitária",null,19.48,11.24,0]
["Habitantes alfabetizados maiores de 10 anos de idade (2010) %","a cada 10 anos","Total de habitantes alfabetizados no município","habitantes","IBGE / SIDRA","Vigilância Sanitária",null,128223]
["Habitantes sem alfabetização maiores que 10 anos (2010) %","a cada 10 anos","Total de habitantes sem alfabetização no município","habitantes","IBGE / SIDRA","Vigilância Sanitária",null,6251]
["IDHM penúltimo censo 2000","a cada 10 anos","IDHM do grau de desenvolvimento econômico e qualidade de vida oferecida à população",null,"ATLAS","Vigilância Sanitária",0.67400000000000004,0.67400000000000004]
["IDHM ano do último Censo ano 2010","a cada 10 anos","IDHM do grau de desenvolvimento econômico e qualidade de vida oferecida à população",null,"ATLAS","Vigilância Sanitária",null,0.77]
["Área do município do último Censo ano 2010","a cada 10 anos","Área do município","km","IBGE","Vigilância Sanitária",null,2632]
["PIB último dados divulgados (2010, 2017) nominal","Anual","Medidor do crescimento econômico","R$","IBGE / IPEA","Vigilância Sanitária",null,4564648000,5410864000,0]
["Total de alfabetizados e não alfabetizados","a cada 10 anos","Soma dos habitantes alfabetizados e não alfabetizados","habitantes","IBGE / SIDRA","Vigilância Sanitária",null,{"$f":"SUM(H13:H14)","v":134474}]

{"sheet":"Gráficos - Social","index":16,"n_rows":1,"n_cols":1,"rows_kept":1,"cut":false,"hidden":false,"merged":[[0,0,0,22]]}
["Gráficos dos indicadores Social"]

{"sheet":"Metas Institucional","index":17,"n_rows":29,"n_cols":28,"rows_kept":29,"cut":false,"hidden":false,"merged":[[0,27,2,27],[4,0,16,0],[4,1,6,1],[7,1,8,1],[9,1,12,1],[13,1,16,1],[0,0,2,0],[0,1,2,1],[0,2,2,2],[0,5,0,20],[0,26,2,26],[2,4,3,4],[2,9,3,9],[2,14,3,14],[2,19,3,19]]}
["Programa","Projeto","Metas/Ações",null,null,"Prazos/custos (R$)",null,null,null,null,null,null,null,null,null,null,null,null,null,null,null,null,null,null,null,null,"Responsável pela ação","Código da meta"]
[null,null,null,null,null,"Emergencial",null,null,null,null,"Curto",null,null,null,null,"Médio",null,null,null,null,"Longo",null,null,null,"Total","Total"]
[null,null,null,null,"Ação concluída","(2023 a 2025",null,null,null,"Ação concluída","(2026 a 2030)",null,null,null,"Ação concluída","(2031 a 2034)",null,null,null,"Ação concluída","(2035 a 3042)",null,null,null,"Programado","Realizado"]
[null,null,null,null,null,"PROGRAMADO","REALIZADO",null,null,null,"PROGRAMADO","REALIZADO",null,null,null,"PROGRAMADO","REALIZADO",null,null,null,"PROGRAMADO","REALIZADO"]
["Programa institucional do município de Itapema","Projeto de estruturação institucional","Instituir e manter a autarquia de saneamento básico",null,null,2655747.0699999998,null,{"$f":"F5-G5","v":2655747.0699999998},null,null,4191245.11,null,{"$f":"K5-L5","v":4191245.11},null,null,3352996.09,null,{"$f":"P5-Q5","v":3352996.09},null,null,6705992.1799999997,null,{"$f":"U5-V5","v":6705992.1799999997},null,{"$f":"F5+K5+P5+U5","v":16905980.449999999},{"$f":"G5+L5+Q5+V5","v":0},"Poder Público Municipal","INST010101N"]
[null,null,"Institucionalizar o Conselho Municipal de Saneamento Básico - CMSB como instância técnico institucional para acompanhamento do saneamento básico no município",null,null,null,null,{"$f":"F6-G6","v":0},null,null,null,null,{"$f":"K6-L6","v":0},null,null,null,null,{"$f":"P6-Q6","v":0},null,null,null,null,{"$f":"U6-V6","v":0},null,{"$f":"F6+K6+P6+U6","v":0},{"$f":"G6+L6+Q6+V6","v":0},"Poder Público Municipal","INST010102N"]
[null,null,"Participar ativamente das discussões sobre recursos hídricos no contexto da Bacia Hidrográfica do Rio Tijucas",null,null,null,null,0,null,null,null,null,0,null,null,null,null,0,null,null,null,null,0,null,0,0,"FAACI","INST010103N"]
[null,"Projeto de equilíbrio financeiro","Garantir que a prestação de serviço seja realizada buscando a viabilidade econômico financeira e operacional",null,null,null,null,0,null,null,null,null,0,null,null,null,null,0,null,null,null,null,0,null,0,0,"Agência reguladora","INST010201N"]
[null,null,"Adequação das taxas, tarifas e preços públicos, com foco no equilíbrio econômico-financeiro",null,null,null,null,0,null,null,null,null,0,null,null,null,null,0,null,null,null,null,0,null,0,0,"Agência reguladora","INST010202N"]
[null,"Projeto de educação ambiental","Elaboração de programa de educação ambiental intersetorial do saneamento básico",null,null,null,null,0,null,null,null,null,0,null,null,null,null,0,null,null,null,null,0,null,0,0,"Autarquia de saneamento básico","INST010301A"]
[null,null,"Desenvolvimento do programa de educação ambiental intersetorial do saneamento básico",null,null,358248.25,null,358248.25,null,null,250351.46,null,250351.46,null,null,213112.91,null,213112.91,null,null,464108.96,null,464108.96,null,1285821.58,0,"Autarquia de saneamento básico","INST010302A"]
[null,null,"Elaboração de manual técnico para orientação da implantação e operação de sistema individual de tratamento de esgoto",null,null,null,null,0,null,null,null,null,0,null,null,null,null,0,null,null,null,null,0,null,0,0,"Autarquia de saneamento básico","INST010303N"]
[null,null,"Divulgação de informação e indicadores da prestação dos serviços de saneamento básico",null,null,null,null,0,null,null,null,null,0,null,null,null,null,0,null,null,null,null,0,null,0,0,"Autarquia de saneamento básico","INST010304N"]
[null,"Projeto de capacitação dos agentes públicos","Realização de capacitação técnica continuada de agentes públicos e sociais",null,null,null,null,0,null,null,null,null,0,null,null,null,null,0,null,null,null,null,0,null,0,0,"Autarquia de saneamento básico","INST010401N"]
[null,null,"Treinamento e capacitação dos funcionários das Unidades de Saúde sobre o correto gerenciamento dos RSS",null,null,null,null,0,null,null,null,null,0,null,null,null,null,0,null,null,null,null,0,null,0,0,"Autarquia de saneamento básico","INST010402N"]
[null,null,"Treinamento e capacitação dos funcionários envolvidos no sistema de limpeza urbana e manejo dos resíduos sólidos",null,null,null,null,0,null,null,null,null,0,null,null,null,null,0,null,null,null,null,0,null,0,0,"Autarquia de saneamento básico e prestadora de serviço","INST010403M"]
[null,null,"Elaboração de Metodologia de Cálculo de Índice de Atendimento Urbano de esgotamento sanitário para município de Itapema considerando população flutuante",null,null,null,null,0,null,null,null,null,0,null,null,null,null,0,null,null,null,null,0,null,null,null,"Autarquia de saneamento básico e prestadora de serviço","INST010403N"]
["Total",null,"Total",null,null,{"$f":"F11+F5","v":3013995.32},null,null,null,null,{"$f":"K11+K5","v":4441596.57},null,null,null,null,{"$f":"P11+P5","v":3566109},null,null,null,null,{"$f":"U11+U5","v":7170101.1399999997},null,null,null,null,{"$f":"SUM(F18:U18)","v":18191802.030000001}]
[]
[]
[null,null,"Dados para Indicador Execução PMSB"]
[null,null,null,null,null,"emergencial ",null,null,null,null,"curto prazo",null,null,null,null,"médio prazo ",null,null,null,null,"longo prazo"]
[null,null,"nº metas/ações concluídas",null,null,{"$f":"COUNTIF(E5:E17,\"sim\")","v":0},null,null,null,null,{"$f":"COUNTIF(J5:J17,\"sim\")","v":0},null,null,null,null,{"$f":"COUNTIF(O5:O17,\"sim\")","v":0},null,null,null,null,{"$f":"COUNTIF(T5:T17,\"sim\")","v":0}]
[null,null,"Nº total metas/ações ",null,null,{"$f":"COUNTA($C$5:$C$18)","v":14},null,null,null,null,{"$f":"COUNTA($C$5:$C$18)","v":14},null,null,null,null,{"$f":"COUNTA($C$5:$C$18)","v":14},null,null,null,null,{"$f":"COUNTA($C$5:$C$18)","v":14}]
[]
[null,null,"Dados para Indicador Custo PMSB"]
[null,null,null,null,null,"emergencial ",null,null,null,null,"curto prazo",null,null,null,null,"médio prazo ",null,null,null,null,"longo prazo"]
[null,null,"nº metas/ações  concluídas e com custo realizado menor ou igual ao custo programado",null,null,{"$f":"F23-COUNTIFS(H5:H17,\"<0\",E5:E17,\"sim\")","v":0},null,null,null,null,{"$f":"K23-COUNTIFS(M5:M17,\"<0\",J5:J17,\"sim\")","v":0},null,null,null,null,{"$f":"P23-COUNTIFS(R5:R17,\"<0\",O5:O17,\"sim\")","v":0},null,null,null,null,{"$f":"U23-COUNTIFS(W5:W17,\"<0\",T5:T17,\"sim\")","v":0}]
[null,null,"nº metas/ações concluídas",null,null,{"$f":"F23","v":0},null,null,null,null,{"$f":"K23","v":0},null,null,null,null,{"$f":"P23","v":0},null,null,null,null,{"$f":"U23","v":0}]

{"sheet":"Metas SAA","index":18,"n_rows":77,"n_cols":28,"rows_kept":77,"cut":false,"hidden":false,"merged":[[45,1,48,1],[49,1,52,1],[53,1,54,1],[55,1,58,1],[59,1,62,1],[43,1,44,1],[4,0,16,0],[4,1,6,1],[7,1,8,1],[9,1,12,1],[13,1,16,1],[19,1,20,1],[21,1,24,1],[25,1,28,1],[31,1,32,1],[33,1,36,1],[37,1,40,1],[0,0,2,0],[0,1,2,1],[0,2,2,2],[0,5,0,20],[0,26,2,26],[0,27,2,27],[2,4,3,4],[2,9,3,9],[2,14,3,14],[2,19,3,19]]}
["Programa","Projeto","Metas/Ações",null,null,"Prazos/custos (R$)",null,null,null,null,null,null,null,null,null,null,null,null,null,null,null,null,null,null,null,null,"Responsável pela ação","Código da meta"]
[null,null,null,null,null,"Emergencial",null,null,null,null,"Curto",null,null,null,null,"Médio",null,null,null,null,"Longo",null,null,null,"Total","Total"]
[null,null,null,null,"Ação concluída","(2023 a 2025)",null,null,null,"Ação concluída","(2026 a 2030)",null,null,null,"Ação concluída","(2031 a 2034)",null,null,null,"Ação concluída","(2035 a 3042)",null,null,null,"Programado","Realizado"]
[null,null,null,null,null,"PROGRAMADO","REALIZADO",null,null,null,"PROGRAMADO","REALIZADO",null,null,null,"PROGRAMADO","REALIZADO",null,null,null,"PROGRAMADO","REALIZADO"]
["Programa institucional do município de Itapema","Projeto de estruturação institucional","Atendimento às condicionantes do licenciamento ambiental das lagoas n° 1 e n° 2 - SAA Morretes",null,null,null,null,{"$f":"F5-G5","v":0},null,null,null,null,{"$f":"K5-L5","v":0},null,null,null,null,{"$f":"P5-Q5","v":0},null,null,null,null,{"$f":"U5-V5","v":0},null,{"$f":"F5+K5+P5+U5","v":0},{"$f":"G5+L5+Q5+V5","v":0},"Águas de Itapema","AA010101M"]
[null,null,"Aquisição da área (20,3 ha) de localização da lagoa de acumulação de água bruta n° 2",null,null,2000000,null,{"$f":"F6-G6","v":2000000},null,null,null,null,{"$f":"K6-L6","v":0},null,null,null,null,{"$f":"P6-Q6","v":0},null,null,null,null,{"$f":"U6-V6","v":0},null,{"$f":"F6+K6+P6+U6","v":2000000},0,"FAACI/PMI","AA010102N"]
[null,null,"Estudo de viabilidade técnica, econômica e ambiental de implantação de lagoa de acumulação n° 3 adjacente à lagoa n° 2",null,null,150000,null,150000,null,null,null,null,0,null,null,null,null,0,null,null,null,null,0,null,150000,0,"Águas de Itapema","AA010201N"]
[null,"Projeto de equilíbrio financeiro","Projeto Executivo, Licenciamento Ambiental e Implantação Imediata de Lagoa de Acumulação n° 3 em área de 18 ha adjacente à lagoa n° 2",null,null,2816000,null,2816000,null,null,null,null,0,null,null,null,null,0,null,null,null,null,0,null,2816000,0,"Águas de Itapema","AA010202N"]
[null,null,"Estudo de viabilidade técnica, econômica e ambiental de implantação de lagoa de acumulação n° 4 adjacente à lagoa n° 1",null,null,150000,null,150000,null,null,null,null,0,null,null,null,null,0,null,null,null,null,0,null,150000,0,"Águas de Itapema","AA010203N"]
[null,"Projeto de educação ambiental","Projeto Executivo, Licenciamento Ambiental e Implantação de Lagoa de Acumulação n° 4 adjacente à lagoa n° 1",null,null,3020000,null,3020000,null,null,null,null,0,null,null,null,null,0,null,null,null,null,0,null,3020000,0,"Águas de Itapema","AA010204N"]
[null,null,"Projeto e Execução de Estação de Recalque de água bruta (ERAB) das lagoas n° 3 e n° 4",null,null,3900000,null,3900000,null,null,null,null,0,null,null,null,null,0,null,null,null,null,0,null,3900000,0,"Águas de Itapema","AA010205N"]
[null,null,"Estudo de viabilidade Técnica, econômica e ambiental de implantação de lagoa de acumulação n° 5",null,null,150000,null,150000,null,null,null,null,0,null,null,null,null,0,null,null,null,null,0,null,150000,0,"Águas de Itapema","AA010206N"]
[null,null,"Projeto Executivo, Licenciamento Ambiental e Implantação de Lagoa de Acumulação n° 5",null,null,4050000,null,4050000,null,null,null,null,0,null,null,null,null,0,null,null,null,null,0,null,4050000,0,"Águas de Itapema","AA010207N"]
[null,"Projeto de capacitação dos agentes públicos","Execução de Estação de Recalque de água bruta (ERAB) da lagoa n° 5",null,null,3200000,null,3200000,null,null,null,null,0,null,null,null,null,0,null,null,null,null,0,null,3200000,0,"Águas de Itapema","AA010208N"]
[null,null,"Projeto executivo, licenciamento ambiental e implantação de lagoa de acumulação (represa) n° 6  em área no município de Porto Belo",null,null,null,null,0,null,null,null,null,0,null,null,null,null,0,null,null,null,null,0,null,0,0,"Águas de Itapema","AA010209M"]
[null,null,"Outorga de captação de água bruta no rio Tijucas com  vazão de 385 L/s para abastecimento de água de Itapema",null,null,10000,null,10000,null,null,null,null,0,null,null,null,null,0,null,null,null,null,0,null,10000,0,"FAACI/PMI","AA010301N"]
[null,null,"Projeto executivo de captação e recalque (ERAB) de água bruta do rio Tijucas",null,null,1000000,null,1000000,null,null,null,null,0,null,null,null,null,0,null,null,null,null,0,null,null,null,"Águas de Itapema","AA010302A"]
[null,null,"Implantação de estação de captação e recalque de água bruta (ERAB) do Rio Tijucas",null,null,null,null,{"$f":"F18-G18","v":0},null,null,6300000,null,{"$f":"K18-L18","v":6300000},null,null,null,null,{"$f":"P18-Q18","v":0},null,null,null,null,{"$f":"U18-V18","v":0},null,{"$f":"F18+K18+P18+U18","v":6300000},{"$f":"G18+L18+Q18+V18","v":0},"Águas de Itapema","AA010303A"]
[null,null,"Implantação de adutora de água bruta DN 600 mm captada no Rio Tijucas até ETA Morretes",null,null,null,null,0,null,null,43080000,null,43080000,null,null,null,null,0,null,null,null,null,0,null,43080000,0,"Águas de Itapema","AA010304A"]
[null,"Projeto de equilíbrio financeiro","Melhorias nas ETA(s) existentes (pintura, elementos estruturais, limpeza, segurança, entre outros)",null,null,null,null,0,null,null,null,null,0,null,null,null,null,0,null,null,null,null,0,null,0,0,"Águas de Itapema","AA010401M"]
[null,null,"Estudo de melhorias tecnológicas e automação de processos de retrolavagem de filtros ascendentes para redução de perda de água nas ETA(s)",null,null,50000,null,50000,null,null,null,null,0,null,null,null,null,0,null,null,null,null,0,null,50000,0,"Águas de Itapema","AA010402N"]
[null,"Projeto de educação ambiental","Ampliação do sistema de desinfecção da ETA Areal para capacidade de tratamento de 100 L/s",null,null,120000,null,120000,null,null,null,null,0,null,null,null,null,0,null,null,null,null,0,null,120000,0,"Águas de Itapema","AA010403N"]
[null,null,"Ampliação do sistema de desinfecção da ETA Morretes para capacidade de tratamento de 525 L/s",null,null,null,null,0,null,null,220000,null,220000,null,null,null,null,0,null,null,220000,null,220000,null,440000,0,"Águas de Itapema","AA010404N"]
[null,null,"Ampliação da capacidade da ETA Morretes em 75 L/s",null,null,null,null,0,null,null,null,null,0,null,null,4275000,null,4275000,null,null,null,null,0,null,4275000,0,"Águas de Itapema","AA010405N"]
[null,null,"Adequação documental para licenças ambientais das ETA(s) e outorgas de captação",null,null,null,null,0,null,null,null,null,0,null,null,null,null,0,null,null,null,null,0,null,0,0,"Águas de Itapema","AA010406M"]
[null,"Projeto de capacitação dos agentes públicos","Projeto e implantação de Unidade de Tratamento de Lodo de ETA (ETL) para atendimento de vazão das ETA 2 e 3 (SAA Morretes) (225 L/s) (etapa decantação e filtração)",null,null,5500000,null,5500000,null,null,null,null,0,null,null,null,null,0,null,null,null,null,0,null,5500000,0,"Águas de Itapema","AA010501N"]
[null,null,"Projeto e implantação de Unidade de Tratamento de Lodo de ETA (ETL) para atendimento de vazão da ETA Areal (100 L/s) (etapa filtração ascendente)",null,null,2500000,null,2500000,null,null,null,null,0,null,null,null,null,0,null,null,null,null,0,null,2500000,0,"Águas de Itapema","ÁGUA010502N"]
[null,null,"Projeto e implantação de Unidade de Tratamento de Lodo de ETA (ETL) para atendimento de vazão da ETA São Paulinho (50 L/s) (etapa filtração ascendente)",null,null,1500000,null,1500000,null,null,null,null,0,null,null,null,null,0,null,null,null,null,0,null,1500000,0,"Águas de Itapema","AA010503N"]
[null,null,"Projeto e implantação de Unidade de Tratamento de Lodo de ETA (ETL) para atendimento de vazão das ETA Ilhota (15 L/s) (etapas decantação e filtração)",null,null,400000,null,400000,null,null,null,null,0,null,null,null,null,0,null,null,null,null,0,null,null,null,"Águas de Itapema","AA010504N"]
[null,null,"Projeto e implantação de Unidade de Tratamento de Lodo de ETA (ETL) para atendimento de vazão das ETA Sertãozinho (8 L/s) (etapas decantação e filtração)",null,null,400000,null,{"$f":"F30-G30","v":400000},null,null,null,null,{"$f":"K30-L30","v":0},null,null,null,null,{"$f":"P30-Q30","v":0},null,null,null,null,{"$f":"U30-V30","v":0},null,{"$f":"F30+K30+P30+U30","v":400000},{"$f":"G30+L30+Q30+V30","v":0},"Águas de Itapema","AA010505N"]
[null,null,"Implantação de reservatório(s) com volume total de 5.500 m³ no morro da linguiça (SAA Morretes)",null,null,11000000,null,11000000,null,null,null,null,0,null,null,null,null,0,null,null,null,null,0,null,11000000,0,"Águas de Itapema","AA010601N"]
[null,"Projeto de equilíbrio financeiro","Implantação de reservatório(s) com volume total de 2.400 m³",null,null,null,null,0,null,null,4800000,null,4800000,null,null,null,null,0,null,null,null,null,0,null,4800000,0,"Águas de Itapema","AA010602N"]
[null,null,"Implantação de reservatório(s) com volume total de 5.500 m³ no morro da linguiça (SAA Morretes)",null,null,null,null,0,null,null,11000000,null,11000000,null,null,null,null,0,null,null,null,null,0,null,11000000,0,"Águas de Itapema","AA010603N"]
[null,"Projeto de educação ambiental","Implantação de reservatório(s) com volume total de 200 m³",null,null,null,null,0,null,null,null,null,0,null,null,400000,null,400000,null,null,null,null,0,null,400000,0,"Águas de Itapema","AA010604N"]
[null,null,"Implantação de reservatório(s) com volume total de 4.000 m³",null,null,null,null,0,null,null,null,null,0,null,null,null,null,0,null,null,8000000,null,8000000,null,8000000,0,"Águas de Itapema","AA010605N"]
[null,null,"Implantação de adutora de água tratada  para atender os reservatórios no Morro da Linguiça",null,null,2000000,null,2000000,null,null,null,null,0,null,null,null,null,0,null,null,null,null,0,null,2000000,0,"Águas de Itapema","AA010701N"]
[null,null,"Implantação de recalque de água tratada para atender reservatórios no Morro da Linguiça",null,null,1600000,null,1600000,null,null,null,null,0,null,null,null,null,0,null,null,null,null,0,null,1600000,0,"Águas de Itapema","AA010702N"]
[null,"Projeto de capacitação dos agentes públicos","Implantação de motobomba de adução de água tratada (reserva) da ETA São Paulinho",null,null,15000,null,15000,null,null,null,null,0,null,null,null,null,0,null,null,null,null,0,null,15000,0,"Águas de Itapema","AA010703N"]
[null,null,"Ampliação de rede de abastecimento de água (16.252 m)",null,null,1454559.44,null,1454559.44,null,null,null,null,0,null,null,null,null,0,null,null,null,null,0,null,1454559.44,0,"Águas de Itapema","AA010704A"]
[null,null,"Ampliação  de hidrômetros para atendimento do crescimento vegetativo (6.631 novos hidrômetros)",null,null,994639.39,null,994639.39,null,null,null,null,0,null,null,null,null,0,null,null,null,null,0,null,994639.39,0,"Águas de Itapema","AA010705A"]
[null,null,"Ampliação de rede de abastecimento de água (29.327 m)",null,null,null,null,0,null,null,2624789.23,null,2624789.23,null,null,null,null,0,null,null,null,null,0,null,null,null,"Águas de Itapema","AA010706A"]
[null,null,"Ampliação  de hidrômetros para crescimento vegetativo (12.085 novos hidrômetros)",null,null,null,null,{"$f":"F42-G42","v":0},null,null,1812785.95,null,{"$f":"K42-L42","v":1812785.95},null,null,null,null,{"$f":"P42-Q42","v":0},null,null,null,null,{"$f":"U42-V42","v":0},null,{"$f":"F42+K42+P42+U42","v":1812785.95},{"$f":"G42+L42+Q42+V42","v":0},"Águas de Itapema","AA010707A"]
[null,null,"Ampliação de rede de abastecimento de água (25.645) m",null,null,null,null,0,null,null,null,null,0,null,null,2295204.2400000002,null,2295204.2400000002,null,null,null,null,0,null,2295204.2400000002,0,"Águas de Itapema","AA010708A"]
[null,"Projeto de equilíbrio financeiro","Ampliação  de hidrômetros para crescimento vegetativo (10.534 novos hidrômetros)",null,null,null,null,0,null,null,null,null,0,null,null,1580104.84,null,1580104.84,null,null,null,null,0,null,1580104.84,0,"Águas de Itapema","AA010709A"]
[null,null,"Ampliação de rede de abastecimento de água (57.806 m)",null,null,null,null,0,null,null,null,null,0,null,null,null,null,0,null,null,5173600.47,null,5173600.47,null,5173600.47,0,"Águas de Itapema","AA010710A"]
[null,"Projeto de educação ambiental","Ampliação  de hidrômetros para crescimento vegetativo (23.376 novos hidrômetros)",null,null,null,null,0,null,null,null,null,0,null,null,null,null,0,null,null,3506474.82,null,3506474.82,null,3506474.82,0,"Águas de Itapema","AA010711A"]
[null,null,"Manutenção do cadastro georeferenciado do SAA",null,null,null,null,0,null,null,null,null,0,null,null,null,null,0,null,null,null,null,0,null,0,0,"Águas de Itapema","AA010712M"]
[null,null,"Investimento em abastecimento de água na área rural",null,null,30000,null,30000,null,null,50000,null,50000,null,null,40000,null,40000,null,null,80000,null,80000,null,200000,0,"FAACI/PMI/VS","AA010801A"]
[null,null,"Implementação e estruturação de programa de controle e redução de perdas",null,null,null,null,0,null,null,null,null,0,null,null,null,null,0,null,null,null,null,0,null,0,0,"Águas de Itapema","AA020101M"]
[null,"Projeto de capacitação dos agentes públicos","Manutenção do programa de controle e redução de perdas",null,null,null,null,0,null,null,null,null,0,null,null,null,null,0,null,null,null,null,0,null,0,0,"Águas de Itapema","AA020102M"]
[null,null,"Substituição de rede precária de abastecimento de água (8.287 m)",null,null,741670.01,null,{"$f":"F51-G51","v":741670.01},null,null,null,null,0,null,null,null,null,0,null,null,null,null,0,null,741670.01,0,"Águas de Itapema","AA020103A"]
[null,null,"Substituição de hidrômetros (16.776 hidrômetros)",null,null,2516455.34,null,2516455.34,null,null,null,null,0,null,null,null,null,0,null,null,null,null,0,null,2516455.34,0,"Águas de Itapema","AA020104A"]
[null,null,"Substituição de ramais precários (243 ramais)",null,null,113323.82887224,null,113323.82887224,null,null,null,null,0,null,null,null,null,0,null,null,null,null,0,null,null,null,"Águas de Itapema","AA020105A"]
[null,"Projeto de equilíbrio financeiro","Substituição de rede precária de abastecimento de água (14.954 m)",null,null,null,null,{"$f":"F54-G54","v":0},null,null,1338383.67,null,{"$f":"K54-L54","v":1338383.67},null,null,null,null,{"$f":"P54-Q54","v":0},null,null,null,null,{"$f":"U54-V54","v":0},null,{"$f":"F54+K54+P54+U54","v":1338383.67},{"$f":"G54+L54+Q54+V54","v":0},"Águas de Itapema","AA020106A"]
[null,null,"Substituição de hidrômetros (32.666 hidrômetros)",null,null,null,null,0,null,null,4899969.45,null,4899969.45,null,null,null,null,0,null,null,null,null,0,null,4899969.45,0,"Águas de Itapema","AA020107A"]
[null,"Projeto de educação ambiental","Substituição de ramais precários (438 ramais)",null,null,null,null,0,null,null,204495.70970140054,null,204495.70970140054,null,null,null,null,0,null,null,null,null,0,null,204495.70970140054,0,"Águas de Itapema","AA020108A"]
[null,null,"Substituição de rede precária de abastecimento de água (13.077 m)",null,null,null,null,0,null,null,null,null,0,null,null,1170347.1000000001,null,1170347.1000000001,null,null,null,null,0,null,1170347.1000000001,0,"Águas de Itapema","AA020109A"]
[null,null,"Substituição de hidrômetros (30.715 hidrômetros)",null,null,null,null,0,null,null,null,null,0,null,null,4607203.08,null,4607203.08,null,null,null,null,0,null,4607203.08,0,"Águas de Itapema","AA020110A"]
[null,null,"Substituição de ramais precários (383 ramais)",null,null,null,null,0,null,null,null,null,0,null,null,178817.94710451333,null,178817.94710451333,null,null,null,null,0,null,178817.94710451333,0,"Águas de Itapema","AA020111A"]
[null,"Projeto de capacitação dos agentes públicos","Substituição de rede precária de abastecimento de água (29.476 m)",null,null,null,null,0,null,null,null,null,0,null,null,null,null,0,null,null,2638122.11,null,2638122.11,null,2638122.11,0,"Águas de Itapema","AA020112A"]
[null,null,"Substituição de hidrômetros (74.955 hidrômetros)",null,null,null,null,{"$f":"F61-G61","v":0},null,null,null,null,0,null,null,null,null,0,null,null,11243310.67,null,11243310.67,null,11243310.67,0,"Águas de Itapema","AA020113A"]
[null,null,"Substituição de ramais precários (864 ramais)",null,null,null,null,{"$f":"F62-G62","v":0},null,null,null,null,0,null,null,null,null,0,null,null,403072.02194767405,null,403072.02194767405,null,403072.02194767405,0,"Águas de Itapema","AA020114A"]
[null,null,"Monitoramento contínuo de Água Bruta e Tratada conforme padrões da Portaria MS n° 888/2021",null,null,null,null,0,null,null,null,null,0,null,null,null,null,0,null,null,null,null,0,null,null,null,"Águas de Itapema","AA030101M"]
[null,null,"Programa contínuo de Uso Racional de Energia Elétrica",null,null,null,null,{"$f":"F64-G64","v":0},null,null,null,null,{"$f":"K64-L64","v":0},null,null,null,null,{"$f":"P64-Q64","v":0},null,null,null,null,{"$f":"U64-V64","v":0},null,{"$f":"F64+K64+P64+U64","v":0},{"$f":"G64+L64+Q64+V64","v":0},"Águas de Itapema","AA040101N"]
[null,null,null,null,null,null,null,0,null,null,null,null,0,null,null,null,null,0,null,null,null,null,0]
["Total",null,"Total ",null,null,{"$f":"SUM(F5:F65)","v":51381648.008872233},{"$f":"SUM(G5:G65)","v":0},null,null,null,{"$f":"SUM(K5:K65)","v":76330424.009701416},{"$f":"SUM(L5:L65)","v":0},null,null,null,{"$f":"SUM(P5:P65)","v":14546677.207104513},{"$f":"SUM(Q5:Q65)","v":0},null,null,null,{"$f":"SUM(U5:U65)","v":31264580.091947675},{"$f":"SUM(V5:V65)","v":0},null,null,{"$f":"SUM(Y5:Y65)","v":169385216.25875357},{"$f":"SUM(Z5:Z65)","v":0}]
[]
[]
[null,null,"Dados para Indicador Execução PMSB"]
[null,null,null,null,null,"emergencial ",null,null,null,null,"curto prazo",null,null,null,null,"médio prazo ",null,null,null,null,"longo prazo"]
[null,null,"nº metas/ações concluídas",null,null,{"$f":"COUNTIF(E5:E65,\"sim\")","v":0},null,null,null,null,{"$f":"COUNTIF(J5:J65,\"sim\")","v":0},null,null,null,null,{"$f":"COUNTIF(O5:O65,\"sim\")","v":0},null,null,null,null,{"$f":"COUNTIF(T5:T65,\"sim\")","v":0}]
[null,null,"Nº total metas/ações ",null,null,36,null,null,null,null,17,null,null,null,null,15,null,null,null,null,{"$f":"COUNTA($C$5:$C$65)","v":60}]
[]
[null,null,"Dados para Indicador Custo PMSB"]
[null,null,null,null,null,"emergencial ",null,null,null,null,"curto prazo",null,null,null,null,"médio prazo ",null,null,null,null,"longo prazo"]
[null,null,"nº metas/ações  concluídas e com custo realizado menor ou igual ao custo programado",null,null,{"$f":"F71-COUNTIFS(H5:H65,\"<0\",E5:E65,\"sim\")","v":0},null,null,null,null,{"$f":"K71-COUNTIFS(M5:M65,\"<0\",J5:J65,\"sim\")","v":0},null,null,null,null,{"$f":"P71-COUNTIFS(R5:R65,\"<0\",O5:O65,\"sim\")","v":0},null,null,null,null,{"$f":"U71-COUNTIFS(W5:W65,\"<0\",T5:T65,\"sim\")","v":0}]
[null,null,"nº metas/ações concluídas",null,null,{"$f":"F71","v":0},null,null,null,null,{"$f":"K71","v":0},null,null,null,null,{"$f":"P71","v":0},null,null,null,null,{"$f":"U71","v":0}]

{"sheet":"Metas SES","index":19,"n_rows":77,"n_cols":28,"rows_kept":77,"cut":false,"hidden":false,"merged":[[45,1,48,1],[49,1,52,1],[53,1,54,1],[55,1,58,1],[59,1,62,1],[43,1,44,1],[4,0,16,0],[4,1,6,1],[7,1,8,1],[9,1,12,1],[13,1,16,1],[19,1,20,1],[21,1,24,1],[25,1,28,1],[31,1,32,1],[33,1,36,1],[37,1,40,1],[0,0,2,0],[0,1,2,1],[0,2,2,2],[0,5,0,20],[0,26,2,26],[0,27,2,27],[2,4,3,4],[2,9,3,9],[2,14,3,14],[2,19,3,19]]}
["Programa","Projeto","Metas/Ações",null,null,"Prazos/custos (R$)",null,null,null,null,null,null,null,null,null,null,null,null,null,null,null,null,null,null,null,null,"Responsável pela ação","Código da meta"]
[null,null,null,null,null,"Emergencial",null,null,null,null,"Curto",null,null,null,null,"Médio",null,null,null,null,"Longo",null,null,null,"Total","Total"]
[null,null,null,null,"Ação concluída","(2023 a 2025)",null,null,null,"Ação concluída","(2026 a 2030)",null,null,null,"Ação concluída","(2031 a 2034)",null,null,null,"Ação concluída","(2035 a 3042)",null,null,null,"Programado","Realizado"]
[null,null,null,null,null,"PROGRAMADO","REALIZADO",null,null,null,"PROGRAMADO","REALIZADO",null,null,null,"PROGRAMADO","REALIZADO",null,null,null,"PROGRAMADO","REALIZADO"]
["Programa institucional do município de Itapema","Projeto de estruturação institucional","Estudo de concepção para análise de alternativas mais adequadas para pós-tratamento da Fase 1",null,null,100000,null,{"$f":"F5-G5","v":100000},null,null,null,null,{"$f":"K5-L5","v":0},null,null,null,null,{"$f":"P5-Q5","v":0},null,null,null,null,{"$f":"U5-V5","v":0},null,{"$f":"F5+K5+P5+U5","v":100000},{"$f":"G5+L5+Q5+V5","v":0},"Águas de Itapema","ES010101N"]
[null,null,"Alternativa 1.1: Instalação de queimadores de biogás, corta-chamas e cobertura em PRFV nos cinco reatores UASB",null,null,420000,null,{"$f":"F6-G6","v":420000},null,null,null,null,{"$f":"K6-L6","v":0},null,null,null,null,{"$f":"P6-Q6","v":0},null,null,null,null,{"$f":"U6-V6","v":0},null,{"$f":"F6+K6+P6+U6","v":420000},0,"Águas de Itapema","ES010102A"]
[null,null,"Alternativa 1.2: Projeto readequação/adaptação do novo tanque de equalização para pós-tratamento de polimento ao tratamento anaeróbio, como reator secundário aeróbio por lodos ativados convencional",null,null,4677600,null,4677600,null,null,null,null,0,null,null,null,null,0,null,null,null,null,0,null,4677600,0,"Águas de Itapema","ES010102N"]
[null,"Projeto de equilíbrio financeiro","Alternativa 2: Projeto de readequação/adaptação dos reatores UASB para tratamento secundário aeróbio, modalidade aeração prolongada",null,null,null,null,0,null,null,null,null,0,null,null,null,null,0,null,null,null,null,0,null,0,0,"Águas de Itapema","ES010103N"]
[null,null," Alternativa 3: Projeto de readequação com pós-tratamento dos reatores anaeróbios com filtros biológicos percoladores (FBP)",null,null,null,null,0,null,null,null,null,0,null,null,null,null,0,null,null,null,null,0,null,0,0,"Águas de Itapema","ES010104N"]
[null,"Projeto de educação ambiental","Projeto Executivo de ampliação da rede coletora de esgoto para os bairros Tabuleiro dos Oliveira, Várzea, Alto São Bento, Casa Branca, Sertãozinho, Ilhota e parte do Canto da Praia",null,null,1000000,null,1000000,null,null,null,null,0,null,null,null,null,0,null,null,null,null,0,null,1000000,0,"Águas de Itapema","ES010201N"]
[null,null," Execução de uma câmara de contato (TC-01) em concreto armado",null,null,null,null,0,null,null,null,null,0,null,null,null,null,0,null,null,null,null,0,null,0,0,"Águas de Itapema","ES010301M"]
[null,null,"Execução de elevatória e emissário de esgoto tratado da ETE Morretes até o rio Perequê",null,null,null,null,0,null,null,null,null,0,null,null,null,null,0,null,null,null,null,0,null,0,0,"Águas de Itapema","ES010302M"]
[null,null,"Elaboração de Estudo de concepção e de viabilidade técnica, econômica e ambiental para implantação de ETE Ilhota",null,null,300000,null,300000,null,null,null,null,0,null,null,null,null,0,null,null,null,null,0,null,300000,0,"Águas de Itapema","ES010401N"]
[null,"Projeto de capacitação dos agentes públicos","Adequação/ampliação de elevatória EEE 8.8 (306) com bombas submersíveis",null,null,390000,null,390000,null,null,null,null,0,null,null,null,null,0,null,null,null,null,0,null,390000,0,"Águas de Itapema","ES010501N"]
[null,null,"Adequação/ampliação de Elevatória EEE 8.9 (258) com bombas submersíveis",null,null,null,null,0,null,null,null,null,0,null,null,null,null,0,null,null,null,null,0,null,0,0,"Águas de Itapema","ES010502N"]
[null,null,"Adequação/ampliação de emissário, ø400mm, até a ETE - 1622,00m",null,null,1650000,null,1650000,null,null,null,null,0,null,null,null,null,0,null,null,null,null,0,null,1650000,0,"Águas de Itapema","ES010503N"]
[null,null,"Aumento de capacidade da EEE 7.4A para vazões de médio prazo",null,null,315000,null,315000,null,null,null,null,0,null,null,null,null,0,null,null,null,null,0,null,315000,null,"Águas de Itapema","ES010504N"]
[null,null,"Aumento da Capacidade da EEE 7.4B - Para vazões de médio Prazo",null,null,170000,null,170000,null,null,null,null,0,null,null,null,null,0,null,null,null,null,0,null,{"$f":"F18+K18+P18+U18","v":170000},0,"Águas de Itapema","ES010505N"]
[null,null,"Gestão de Qualidade do SES - manutenção e ampliação de procedimentos de qualidade e gestão ambiental",null,null,15000,null,15000,null,null,25000,null,25000,null,null,20000,null,20000,null,null,40000,null,40000,null,100000,0,"Águas de Itapema","ES010601N"]
[null,"Projeto de equilíbrio financeiro","Manutenção do Programa \"Se Liga na Rede Itapema\"",null,null,15000,null,15000,null,null,25000,null,25000,null,null,20000,null,20000,null,null,40000,null,40000,null,100000,0,"FAACI/PMI","ES010701N"]
[null,null,"Manutenção e atualização de cadastro georeferenciado do SES",null,null,null,null,0,null,null,null,null,0,null,null,null,null,0,null,null,null,null,0,null,0,0,"Águas de Itapema","ES010801M"]
[null,"Projeto de educação ambiental","Implantação de conjuntos sanitários para residências de zonas especiais de interesse social (Zeis)",null,null,60000,null,60000,null,null,100000,null,100000,null,null,80000,null,80000,null,null,160000,null,160000,null,400000,0,"PMI","ES010901N"]
[null,null,"Execução de rede coletora para cobertura de 74,52% em prazo emergencial (2025) nos bairros Tabuleiro dos Oliveira e Várzea",null,null,15286320,null,15286320,null,null,null,null,0,null,null,null,null,0,null,null,null,null,0,null,15286320,0,"Águas de Itapema","ES011001A"]
[null,null,"Execução de rede coletora para cobertura de 88,75% em curto prazo (entre os anos de 2026 a 2029) nos bairros Várzea, Alto São Bento, Casa Branca, Sertãozinho, Canto da Praia e Ilhota",null,null,null,null,0,null,null,79488864,null,79488864,null,null,null,null,0,null,null,null,null,0,null,79488864,0,"Águas de Itapema","ES011002A"]
[null,null,"Execução de rede coletora para cobertura de 99,99% em médio prazo",null,null,null,null,0,null,null,null,null,0,null,null,77450688,null,77450688,null,null,null,null,0,null,77450688,0,"Águas de Itapema","ES011401A"]
[null,"Projeto de capacitação dos agentes públicos","Execução de rede coletora para cobertura de 100% em longo prazo",null,null,null,null,0,null,null,null,null,0,null,null,null,null,0,null,null,119437113.59999999,null,119437113.59999999,null,119437113.59999999,0,"Águas de Itapema","ES011601A"]
[null,null,"Execução de nova Elevatória EEE 8.8 (306) com bombas submersíveis",null,null,null,null,0,null,null,90000,null,90000,null,null,null,null,0,null,null,null,null,0,null,90000,0,"Águas de Itapema","ES011101N"]
[null,null,"Execução de Duplicação de Trecho de 963,10m",null,null,null,null,0,null,null,1000000,null,1000000,null,null,null,null,0,null,null,null,null,0,null,1000000,0,"Águas de Itapema","ES011102N"]
[null,null,"Aumento de capacidade da EEE 7.3 para vazão = 60,45 l/s",null,null,null,null,0,null,null,240000,null,240000,null,null,null,null,0,null,null,null,null,0,null,240000,null,"Águas de Itapema","ES011103N"]
[null,null,"Aumento da capacidade da EEE 7.5A, para vazões de fim de plano, vazão = 40,53 l/s",null,null,null,null,0,null,null,230000,null,230000,null,null,null,null,0,null,null,null,null,0,null,{"$f":"F30+K30+P30+U30","v":230000},0,"Águas de Itapema","ES011104N"]
[null,null,"Aumento de capacidade da EEE 7.5B, para vazões de fim de plano, vazão = 42,99 l/s",null,null,null,null,0,null,null,165000,null,165000,null,null,null,null,0,null,null,null,null,0,null,165000,0,"Águas de Itapema","ES011105N"]
[null,"Projeto de equilíbrio financeiro","Aumento da capacidade da EEE 7.2 para vazões de 2ª etapa, vazão = 105,09 l/s",null,null,null,null,0,null,null,315000,null,315000,null,null,null,null,0,null,null,null,null,0,null,315000,0,"Águas de Itapema","ES011106N"]
[null,null,"Aumento de capacidade da EEE 7.1, para vazões de 2ª etapa, vazão = 44,05 l/s",null,null,null,null,0,null,null,165000,null,165000,null,null,null,null,0,null,null,null,null,0,null,165000,0,"Águas de Itapema","ES011107N"]
[null,"Projeto de educação ambiental","Ampliação do  sistema de tratamento Fase 2 da ETE Morretes em 200 L/s (2031)",null,null,null,null,0,null,null,null,null,0,null,null,30000000,null,30000000,null,null,null,null,0,null,30000000,0,"Águas de Itapema","ES011201A"]
[null,null,"Execução de elevatória e de emissário de esgoto tratado na saída da ETE Morretes até o rio Perequê",null,null,null,null,0,null,null,null,null,0,null,null,2000000,null,2000000,null,null,null,null,0,null,2000000,0,"Águas de Itapema","ES011202A"]
[null,null,"Ampliação do  sistema de tratamento Fase 2 da ETE Morretes em 150 L/s",null,null,null,null,0,null,null,null,null,0,null,null,null,null,0,null,null,22500000,null,22500000,null,22500000,0,"Águas de Itapema","ES011501A"]
[null,null,"Estudo de viabilidade técnica, econômica e ambiental para implantação consorciada de sistema de disposição oceânica para lançamento de esgoto por meio de emissário submarino",null,null,null,null,0,null,null,null,null,0,null,null,1500000,null,1500000,null,null,null,null,0,null,1500000,0,"Águas de Itapema","ES011301A"]
[null,"Projeto de capacitação dos agentes públicos","Adequação/ampliação de Elevatória EEE 8.8 (307) com bombas submersíveis",null,null,null,null,0,null,null,null,null,0,null,null,null,null,0,null,null,100000,null,100000,null,100000,0,"Águas de Itapema","ES011701N"]
[null,null,"Adequação/ampliação de Duplicação de Trecho de 3000 m. Jusante da EEE 8.5 (205)",null,null,null,null,0,null,null,null,null,0,null,null,null,null,0,null,null,3000000,null,3000000,null,3000000,0,"Águas de Itapema","ES011702N"]
[null,null,"Adequação/ampliação de Elevatória EEE 3.1 (165) com bombas submersíveis",null,null,null,null,0,null,null,null,null,0,null,null,null,null,0,null,null,740000,null,740000,null,740000,0,"Águas de Itapema","ES011703N"]
[null,null,"Adequação/ampliação de Elevatória EEE 3.2 (133) com bombas submersíveis",null,null,null,null,0,null,null,null,null,0,null,null,null,null,0,null,null,165000,null,165000,null,165000,null,"Águas de Itapema","ES011704N"]
[null,null,"Troca do CMB da EE 105 (115C) para aumento de capacidade",null,null,null,null,0,null,null,null,null,0,null,null,null,null,0,null,null,30000,null,30000,null,{"$f":"F42+K42+P42+U42","v":30000},0,"Águas de Itapema","ES011705N"]
[null,null,"Projeto executivo e licenciamento ambiental para implantação consorciada de emissário submarino",null,null,null,null,0,null,null,null,null,0,null,null,null,null,0,null,null,2946793.83,null,2946793.83,null,2946793.83,0,"Águas de Itapema","ES011801A"]
[null,"Projeto de equilíbrio financeiro","Implantação de emissário de recalque terrestre (trecho ETE - Orla)",null,null,null,null,0,null,null,null,null,0,null,null,null,null,0,null,null,4565353.96,null,4565353.96,null,4565353.96,0,"Águas de Itapema","ES011802A"]
[null,null,"Implantação de emissário submarino com aproximadamente 6.000 m",null,null,null,null,0,null,null,null,null,0,null,null,null,null,0,null,null,65056040.060000002,null,65056040.060000002,null,65056040.060000002,0,"Águas de Itapema","ES011803A"]
[null,"Projeto de educação ambiental","Proceder monitoramento do esgoto bruto e tratado e do corpo receptor de acordo com as exigências legais",null,null,null,null,0,null,null,null,null,0,null,null,null,null,0,null,null,null,null,0,null,0,0,"Águas de Itapema","ES020101M"]
[null,null,"Fiscalização contínua dos domicílios sem instalação adequada de sistemas individuais de tratamento em área urbana sem atendimento do SES",null,null,null,null,0,null,null,null,null,0,null,null,null,null,0,null,null,null,null,0,null,0,0,"Vigilância Sanitária Municipal","ES030101M"]
[null,null,"Fiscalização contínua dos domicílios sem instalação adequada de sistemas individuais de tratamento em área rural",null,null,null,null,0,null,null,null,null,0,null,null,null,null,0,null,null,null,null,0,null,0,0,"Vigilância Sanitária Municipal","ES030102N"]
[null,null,"Fiscalização contínua de regularização de empresas de limpa fossa",null,null,null,null,0,null,null,null,null,0,null,null,null,null,0,null,null,null,null,0,null,0,0,"FAACI","ES030103N"]
[null,"Projeto de capacitação dos agentes públicos",null,null,null,null,null,0,null,null,null,null,0,null,null,null,null,0,null,null,null,null,0,null,0,0]
[null,null,null,null,null,null,null,{"$f":"F51-G51","v":0},null,null,null,null,0,null,null,null,null,0,null,null,null,null,0,null,0,0]
[null,null,null,null,null,null,null,0,null,null,null,null,0,null,null,null,null,0,null,null,null,null,0,null,0,0]
[null,null,null,null,null,null,null,0,null,null,null,null,0,null,null,null,null,0,null,null,null,null,0]
[null,"Projeto de equilíbrio financeiro",null,null,null,null,null,0,null,null,null,null,0,null,null,null,null,0,null,null,null,null,0,null,{"$f":"F54+K54+P54+U54","v":0},0]
[null,null,null,null,null,null,null,0,null,null,null,null,0,null,null,null,null,0,null,null,null,null,0,null,0,0]
[null,"Projeto de educação ambiental",null,null,null,null,null,0,null,null,null,null,0,null,null,null,null,0,null,null,null,null,0,null,0,0]
[null,null,null,null,null,null,null,0,null,null,null,null,0,null,null,null,null,0,null,null,null,null,0,null,0,0]
[null,null,null,null,null,null,null,0,null,null,null,null,0,null,null,null,null,0,null,null,null,null,0,null,0,0]
[null,null,null,null,null,null,null,0,null,null,null,null,0,null,null,null,null,0,null,null,null,null,0,null,0,0]
[null,"Projeto de capacitação dos agentes públicos",null,null,null,null,null,0,null,null,null,null,0,null,null,null,null,0,null,null,null,null,0,null,0,0]
[null,null,null,null,null,null,null,{"$f":"F61-G61","v":0},null,null,null,null,0,null,null,null,null,0,null,null,null,null,0,null,0,0]
[null,null,null,null,null,null,null,{"$f":"F62-G62","v":0},null,null,null,null,0,null,null,null,null,0,null,null,null,null,0,null,0,0]
[null,null,null,null,null,null,null,0,null,null,null,null,0,null,null,null,null,0,null,null,null,null,0]
[null,null,null,null,null,null,null,0,null,null,null,null,0,null,null,null,null,0,null,null,null,null,0,null,{"$f":"F64+K64+P64+U64","v":0},0]
[null,null,null,null,null,null,null,0,null,null,null,null,0,null,null,null,null,0,null,null,null,null,0]
["Total",null,"Total",null,null,{"$f":"SUM(F5:F65)","v":24398920},{"$f":"SUM(G5:G65)","v":0},null,null,null,{"$f":"SUM(K5:K65)","v":81843864},{"$f":"SUM(L5:L65)","v":0},null,null,null,{"$f":"SUM(P5:P65)","v":111070688},{"$f":"SUM(Q5:Q65)","v":0},null,null,null,{"$f":"SUM(U5:U65)","v":218780301.45000002},{"$f":"SUM(V5:V65)","v":0},null,null,{"$f":"SUM(Y5:Y65)","v":436093773.44999999},{"$f":"SUM(Z5:Z65)","v":0}]
[]
[]
[null,null,"Dados para Indicador Execução PMSB"]
[null,null,null,null,null,"emergencial ",null,null,null,null,"curto prazo",null,null,null,null,"médio prazo ",null,null,null,null,"longo prazo"]
[null,null,"nº metas/ações concluídas",null,null,{"$f":"COUNTIF(E5:E65,\"sim\")","v":0},null,null,null,null,{"$f":"COUNTIF(J5:J65,\"sim\")","v":0},null,null,null,null,{"$f":"COUNTIF(O5:O65,\"sim\")","v":0},null,null,null,null,{"$f":"COUNTIF(T5:T65,\"sim\")","v":0}]
[null,null,"Nº total metas/ações ",null,null,21,null,null,null,null,15,null,null,null,null,11,null,null,null,null,18]
[]
[null,null,"Dados para Indicador Custo PMSB"]
[null,null,null,null,null,"emergencial ",null,null,null,null,"curto prazo",null,null,null,null,"médio prazo ",null,null,null,null,"longo prazo"]
[null,null,"nº metas/ações  concluídas e com custo realizado menor ou igual ao custo programado",null,null,{"$f":"F71-COUNTIFS(H5:H65,\"<0\",E5:E65,\"sim\")","v":0},null,null,null,null,{"$f":"K71-COUNTIFS(M5:M65,\"<0\",J5:J65,\"sim\")","v":0},null,null,null,null,{"$f":"P71-COUNTIFS(R5:R65,\"<0\",O5:O65,\"sim\")","v":0},null,null,null,null,{"$f":"U71-COUNTIFS(W5:W65,\"<0\",T5:T65,\"sim\")","v":0}]
[null,null,"nº metas/ações concluídas",null,null,{"$f":"F71","v":0},null,null,null,null,{"$f":"K71","v":0},null,null,null,null,{"$f":"P71","v":0},null,null,null,null,{"$f":"U71","v":0}]

{"sheet":"Metas RS","index":20,"n_rows":77,"n_cols":28,"rows_kept":77,"cut":false,"hidden":false,"merged":[[45,1,48,1],[49,1,52,1],[53,1,54,1],[55,1,58,1],[59,1,62,1],[43,1,44,1],[4,0,16,0],[4,1,6,1],[7,1,8,1],[9,1,12,1],[13,1,16,1],[19,1,20,1],[21,1,24,1],[25,1,28,1],[31,1,32,1],[33,1,36,1],[37,1,40,1],[0,0,2,0],[0,1,2,1],[0,2,2,2],[0,5,0,20],[0,26,2,26],[0,27,2,27],[2,4,3,4],[2,9,3,9],[2,14,3,14],[2,19,3,19]]}
["Programa","Projeto","Metas/Ações",null,null,"Prazos/custos (R$)",null,null,null,null,null,null,null,null,null,null,null,null,null,null,null,null,null,null,null,null,"Responsável pela ação","Código da meta"]
[null,null,null,null,null,"Emergencial",null,null,null,null,"Curto",null,null,null,null,"Médio",null,null,null,null,"Longo",null,null,null,"Total","Total"]
[null,null,null,null,"Ação concluída","(2023 a 2025)",null,null,null,"Ação concluída","(2026 a 2030)",null,null,null,"Ação concluída","(2031 a 2034)",null,null,null,"Ação concluída","(2035 a 3042)",null,null,null,"Programado","Realizado"]
[null,null,null,null,null,"PROGRAMADO","REALIZADO",null,null,null,"PROGRAMADO","REALIZADO",null,null,null,"PROGRAMADO","REALIZADO",null,null,null,"PROGRAMADO","REALIZADO"]
["Programa institucional do município de Itapema","Projeto de estruturação institucional","Realizar a composição gravimétrica dos resíduos domiciliares a cada 4 anos e na implantação de novos sistemas",null,null,null,null,{"$f":"F5-G5","v":0},null,null,null,null,{"$f":"K5-L5","v":0},null,null,null,null,{"$f":"P5-Q5","v":0},null,null,null,null,{"$f":"U5-V5","v":0},null,{"$f":"F5+K5+P5+U5","v":0},{"$f":"G5+L5+Q5+V5","v":0},"Autarquia de saneamento básico","RS010101A"]
[null,null,"Realizar o serviço de coleta convencional atendendo 100% da população",null,null,19237826.25,null,{"$f":"F6-G6","v":19237826.25},null,null,38010145.859999999,null,{"$f":"K6-L6","v":38010145.859999999},null,null,35958743.649999999,null,{"$f":"P6-Q6","v":35958743.649999999},null,null,88056977.489999995,null,{"$f":"U6-V6","v":88056977.489999995},null,181263693.25,0,"Prestadora de serviços e Autarquia de saneamento básico","RS010201A"]
[null,null,"Realizar estudo de viabilidade técnica e econômica para implantação de estação de transbordo",null,null,35000,null,35000,null,null,null,null,0,null,null,null,null,0,null,null,null,null,0,null,35000,0,"Autarquia de saneamento básico","RS010202M"]
[null,"Projeto de equilíbrio financeiro","Realizar a disposição final ambientalmente adequada dos RSU gerados no município",null,null,26051879.16,null,26051879.16,null,null,51473368.859999999,null,51473368.859999999,null,null,48695358.409999996,null,48695358.409999996,null,null,119246826.89,null,119246826.89,null,245467433.31999999,0,"Prestadora de serviços e Autarquia de saneamento básico","RS010301M"]
[null,null,"Realizar estudo de viabilidade técnica e econômica para implementação de novas tecnologias visando a valorização dos resíduos e/ou geração de energia",null,null,null,null,0,null,null,null,null,0,null,null,null,null,0,null,null,null,null,0,null,0,0,"Autarquia de saneamento básico","RS010302N"]
[null,"Projeto de educação ambiental","Compostagem piloto em parceria com o governo do Estado de Santa Catarina",null,null,null,null,0,null,null,null,null,0,null,null,null,null,0,null,null,null,null,0,null,0,0,"Penitenciária e autarquia de saneamento básico","RS010401N"]
[null,null,"Elaborar estudo e projeto para central de compostagem e licenciar",null,null,523628,null,523628,null,null,null,null,0,null,null,null,null,0,null,null,null,null,0,null,523628,0,"Autarquia de saneamento básico","RS010402M"]
[null,null,"Implantar coleta de resíduos orgânicos",null,null,null,null,0,null,null,1284192.49,null,1284192.49,null,null,1956974.54,null,1956974.54,null,null,7582146.2000000002,null,7582146.2000000002,null,10823313.23,0,"Prestadora de serviços e Autarquia de saneamento básico","RS010403A"]
[null,null,"Implantar central de compostagem",null,null,null,null,0,null,null,null,null,0,null,null,null,null,0,null,null,null,null,0,null,0,0,"Autarquia de saneamento básico e Secretaria de Obras e Transporte","RS010404M"]
[null,"Projeto de capacitação dos agentes públicos","Elaborar projeto do PEV",null,null,13600,null,13600,null,null,null,null,0,null,null,null,null,0,null,null,null,null,0,null,13600,0,"Autarquia de saneamento básico","RS010501N"]
[null,null,"Implantar 2 Pontos de Entrega Voluntária - PEV",null,null,null,null,0,null,null,null,null,0,null,null,null,null,0,null,null,null,null,0,null,0,0,"Autarquia de saneamento básico e Secretaria de Obras e Transportes ","RS010502N"]
[null,null,"Implantar canal de divulgação",null,null,null,null,0,null,null,null,null,0,null,null,null,null,0,null,null,null,null,0,null,0,0,"Autarquia de saneamento básico","RS010503N"]
[null,null,"Realizar diagnóstico ambiental e projeto executivo de engenharia para recuperação da área de passivo ambiental - antigo lixão no Morro do Encano",null,null,177000,null,177000,null,null,null,null,0,null,null,null,null,0,null,null,null,null,0,null,{"$f":"F17+K17+P17+U17","v":177000},null,"Autarquia de saneamento básico","RS010601M"]
[null,null,"Realizar a execução do projeto para a recuperação do passivo ambiental - antigo lixão no Morro do Encano",null,null,null,null,0,null,null,null,null,0,null,null,null,null,0,null,null,null,null,0,null,0,{"$f":"G18+L18+Q18+V18","v":0},"Autarquia de saneamento básico","RS010602M"]
[null,null,"Realizar o monitoramento ambiental do antigo lixão no Morro do Encano",null,null,null,null,0,null,null,null,null,0,null,null,null,null,0,null,null,null,null,0,null,0,0,"Autarquia de saneamento básico","RS010603M"]
[null,"Projeto de equilíbrio financeiro","Estudo para quantificar e qualificar os resíduos dispostos no pátio da Secretaria de Obras e Transportes",null,null,10000,null,10000,null,null,null,null,0,null,null,null,null,0,null,null,null,null,0,null,10000,0,"Autarquia de saneamento básico e Secretaria de Obras e Transportes","RS010604A"]
[null,null,"Dar destino final adequado aos resíduos dispostos no pátio da Secretaria de Obras e Transportes",null,null,null,null,0,null,null,null,null,0,null,null,null,null,0,null,null,null,null,0,null,0,0,"Autarquia de saneamento básico e Secretaria de Obras e Transportes","RS010605A"]
[null,"Projeto de educação ambiental","Regularizar a área do Centro de Triagem Municipal",null,null,null,null,0,null,null,null,null,0,null,null,null,null,0,null,null,null,null,0,null,0,0,"Autarquia de saneamento básico","RS010606N"]
[null,null,"Realizar cadastro das áreas de depósito irregular de resíduos e manter atualizado",null,null,null,null,0,null,null,null,null,0,null,null,null,null,0,null,null,null,null,0,null,0,0,"Autarquia de saneamento básico","RS010607N"]
[null,null,"Notificar os proprietários das áreas com depósito irregular para efetuar a limpeza",null,null,null,null,0,null,null,null,null,0,null,null,null,null,0,null,null,null,null,0,null,0,0,"FAACI","RS010608N"]
[null,null,"Manter os serviços de coleta externa, transporte, tratamento e destino final dos RSS",null,null,504698.46,null,504698.46,null,null,841164.1,null,841164.1,null,null,672931.28,null,672931.28,null,null,1345862.56,null,1345862.56,null,3364656.4000000004,0,"Prestadora de serviços","RS020101A"]
[null,"Projeto de capacitação dos agentes públicos","Elaborar Plano de Gerenciamento de RSS e mantê-lo atualizado",null,null,95500,null,95500,null,null,null,null,0,null,null,null,null,0,null,null,null,null,0,null,95500,0,"Vigilância Sanitária","RS020102N"]
[null,null,"Adequar os coletores e os abrigos externos de RSS",null,null,null,null,0,null,null,null,null,0,null,null,null,null,0,null,null,null,null,0,null,0,0,"Vigilância Sanitária","RS020103N"]
[null,null,"Manter o serviço de coleta de resíduos recicláveis para 100% da população e melhorar a eficiência da coleta seletiva",null,null,3774222.57,null,3774222.57,null,null,8331062.6600000001,null,8331062.6600000001,null,null,10918846.189999999,null,10918846.189999999,null,null,38897466.549999997,null,38897466.549999997,null,61921597.969999999,0,"Prestadora de serviços e Autarquia de saneamento básico","RS030101A"]
[null,null,"Realizar e manter atualizado cadastro dos catadores de materiais recicláveis que atuam no município",null,null,null,null,0,null,null,null,null,0,null,null,null,null,0,null,null,null,null,0,null,null,null,"Secretaria de Assistência Social e Lazer","RS030201N"]
[null,null,"Apoiar e proporcionar capacitação dos catadores de materiais recicláveis",null,null,null,null,0,null,null,null,null,0,null,null,null,null,0,null,null,null,null,0,null,{"$f":"F30+K30+P30+U30","v":0},{"$f":"G30+L30+Q30+V30","v":0},"Autarquia de saneamento básico e Secretaria de Assistência Social e Lazer","RS030202N"]
[null,null,"Manter os serviços de limpeza urbana",null,null,24321673.109999999,null,24321673.109999999,null,null,40536121.850000001,null,40536121.850000001,null,null,32428897.48,null,32428897.48,null,null,64857794.960000001,null,64857794.960000001,null,162144487.40000001,0,"Prestadora de serviços e Autarquia de saneamento básico","RS040101M"]
[null,"Projeto de equilíbrio financeiro","Aumentar a quantidade de contêineres na orla",null,null,112459.33,null,112459.33,null,null,95696.89,null,95696.89,null,null,76557.509999999995,null,76557.509999999995,null,null,153115.01999999999,null,153115.01999999999,null,437828.75,0,"Prestadora de serviços e Autarquia de saneamento básico","RS040102N"]
[null,null,"Fiscalizar a implementação e operacionalização dos planos de gerenciamento de resíduos sólidos que trata o artigo 20 da Lei 12.305/2010 e os sistemas de logística reversa (artigo 33 da referida lei)",null,null,null,null,0,null,null,null,null,0,null,null,null,null,0,null,null,null,null,0,null,0,0,"Autarquia de saneamento básico e FAACI","RS050101M"]
[null,"Projeto de educação ambiental","Fiscalizar as áreas de disposição irregular de resíduos e monitorá-las",null,null,null,null,0,null,null,null,null,0,null,null,null,null,0,null,null,null,null,0,null,0,0,"FAACI","RS050102N"]
[null,null,null,null,null,null,null,0,null,null,null,null,0,null,null,null,null,0,null,null,null,null,0,null,0,0]
[null,null,null,null,null,null,null,0,null,null,null,null,0,null,null,null,null,0,null,null,null,null,0,null,0,0]
[null,null,null,null,null,null,null,0,null,null,null,null,0,null,null,null,null,0,null,null,null,null,0,null,0,0]
[null,"Projeto de capacitação dos agentes públicos",null,null,null,null,null,0,null,null,null,null,0,null,null,null,null,0,null,null,null,null,0,null,0,0]
[null,null,null,null,null,null,null,0,null,null,null,null,0,null,null,null,null,0,null,null,null,null,0,null,0,0]
[null,null,null,null,null,null,null,0,null,null,null,null,0,null,null,null,null,0,null,null,null,null,0,null,0,0]
[null,null,null,null,null,null,null,0,null,null,null,null,0,null,null,null,null,0,null,null,null,null,0]
[null,null,null,null,null,null,null,0,null,null,null,null,0,null,null,null,null,0,null,null,null,null,0,null,{"$f":"F42+K42+P42+U42","v":0},{"$f":"G42+L42+Q42+V42","v":0}]
[null,null,null,null,null,null,null,0,null,null,null,null,0,null,null,null,null,0,null,null,null,null,0,null,0,0]
[null,"Projeto de equilíbrio financeiro",null,null,null,null,null,0,null,null,null,null,0,null,null,null,null,0,null,null,null,null,0,null,0,0]
[null,null,null,null,null,null,null,0,null,null,null,null,0,null,null,null,null,0,null,null,null,null,0,null,0,0]
[null,"Projeto de educação ambiental",null,null,null,null,null,0,null,null,null,null,0,null,null,null,null,0,null,null,null,null,0,null,0,0]
[null,null,null,null,null,null,null,0,null,null,null,null,0,null,null,null,null,0,null,null,null,null,0,null,0,0]
[null,null,null,null,null,null,null,0,null,null,null,null,0,null,null,null,null,0,null,null,null,null,0,null,0,0]
[null,null,null,null,null,null,null,0,null,null,null,null,0,null,null,null,null,0,null,null,null,null,0,null,0,0]
[null,"Projeto de capacitação dos agentes públicos",null,null,null,null,null,0,null,null,null,null,0,null,null,null,null,0,null,null,null,null,0,null,0,0]
[null,null,null,null,null,null,null,{"$f":"F51-G51","v":0},null,null,null,null,0,null,null,null,null,0,null,null,null,null,0,null,0,0]
[null,null,null,null,null,null,null,0,null,null,null,null,0,null,null,null,null,0,null,null,null,null,0,null,0,0]
[null,null,null,null,null,null,null,0,null,null,null,null,0,null,null,null,null,0,null,null,null,null,0]
[null,"Projeto de equilíbrio financeiro",null,null,null,null,null,0,null,null,null,null,0,null,null,null,null,0,null,null,null,null,0,null,{"$f":"F54+K54+P54+U54","v":0},{"$f":"G54+L54+Q54+V54","v":0}]
[null,null,null,null,null,null,null,0,null,null,null,null,0,null,null,null,null,0,null,null,null,null,0,null,0,0]
[null,"Projeto de educação ambiental",null,null,null,null,null,0,null,null,null,null,0,null,null,null,null,0,null,null,null,null,0,null,0,0]
[null,null,null,null,null,null,null,0,null,null,null,null,0,null,null,null,null,0,null,null,null,null,0,null,0,0]
[null,null,null,null,null,null,null,0,null,null,null,null,0,null,null,null,null,0,null,null,null,null,0,null,0,0]
[null,null,null,null,null,null,null,0,null,null,null,null,0,null,null,null,null,0,null,null,null,null,0,null,0,0]
[null,"Projeto de capacitação dos agentes públicos",null,null,null,null,null,0,null,null,null,null,0,null,null,null,null,0,null,null,null,null,0,null,0,0]
[null,null,null,null,null,null,null,{"$f":"F61-G61","v":0},null,null,null,null,0,null,null,null,null,0,null,null,null,null,0,null,0,0]
[null,null,null,null,null,null,null,{"$f":"F62-G62","v":0},null,null,null,null,0,null,null,null,null,0,null,null,null,null,0,null,0,0]
[null,null,null,null,null,null,null,0,null,null,null,null,0,null,null,null,null,0,null,null,null,null,0]
[null,null,null,null,null,null,null,0,null,null,null,null,0,null,null,null,null,0,null,null,null,null,0,null,{"$f":"F64+K64+P64+U64","v":0},{"$f":"G64+L64+Q64+V64","v":0}]
[null,null,null,null,null,null,null,0,null,null,null,null,0,null,null,null,null,0,null,null,null,null,0]
["Total",null,"Total ",null,null,{"$f":"SUM(F5:F65)","v":74857486.879999995},{"$f":"SUM(G5:G65)","v":0},null,null,null,{"$f":"SUM(K5:K65)","v":140571752.70999998},{"$f":"SUM(L5:L65)","v":0},null,null,null,{"$f":"SUM(P5:P65)","v":130708309.06000002},{"$f":"SUM(Q5:Q65)","v":0},null,null,null,{"$f":"SUM(U5:U65)","v":320140189.66999996},{"$f":"SUM(V5:V65)","v":0},null,null,{"$f":"SUM(Y5:Y65)","v":666277738.31999993},{"$f":"SUM(Z5:Z65)","v":0}]
[]
[]
[null,null,"Dados para Indicador Execução PMSB"]
[null,null,null,null,null,"emergencial ",null,null,null,null,"curto prazo",null,null,null,null,"médio prazo ",null,null,null,null,"longo prazo"]
[null,null,"nº ações concluídas",null,null,{"$f":"COUNTIF(E5:E65,\"sim\")","v":0},null,null,null,null,{"$f":"COUNTIF(J5:J65,\"sim\")","v":0},null,null,null,null,{"$f":"COUNTIF(O5:O65,\"sim\")","v":0},null,null,null,null,{"$f":"COUNTIF(T5:T65,\"sim\")","v":0}]
[null,null,"Nº total ações ",null,null,25,null,null,null,null,18,null,null,null,null,16,null,null,null,null,16]
[]
[null,null,"Dados para Indicador Custo PMSB"]
[null,null,null,null,null,"emergencial ",null,null,null,null,"curto prazo",null,null,null,null,"médio prazo ",null,null,null,null,"longo prazo"]
[null,null,"nº metas/ações  concluídas e com custo realizado menor ou igual ao custo programado",null,null,{"$f":"F71-COUNTIFS(H5:H65,\"<0\",E5:E65,\"sim\")","v":0},null,null,null,null,{"$f":"K71-COUNTIFS(M5:M65,\"<0\",J5:J65,\"sim\")","v":0},null,null,null,null,{"$f":"P71-COUNTIFS(R5:R65,\"<0\",O5:O65,\"sim\")","v":0},null,null,null,null,{"$f":"U71-COUNTIFS(W5:W65,\"<0\",T5:T65,\"sim\")","v":0}]
[null,null,"nº ações concluídas",null,null,{"$f":"F71","v":0},null,null,null,null,{"$f":"K71","v":0},null,null,null,null,{"$f":"P71","v":0},null,null,null,null,{"$f":"U71","v":0}]

{"sheet":"Metas AP","index":21,"n_rows":77,"n_cols":28,"rows_kept":77,"cut":false,"hidden":false,"merged":[[45,1,48,1],[49,1,52,1],[53,1,54,1],[55,1,58,1],[59,1,62,1],[43,1,44,1],[4,0,16,0],[4,1,6,1],[7,1,8,1],[9,1,12,1],[13,1,16,1],[19,1,20,1],[21,1,24,1],[25,1,28,1],[31,1,32,1],[33,1,36,1],[37,1,40,1],[0,0,2,0],[0,1,2,1],[0,2,2,2],[0,5,0,20],[0,26,2,26],[0,27,2,27],[2,4,3,4],[2,9,3,9],[2,14,3,14],[2,19,3,19]]}
["Programa","Projeto","Metas/Ações",null,null,"Prazos/custos (R$)",null,null,null,null,null,null,null,null,null,null,null,null,null,null,null,null,null,null,null,null,"Responsável pela ação","Código da meta"]
[null,null,null,null,null,"Emergencial",null,null,null,null,"Curto",null,null,null,null,"Médio",null,null,null,null,"Longo",null,null,null,"Total","Total"]
[null,null,null,null,"Ação concluída","(2023 a 2025)",null,null,null,"Ação concluída","(2026 a 2030)",null,null,null,"Ação concluída","(2031 a 2034)",null,null,null,"Ação concluída","(2035 a 3042)",null,null,null,"Programado","Realizado"]
[null,null,null,null,null,"PROGRAMADO","REALIZADO",null,null,null,"PROGRAMADO","REALIZADO",null,null,null,"PROGRAMADO","REALIZADO",null,null,null,"PROGRAMADO","REALIZADO"]
["Programa institucional do município de Itapema","Projeto de estruturação institucional","Prever na autarquia de saneamento básico a gestão e fiscalização dos estudos, projetos e obras relativos ao manejo de águas pluviais e drenagem urbana",null,null,null,null,{"$f":"F5-G5","v":0},null,null,null,null,{"$f":"K5-L5","v":0},null,null,null,null,{"$f":"P5-Q5","v":0},null,null,null,null,{"$f":"U5-V5","v":0},null,{"$f":"F5+K5+P5+U5","v":0},{"$f":"G5+L5+Q5+V5","v":0},"Poder Púbico Municipal","AP010101M"]
[null,null,"Elaborar dispositivos legais para implantação e conservação da drenagem urbana",null,null,200000,null,{"$f":"F6-G6","v":200000},null,null,null,null,{"$f":"K6-L6","v":0},null,null,null,null,{"$f":"P6-Q6","v":0},null,null,null,null,{"$f":"U6-V6","v":0},null,{"$f":"F6+K6+P6+U6","v":200000},0,"Autarquia de saneamento básico","AP010201M"]
[null,null,"Realizar cadastro técnico georreferenciado das redes de drenagem existentes",null,null,480000,null,480000,null,null,480000,null,480000,null,null,null,null,0,null,null,null,null,0,null,960000,0,"Autarquia de saneamento básico","AP010301M"]
[null,"Projeto de equilíbrio financeiro","Limpeza e conservação dos sistemas de microdrenagens",null,null,3960000,null,3960000,null,null,6600000,null,6600000,null,null,5280000,null,5280000,null,null,10560000,null,10560000,null,26400000,0,"Secretaria Municipal de Obras e Transportes","AP020101M"]
[null,null,"Metas AP Drenagem pluvial",null,null,75000,null,75000,null,null,null,null,0,null,null,null,null,0,null,null,null,null,0,null,75000,0,"Autarquia de saneamento básico","AP020201N"]
[null,"Projeto de educação ambiental","Ampliar e substituir as redes de microdrenagem nos pontos críticos de alagamentos",null,null,null,null,0,null,null,750000,null,750000,null,null,null,null,0,null,null,null,null,0,null,750000,0,"Secretaria Municipal de Obras e Transportes","AP020202N"]
[null,null,"Implantar sistema de microdrenagem nas vias sem drenagem pluvial",null,null,null,null,0,null,null,900000,null,900000,null,null,900000,null,900000,null,null,null,null,0,null,1800000,0,"Secretaria Municipal de Obras e Transportes","AP020203M"]
[null,null,"Remoção de material assoreado e conservação dos corpos hídricos",null,null,720000,null,720000,null,null,1200000,null,1200000,null,null,960000,null,960000,null,null,1920000,null,1920000,null,4800000,0,"Defesa Civil e Autarquia de saneamento básico","AP030101M"]
[null,null,"Substituir as galerias das macrodrenagens nos locais de inundação",null,null,null,null,0,null,null,1500000,null,1500000,null,null,null,null,0,null,null,null,null,0,null,1500000,0,"Secretaria Municipal de Obras e Transportes","AP030102N"]
[null,"Projeto de capacitação dos agentes públicos","Elaborar um estudo para possível eliminação da travessia da macrodrenagem da Praia do Estaleirinho (em Balneário Camboriú) que desemboca no bairro Ilhota",null,null,null,null,0,null,null,50000,null,50000,null,null,null,null,0,null,null,null,null,0,null,50000,0,"Autarquia de saneamento básico","AP030201M"]
[null,null,"Elaborar estudo hidrológico para possível implantação de bacias de retenção/detenção",null,null,200000,null,200000,null,null,null,null,0,null,null,null,null,0,null,null,null,null,0,null,200000,0,"Autarquia de saneamento básico","AP030301A"]
[null,null,"Projeto e construção de uma nova ponte sobre o rio da Mata de Camboriú na rua 1200",null,null,null,null,0,null,null,1350000,null,1350000,null,null,null,null,0,null,null,null,null,0,null,1350000,0,"Autarquia de saneamento básico","AP030401M"]
[null,null,"Elaborar projeto executivo do desassoreamento do rio Perequê, desde a BR-101 até a Foz",null,null,null,null,0,null,null,500000,null,500000,null,null,null,null,0,null,null,null,null,0,null,500000,null,"Defesa Civil e Autarquia de saneamento básico","AP030501M"]
[null,null,"Executar o desassoreamento do rio Perequê, desde a BR-101 até a Foz",null,null,null,null,0,null,null,null,null,0,null,null,13900000,null,13900000,null,null,null,null,0,null,{"$f":"F18+K18+P18+U18","v":13900000},0,"Defesa Civil","AP030502M"]
[null,null,"Executar o desassoreamento do rio Bela Cruz trecho (BR-101 até a foz) e efetuar a execução de molhes em gabiões",null,null,null,null,0,null,null,13300000,null,13300000,null,null,null,null,0,null,null,null,null,0,null,13300000,0,"Defesa Civil","AP030601M"]
[null,"Projeto de equilíbrio financeiro","Executar reforço da galeria dupla na BR 101 (Rio Fabrício)",null,null,null,null,0,null,null,425000,null,425000,null,null,null,null,0,null,null,null,null,0,null,425000,0,"Secretaria Municipal de Obras e Transportes","AP030701M"]
[null,null,"Concluir o trecho a montante (ligação do curso d’água com a rede de macrodrenagem) da obra de macrodrenagem da sub-bacia 22 do bairro Morretes",null,null,500000,null,500000,null,null,null,null,0,null,null,null,null,0,null,null,null,null,0,null,500000,0,"Secretaria Municipal de Obras e Transportes","AP030801N"]
[null,"Projeto de educação ambiental","Concluir o alargamento do rio da Fita (aproximadamente 200 m do trecho inicial lado esquerdo)",null,null,300000,null,300000,null,null,null,null,0,null,null,null,null,0,null,null,null,null,0,null,300000,0,"Secretaria Municipal de Obras e Transportes","AP030901N"]
[null,null,"Fiscalização para coibir construções em Área de Preservação Permanente (APP)",null,null,null,null,0,null,null,null,null,0,null,null,null,null,0,null,null,null,null,0,null,0,0,"Defesa Civil e FAACI","AP031001N"]
[null,null,"Implantar a pavimentação com drenagem pluvial nas vias da área urbana",null,null,11000000,null,11000000,null,null,18000000,null,18000000,null,null,14500000,null,14500000,null,null,29000000,null,29000000,null,72500000,0,"Secretaria Municipal de Obras e Transportes","AP040101N"]
[null,null,"Realizar estudo para quantificar, cadastrar e projetar pavimentação das vias rurais",null,null,null,null,0,null,null,null,null,0,null,null,980000,null,980000,null,null,null,null,0,null,980000,0,"Autarquia de saneamento básico","AP040201N"]
[null,"Projeto de capacitação dos agentes públicos",null,null,null,null,null,0,null,null,null,null,0,null,null,null,null,0,null,null,null,null,0,null,0,0]
[null,null,null,null,null,null,null,0,null,null,null,null,0,null,null,null,null,0,null,null,null,null,0,null,0,0]
[null,null,null,null,null,null,null,0,null,null,null,null,0,null,null,null,null,0,null,null,null,null,0,null,0,0]
[null,null,null,null,null,null,null,0,null,null,null,null,0,null,null,null,null,0,null,null,null,null,0]
[null,null,null,null,null,null,null,0,null,null,null,null,0,null,null,null,null,0,null,null,null,null,0,null,{"$f":"F30+K30+P30+U30","v":0},0]
[null,null,null,null,null,null,null,0,null,null,null,null,0,null,null,null,null,0,null,null,null,null,0,null,0,0]
[null,"Projeto de equilíbrio financeiro",null,null,null,null,null,0,null,null,null,null,0,null,null,null,null,0,null,null,null,null,0,null,0,0]
[null,null,null,null,null,null,null,0,null,null,null,null,0,null,null,null,null,0,null,null,null,null,0,null,0,0]
[null,"Projeto de educação ambiental",null,null,null,null,null,0,null,null,null,null,0,null,null,null,null,0,null,null,null,null,0,null,0,0]
[null,null,null,null,null,null,null,0,null,null,null,null,0,null,null,null,null,0,null,null,null,null,0,null,0,0]
[null,null,null,null,null,null,null,0,null,null,null,null,0,null,null,null,null,0,null,null,null,null,0,null,0,0]
[null,null,null,null,null,null,null,0,null,null,null,null,0,null,null,null,null,0,null,null,null,null,0,null,0,0]
[null,"Projeto de capacitação dos agentes públicos",null,null,null,null,null,0,null,null,null,null,0,null,null,null,null,0,null,null,null,null,0,null,0,0]
[null,null,null,null,null,null,null,0,null,null,null,null,0,null,null,null,null,0,null,null,null,null,0,null,0,0]
[null,null,null,null,null,null,null,0,null,null,null,null,0,null,null,null,null,0,null,null,null,null,0,null,0,0]
[null,null,null,null,null,null,null,0,null,null,null,null,0,null,null,null,null,0,null,null,null,null,0]
[null,null,null,null,null,null,null,0,null,null,null,null,0,null,null,null,null,0,null,null,null,null,0,null,{"$f":"F42+K42+P42+U42","v":0},0]
[null,null,null,null,null,null,null,0,null,null,null,null,0,null,null,null,null,0,null,null,null,null,0,null,0,0]
[null,"Projeto de equilíbrio financeiro",null,null,null,null,null,0,null,null,null,null,0,null,null,null,null,0,null,null,null,null,0,null,0,0]
[null,null,null,null,null,null,null,0,null,null,null,null,0,null,null,null,null,0,null,null,null,null,0,null,0,0]
[null,"Projeto de educação ambiental",null,null,null,null,null,0,null,null,null,null,0,null,null,null,null,0,null,null,null,null,0,null,0,0]
[null,null,null,null,null,null,null,0,null,null,null,null,0,null,null,null,null,0,null,null,null,null,0,null,0,0]
[null,null,null,null,null,null,null,0,null,null,null,null,0,null,null,null,null,0,null,null,null,null,0,null,0,0]
[null,null,null,null,null,null,null,0,null,null,null,null,0,null,null,null,null,0,null,null,null,null,0,null,0,0]
[null,"Projeto de capacitação dos agentes públicos",null,null,null,null,null,0,null,null,null,null,0,null,null,null,null,0,null,null,null,null,0,null,0,0]
[null,null,null,null,null,null,null,{"$f":"F51-G51","v":0},null,null,null,null,0,null,null,null,null,0,null,null,null,null,0,null,0,0]
[null,null,null,null,null,null,null,0,null,null,null,null,0,null,null,null,null,0,null,null,null,null,0,null,0,0]
[null,null,null,null,null,null,null,0,null,null,null,null,0,null,null,null,null,0,null,null,null,null,0]
[null,"Projeto de equilíbrio financeiro",null,null,null,null,null,0,null,null,null,null,0,null,null,null,null,0,null,null,null,null,0,null,{"$f":"F54+K54+P54+U54","v":0},0]
[null,null,null,null,null,null,null,0,null,null,null,null,0,null,null,null,null,0,null,null,null,null,0,null,0,0]
[null,"Projeto de educação ambiental",null,null,null,null,null,0,null,null,null,null,0,null,null,null,null,0,null,null,null,null,0,null,0,0]
[null,null,null,null,null,null,null,0,null,null,null,null,0,null,null,null,null,0,null,null,null,null,0,null,0,0]
[null,null,null,null,null,null,null,0,null,null,null,null,0,null,null,null,null,0,null,null,null,null,0,null,0,0]
[null,null,null,null,null,null,null,0,null,null,null,null,0,null,null,null,null,0,null,null,null,null,0,null,0,0]
[null,"Projeto de capacitação dos agentes públicos",null,null,null,null,null,0,null,null,null,null,0,null,null,null,null,0,null,null,null,null,0,null,0,0]
[null,null,null,null,null,null,null,{"$f":"F61-G61","v":0},null,null,null,null,0,null,null,null,null,0,null,null,null,null,0,null,0,0]
[null,null,null,null,null,null,null,{"$f":"F62-G62","v":0},null,null,null,null,0,null,null,null,null,0,null,null,null,null,0,null,0,0]
[null,null,null,null,null,null,null,0,null,null,null,null,0,null,null,null,null,0,null,null,null,null,0]
[null,null,null,null,null,null,null,0,null,null,null,null,0,null,null,null,null,0,null,null,null,null,0,null,{"$f":"F64+K64+P64+U64","v":0},0]
[null,null,null,null,null,null,null,0,null,null,null,null,0,null,null,null,null,0,null,null,null,null,0]
["Total",null,"Total",null,null,{"$f":"SUM(F5:F65)","v":17435000},{"$f":"SUM(G5:G65)","v":0},null,null,null,{"$f":"SUM(K5:K65)","v":45055000},{"$f":"SUM(L5:L65)","v":0},null,null,null,{"$f":"SUM(P5:P65)","v":36520000},{"$f":"SUM(Q5:Q65)","v":0},null,null,null,{"$f":"SUM(U5:U65)","v":41480000},{"$f":"SUM(V5:V65)","v":0},null,null,{"$f":"SUM(Y5:Y65)","v":140490000},{"$f":"SUM(Z5:Z65)","v":0}]
[]
[]
[null,null,"Dados para Indicador Execução PMSB"]
[null,null,null,null,null,"emergencial ",null,null,null,null,"curto prazo",null,null,null,null,"médio prazo ",null,null,null,null,"longo prazo"]
[null,null,"nº ações concluídas",null,null,{"$f":"COUNTIF(E5:E65,\"sim\")","v":0},null,null,null,null,{"$f":"COUNTIF(J5:J65,\"sim\")","v":0},null,null,null,null,{"$f":"COUNTIF(O5:O65,\"sim\")","v":0},null,null,null,null,{"$f":"COUNTIF(T5:T65,\"sim\")","v":0}]
[null,null,"Nº total ações ",null,null,11,null,null,null,null,13,null,null,null,null,7,null,null,null,null,4]
[]
[null,null,"Dados para Indicador Custo PMSB"]
[null,null,null,null,null,"emergencial ",null,null,null,null,"curto prazo",null,null,null,null,"médio prazo ",null,null,null,null,"longo prazo"]
[null,null,"nº metas/ações  concluídas e com custo realizado menor ou igual ao custo programado",null,null,{"$f":"F71-COUNTIFS(H5:H65,\"<0\",E5:E65,\"sim\")","v":0},null,null,null,null,{"$f":"K71-COUNTIFS(M5:M65,\"<0\",J5:J65,\"sim\")","v":0},null,null,null,null,{"$f":"P71-COUNTIFS(R5:R65,\"<0\",O5:O65,\"sim\")","v":0},null,null,null,null,{"$f":"U71-COUNTIFS(W5:W65,\"<0\",T5:T65,\"sim\")","v":0}]
[null,null,"nº ações concluídas",null,null,{"$f":"F71","v":0},null,null,null,null,{"$f":"K71","v":0},null,null,null,null,{"$f":"P71","v":0},null,null,null,null,{"$f":"U71","v":0}]

{"sheet":"Indicador Execução PMSB","index":22,"n_rows":12,"n_cols":12,"rows_kept":12,"cut":false,"hidden":false,"merged":[]}
[null,null,null,"Indicador de Execução do PMSB (Institucional) ",null,"Indicador de Execução do PMSB (Metas SAA) ",null,"Indicador de Execução do PMSB (Metas SEE) ",null,"Indicador de Execução do PMSB (Metas RS) ",null,"Indicador de Execução do PMSB (Metas AP) "]
[null,"EMERGÊNCIAL (2023-2025)",null,{"$f":"'Metas Institucional'!$F$23","v":0},null,{"$f":"'Metas SAA'!F71","v":0},null,{"$f":"'Metas SES'!F71","v":0},null,{"$f":"'Metas RS'!F71","v":0},null,{"$f":"'Metas AP'!F71","v":0}]
[null,"CURTO (2026 - 2030)",null,{"$f":"'Metas Institucional'!$K$23","v":0},null,{"$f":"'Metas SAA'!K71","v":0},null,{"$f":"'Metas SES'!K71","v":0},null,{"$f":"'Metas RS'!K71","v":0},null,{"$f":"'Metas AP'!K71","v":0}]
[null,"MÉDIO (2031 - 2034)",null,{"$f":"'Metas Institucional'!$P$23","v":0},null,{"$f":"'Metas SAA'!P71","v":0},null,{"$f":"'Metas SES'!P71","v":0},null,{"$f":"'Metas RS'!P71","v":0},null,{"$f":"'Metas AP'!P71","v":0}]
[null,"LONGO (2035 - 3042)"]
[]
[null,"TOTAL DE METAS - EMERGENCIAL",null,{"$f":"'Metas Institucional'!$F$24","v":14},null,{"$f":"'Metas SAA'!F72","v":36},null,{"$f":"'Metas SES'!F72","v":21},null,{"$f":"'Metas RS'!F72","v":25},null,{"$f":"'Metas AP'!F72","v":11}]
[null,"TOTAL DE METAS - CURTO PRAZO",null,{"$f":"'Metas Institucional'!$K$24","v":14},null,{"$f":"'Metas SAA'!K72","v":17},null,{"$f":"'Metas SES'!K72","v":15},null,{"$f":"'Metas RS'!K72","v":18},null,{"$f":"'Metas AP'!K72","v":13}]
[null,"TOTAL DE METAS - MÉDIO PRAZO",null,{"$f":"'Metas Institucional'!$P$24","v":14},null,{"$f":"'Metas SAA'!P72","v":15},null,{"$f":"'Metas SES'!P72","v":11},null,{"$f":"'Metas RS'!P72","v":16},null,{"$f":"'Metas AP'!P72","v":7}]
[null,"TOTAL DE METAS - LONGO PRAZO"]
[]
[null,"RESULTADO",null,{"$f":"IFERROR((D2+D3+D4+D5)/(D7+D8+D9+D10),\"FALTA DE DADOS\")","v":0},null,{"$f":"IFERROR((F2+F3+F4+F5)/(F7+F8+F9+F10),\"FALTA DE DADOS\")","v":0},null,{"$f":"IFERROR((H2+H3+H4+H5)/(H7+H8+H9+H10),\"FALTA DE DADOS\")","v":0},null,{"$f":"IFERROR((J2+J3+J4+J5)/(J7+J8+J9+J10),\"FALTA DE DADOS\")","v":0},null,{"$f":"IFERROR((L2+L3+L4+L5)/(L7+L8+L9+L10),\"FALTA DE DADOS\")","v":0}]

{"sheet":"Indicador Custo PMSB","index":23,"n_rows":12,"n_cols":12,"rows_kept":12,"cut":false,"hidden":false,"merged":[]}
[null,"CUSTO MENOR OU IGUAL AO PROGRAMADO",null,"Indicador de Custo do PMSB (Institucional) ",null,"Indicador de Custo do PMSB (Metas SAA) ",null,"Indicador de Custo do PMSB (Metas SEE) ",null,"Indicador de Custo do PMSB (Metas RS) ",null,"Indicador de Custo do PMSB (Metas AP) "]
[null,"EMERGÊNCIAL (2023-2025)",null,{"$f":"'Metas Institucional'!F28","v":0},null,{"$f":"'Metas SAA'!F76","v":0},null,{"$f":"'Metas SES'!F76","v":0},null,{"$f":"'Metas RS'!F76","v":0},null,{"$f":"'Metas AP'!F76","v":0}]
[null,"CURTO (2026 - 2030)",null,{"$f":"'Metas Institucional'!K28","v":0},null,{"$f":"'Metas SAA'!K76","v":0},null,{"$f":"'Metas SES'!K76","v":0},null,{"$f":"'Metas RS'!K76","v":0},null,{"$f":"'Metas AP'!K76","v":0}]
[null,"MÉDIO (2031 - 2034)"]
[null,"LONGO (2035 - 3042)"]
[]
[null,"METAS CONCLUÍDAS - EMERGÊNCIAL",null,{"$f":"'Metas Institucional'!F29","v":0},null,{"$f":"'Metas SAA'!F77","v":0},null,{"$f":"'Metas SES'!F77","v":0},null,{"$f":"'Metas RS'!F77","v":0},null,{"$f":"'Metas AP'!F77","v":0}]
[null,"METAS CONCLUÍDAS  - CURTO PRAZO",null,{"$f":"'Metas Institucional'!K29","v":0},null,{"$f":"'Metas SAA'!K77","v":0},null,{"$f":"'Metas SES'!K77","v":0},null,{"$f":"'Metas RS'!K77","v":0},null,{"$f":"'Metas AP'!K77","v":0}]
[null,"METAS CONCLUÍDAS - MÉDIO PRAZO"]
[null,"METAS CONCLUÍDAS - LONGO PRAZO"]
[]
[null,"RESULTADO",null,{"$f":"IFERROR((D2+D3+D4+D5)/(D7+D8+D9+D10),\"FALTA DE DADOS\")","v":"FALTA DE DADOS"},null,{"$f":"IFERROR((F2+F3+F4+F5)/(F7+F8+F9+F10),\"FALTA DE DADOS\")","v":"FALTA DE DADOS"},null,{"$f":"IFERROR((H2+H3+H4+H5)/(H7+H8+H9+H10),\"FALTA DE DADOS\")","v":"FALTA DE DADOS"},null,{"$f":"IFERROR((J2+J3+J4+J5)/(J7+J8+J9+J10),\"FALTA DE DADOS\")","v":"FALTA DE DADOS"},null,{"$f":"IFERROR((L2+L3+L4+L5)/(L7+L8+L9+L10),\"FALTA DE DADOS\")","v":"FALTA DE DADOS"}]

{"sheet":"Indicador efetividade PMSB","index":24,"n_rows":13,"n_cols":21,"rows_kept":13,"cut":false,"hidden":false,"merged":[]}
[]
[null,null,"Indicador de Efetividade do PMSB (%)"]
[]
[null,2023,2024,{"$f":"C4+1","v":2025},{"$f":"D4+1","v":2026},2027,2028,2029,2030,2031,2032,2033,2034,2035,2036,2037,2038,2039,2040,2041,2042]
["N(SB)",40357,40357,40357]
["N(T)",51547,53680.529043925519,55905.231136961498]
[]
[null,{"$f":"IFERROR(B5/B6,\"%\")","v":0.78291656158457335},{"$f":"IFERROR(C5/C6,\"%\")","v":0.7517995951004286},0.72188235661042011,"%","%","%","%","%","%","%","%","%","%","%","%","%","%","%","%","%"]
[]
[]
[]
["N(SB) = número de domicílios com acesso aos quatro serviços de saneamento básico (AA, ES, AP, RS) ="]
["N(T) = número total de domicílios ="]

{"sheet":"Sistemática acompanhamento","index":25,"n_rows":26,"n_cols":9,"rows_kept":26,"cut":false,"hidden":false,"merged":[[17,0,17,1],[20,0,20,9],[23,0,23,1],[26,0,26,9],[15,0,15,9],[13,0,13,9],[4,0,4,1],[4,6,4,8],[7,0,7,9],[10,0,10,1],[10,6,10,8]]}
[]
["II – O funcionamento da sistemática planejada para acompanhamento e avaliação do PMSB, se:"]
["a)\tAs instâncias de participação e de controle social atuaram no processo de monitoramento;"]
[]
["RESPOSTA"]
[]
["Obs.:",null,null,null,null,""]
[]
["b)\tForam produzidas e disponibilizadas informações para subsidiar o processo de monitoramento."]
[]
["RESPOSTA"]
[]
["Obs.:",null,null,null,null,null,"SIM","NÃO","PARCIAL"]
[]
["III – A integração do saneamento básico com outras políticas públicas correlatas, se:"]
["a)\tAs estratégias de articulação mobilizadas durante a elaboração do PMSB (grupos de trabalho, ações conjuntas, compartilhamento de recursos, etc.) foram incorporadas ao dia a dia da Administração Municipal;"]
[]
["RESPOSTA"]
[]
["Obs.:"]
[]
["b)\tAs ações integradas contribuíram para a melhoria das políticas públicas de todas as áreas temáticas envolvidas"]
[]
["RESPOSTA"]
[]
["Obs.:"]

{"sheet":"Inf.","index":26,"n_rows":5,"n_cols":3,"rows_kept":5,"cut":false,"hidden":true,"merged":[]}
[]
[null,"Resposta"]
[null,"Sim","Sim"]
[null,"Não","Não"]
[null,null,"Parcial"]